Workbook

Sheet Sites Assessment
F8: Summary Table
B9: Bolton Council
B10: Level 1 SFRA Local Plan Sites Assessment | F10: Fluvial Flood Zone Coverage | N10: Risk of Flooding from Surface Water | V10: Risk of Flooding from Fluvial Climate Change | AB10: Risk of Flooding from Surface Water Climate Change | AD10: Reservoir Flooding
B11: 46276 | F11: Flood Zone 1 | H11: Flood Zone 2 | J11: Flood Zone 3a | L11: Flood Zone 3b | N11: Very Low Risk (less than 1 in 1000 year) | P11: Low Risk (1 in 1000 year outline) | R11: Medium Risk (1 in 100 year outline) | T11: High Risk (1 in 30 year outline) | V11: Flood Zones + climate change (additional risk) | X11: Modelled undefended 1% AEP + 35% climate change (additional risk) | Z11: Functional floodplain + climate change (additional risk) | AB11: Medium Risk plus Climate Change (using Low Risk as a proxy) | AD11: Reservoir Flood Maps Dry Day Extent
C12: Proposed Use | D12: Number of Sites | E12: Area (ha) | F12: Area (ha) | G12: No. 100% | H12: Area (ha) | I12: No. | J12: Area (ha) | K12: No. | L12: Area (ha) | M12: No. | N12: Area (ha) | O12: No. 100% | P12: Area (ha) | Q12: No. | R12: Area (ha) | S12: No. | T12: Area (ha) | U12: No. | V12: Area (ha) | W12: No. | X12: Area (ha) | Y12: No. | Z12: Area (ha) | AA12: No. | AB12: Area (ha) | AC12: No. | AD12: Area (ha) | AE12: No.
C13: Housing | D13: =COUNTIF($D$27:$D$535, $C$13) -> 454 | E13: =SUMIF($D$27:$D$535, $C$13, $E$27:$E$535) -> 1517.4892 | F13: =SUMIF($D$27:$D$535, $C$13, $F$27:$F$535) -> 1435.6324 | G13: =COUNTIFS($D$27:$D$535, $C$13, $G$27:$G$535, "=100") -> 353 | H13: =SUMIF($D$27:$D$535, $C$13, $H$27:$H$535) -> 24.39762 | I13: =COUNTIFS($D$27:$D$535, $C$13, $I$27:$I$535, ">0") -> 84 | J13: =SUMIF($D$27:$D$535, $C$13, $J$27:$J$535) -> 9.8116918 | K13: =COUNTIFS($D$27:$D$535, $C$13, $K$27:$K$535, ">0") -> 74 | L13: =SUMIF($D$27:$D$535, $C$13, $L$27:$L$535) -> 47.647464 | M13: =COUNTIFS($D$27:$D$535, $C$13, $M$27:$M$535, ">0") -> 85 | N13: =SUMIF($D$27:$D$535, $C$13, $N$27:$N$535) -> 1332.9969 | O13: =COUNTIFS($D$27:$D$535, $C$13, $O$27:$O$535, "=100") -> 80 | P13: =SUMIF($D$27:$D$535, $C$13, $P$27:$P$535) -> 64.226153 | Q13: =COUNTIFS($D$27:$D$535, $C$13, $Q$27:$Q$535, ">0") -> 374 | R13: =SUMIF($D$27:$D$535, $C$13, $R$27:$R$535) -> 23.380724 | S13: =COUNTIFS($D$27:$D$535, $C$13, $S$27:$S$535, ">0") -> 305 | T13: =SUMIF($D$27:$D$535, $C$13, $T$27:$T$535) -> 96.885436 | U13: =COUNTIFS($D$27:$D$535, $C$13, $U$27:$U$535, ">0") -> 279 | V13: =SUMIF($D$27:$D$535, $C$13,$V$27:$V$535) -> 12.722996 | W13: =COUNTIFS($D$27:$D$535, $C$13,$W$27:$W$535, ">0") -> 70 | X13: =SUMIF($D$27:$D$535, $C$13,$X$27:$X$535) -> 5.0658714 | Y13: =COUNTIFS($D$27:$D$535, $C$13,$Y$27:$Y$535, ">0") -> 33 | Z13: =SUMIF($D$27:$D$535, $C$13, $Z$27:$Z$535) -> 7.3063243 | AA13: =COUNTIFS($D$27:$D$535, $C$13, $AA$27:$AA$535, ">0") -> 63 | AB13: =SUMIF($D$27:$D$535, $C$13, $P$27:$P$535) -> 64.226153 | AC13: =COUNTIFS($D$27:$D$535, $C$13, $Q$27:$Q$535, ">0") -> 374 | AD13: =SUMIF($D$27:$D$535, $C$13, $AD$27:$AD$535) -> 102.35868 | AE13: =COUNTIFS($D$27:$D$535, $C$13, $AE$27:$AE$535, ">0") -> 81
C14: Employment | D14: =COUNTIF($D$27:$D$535, $C$14) -> 19 | E14: =SUMIF($D$27:$D$535, $C$14, $E$27:$E$535) -> 244.6809 | F14: =SUMIF($D$27:$D$535, $C$14, $F$27:$F$535) -> 243.1204 | G14: =COUNTIFS($D$27:$D$535, $C$14, $G$27:$G$535, "=100") -> 14 | H14: =SUMIF($D$27:$D$535, $C$14, $H$27:$H$535) -> 0.2025344 | I14: =COUNTIFS($D$27:$D$535, $C$14, $I$27:$I$535, ">0") -> 2 | J14: =SUMIF($D$27:$D$535, $C$14, $J$27:$J$535) -> 0.054312643 | K14: =COUNTIFS($D$27:$D$535, $C$14, $K$27:$K$535, ">0") -> 1 | L14: =SUMIF($D$27:$D$535, $C$14, $L$27:$L$535) -> 1.3036579 | M14: =COUNTIFS($D$27:$D$535, $C$14, $M$27:$M$535, ">0") -> 4 | N14: =SUMIF($D$27:$D$535, $C$14, $N$27:$N$535) -> 212.90888 | O14: =COUNTIFS($D$27:$D$535, $C$14, $O$27:$O$535, "=100") -> 1 | P14: =SUMIF($D$27:$D$535, $C$14, $P$27:$P$535) -> 12.552698 | Q14: =COUNTIFS($D$27:$D$535, $C$14, $Q$27:$Q$535, ">0") -> 18 | R14: =SUMIF($D$27:$D$535, $C$14, $R$27:$R$535) -> 6.4289696 | S14: =COUNTIFS($D$27:$D$535, $C$14, $S$27:$S$535, ">0") -> 17 | T14: =SUMIF($D$27:$D$535, $C$14, $T$27:$T$535) -> 12.790355 | U14: =COUNTIFS($D$27:$D$535, $C$14, $U$27:$U$535, ">0") -> 17 | V14: =SUMIF($D$27:$D$535, $C$14,$V$27:$V$535) -> 0.11620283 | W14: =COUNTIFS($D$27:$D$535, $C$14,$W$27:$W$535, ">0") -> 3 | X14: =SUMIF($D$27:$D$535, $C$14,$X$27:$X$535) -> 0 | Y14: =COUNTIFS($D$27:$D$535, $C$14,$Y$27:$Y$535, ">0") -> 0 | Z14: =SUMIF($D$27:$D$535, $C$14, $Z$27:$Z$535) -> 0.0068776245 | AA14: =COUNTIFS($D$27:$D$535, $C$14, $AA$27:$AA$535, ">0") -> 1 | AB14: =SUMIF($D$27:$D$535, $C$14, $P$27:$P$535) -> 12.552698 | AC14: =COUNTIFS($D$27:$D$535, $C$14, $Q$27:$Q$535, ">0") -> 18 | AD14: =SUMIF($D$27:$D$535, $C$14, $AD$27:$AD$535) -> 0.92946035 | AE14: =COUNTIFS($D$27:$D$535, $C$14, $AE$27:$AE$535, ">0") -> 1
C15: Mixed use | D15: =COUNTIF($D$27:$D$535, $C$15) -> 35 | E15: =SUMIF($D$27:$D$535, $C$15, $E$27:$E$535) -> 972.62193 | F15: =SUMIF($D$27:$D$535, $C$15, $F$27:$F$535) -> 938.16305 | G15: =COUNTIFS($D$27:$D$535, $C$15, $G$27:$G$535, "=100") -> 23 | H15: =SUMIF($D$27:$D$535, $C$15, $H$27:$H$535) -> 7.5490923 | I15: =COUNTIFS($D$27:$D$535, $C$15, $I$27:$I$535, ">0") -> 11 | J15: =SUMIF($D$27:$D$535, $C$15, $J$27:$J$535) -> 5.0518278 | K15: =COUNTIFS($D$27:$D$535, $C$15, $K$27:$K$535, ">0") -> 11 | L15: =SUMIF($D$27:$D$535, $C$15, $L$27:$L$535) -> 21.857969 | M15: =COUNTIFS($D$27:$D$535, $C$15, $M$27:$M$535, ">0") -> 11 | N15: =SUMIF($D$27:$D$535, $C$15, $N$27:$N$535) -> 863.50255 | O15: =COUNTIFS($D$27:$D$535, $C$15, $O$27:$O$535, "=100") -> 0 | P15: =SUMIF($D$27:$D$535, $C$15, $P$27:$P$535) -> 46.724021 | Q15: =COUNTIFS($D$27:$D$535, $C$15, $Q$27:$Q$535, ">0") -> 34 | R15: =SUMIF($D$27:$D$535, $C$15, $R$27:$R$535) -> 16.560652 | S15: =COUNTIFS($D$27:$D$535, $C$15, $S$27:$S$535, ">0") -> 34 | T15: =SUMIF($D$27:$D$535, $C$15, $T$27:$T$535) -> 45.834715 | U15: =COUNTIFS($D$27:$D$535, $C$15, $U$27:$U$535, ">0") -> 32 | V15: =SUMIF($D$27:$D$535, $C$15,$V$27:$V$535) -> 3.094237 | W15: =COUNTIFS($D$27:$D$535, $C$15,$W$27:$W$535, ">0") -> 10 | X15: =SUMIF($D$27:$D$535, $C$15,$X$27:$X$535) -> 2.1168984 | Y15: =COUNTIFS($D$27:$D$535, $C$15,$Y$27:$Y$535, ">0") -> 7 | Z15: =SUMIF($D$27:$D$535, $C$15, $Z$27:$Z$535) -> 2.0757693 | AA15: =COUNTIFS($D$27:$D$535, $C$15, $AA$27:$AA$535, ">0") -> 7 | AB15: =SUMIF($D$27:$D$535, $C$15, $P$27:$P$535) -> 46.724021 | AC15: =COUNTIFS($D$27:$D$535, $C$15, $Q$27:$Q$535, ">0") -> 34 | AD15: =SUMIF($D$27:$D$535, $C$15, $AD$27:$AD$535) -> 40.69919 | AE15: =COUNTIFS($D$27:$D$535, $C$15, $AE$27:$AE$535, ">0") -> 15
C16: Gypsy & Traveller | D16: =COUNTIF($D$27:$D$535, $C$16) -> 1 | E16: =SUMIF($D$27:$D$535, $C$16, $E$27:$E$535) -> 4.2591055 | F16: =SUMIF($D$27:$D$535, $C$16, $F$27:$F$535) -> 4.2591055 | G16: =COUNTIFS($D$27:$D$535, $C$16, $G$27:$G$535, "=100") -> 1 | H16: =SUMIF($D$27:$D$535, $C$16, $H$27:$H$535) -> 0 | I16: =COUNTIFS($D$27:$D$535, $C$16, $I$27:$I$535, ">0") -> 0 | J16: =SUMIF($D$27:$D$535, $C$16, $J$27:$J$535) -> 0 | K16: =COUNTIFS($D$27:$D$535, $C$16, $K$27:$K$535, ">0") -> 0 | L16: =SUMIF($D$27:$D$535, $C$16, $L$27:$L$535) -> 0 | M16: =COUNTIFS($D$27:$D$535, $C$16, $M$27:$M$535, ">0") -> 0 | N16: =SUMIF($D$27:$D$535, $C$16, $N$27:$N$535) -> 3.7731924 | O16: =COUNTIFS($D$27:$D$535, $C$16, $O$27:$O$535, "=100") -> 0 | P16: =SUMIF($D$27:$D$535, $C$16, $P$27:$P$535) -> 0.2123937 | Q16: =COUNTIFS($D$27:$D$535, $C$16, $Q$27:$Q$535, ">0") -> 1 | R16: =SUMIF($D$27:$D$535, $C$16, $R$27:$R$535) -> 0.10063735 | S16: =COUNTIFS($D$27:$D$535, $C$16, $S$27:$S$535, ">0") -> 1 | T16: =SUMIF($D$27:$D$535, $C$16, $T$27:$T$535) -> 0.17288205 | U16: =COUNTIFS($D$27:$D$535, $C$16, $U$27:$U$535, ">0") -> 1 | V16: =SUMIF($D$27:$D$535, $C$16,$V$27:$V$535) -> 0 | W16: =COUNTIFS($D$27:$D$535, $C$16,$W$27:$W$535, ">0") -> 0 | X16: =SUMIF($D$27:$D$535, $C$16,$X$27:$X$535) -> 0 | Y16: =COUNTIFS($D$27:$D$535, $C$16,$Y$27:$Y$535, ">0") -> 0 | Z16: =SUMIF($D$27:$D$535, $C$16, $Z$27:$Z$535) -> 0 | AA16: =COUNTIFS($D$27:$D$535, $C$16, $AA$27:$AA$535, ">0") -> 0 | AB16: =SUMIF($D$27:$D$535, $C$16, $P$27:$P$535) -> 0.2123937 | AC16: =COUNTIFS($D$27:$D$535, $C$16, $Q$27:$Q$535, ">0") -> 1 | AD16: =SUMIF($D$27:$D$535, $C$16, $AD$27:$AD$535) -> 4.2591055 | AE16: =COUNTIFS($D$27:$D$535, $C$16, $AE$27:$AE$535, ">0") -> 1
C17: TOTAL | D17: =SUM(D13:D16) -> 509 | E17: =SUM(E13:E16) -> 2739.0512 | F17: =SUM(F13:F16) -> 2621.175 | G17: =SUM(G13:G16) -> 391 | H17: =SUM(H13:H16) -> 32.149247 | I17: =SUM(I13:I16) -> 97 | J17: =SUM(J13:J16) -> 14.917832 | K17: =SUM(K13:K16) -> 86 | ... AE17: =SUM(AE13:AE16) -> 98
B19: Key
B20: Flood Zone 3b | C20: The colour coding shows the highest risk element of the flood zone that is present on site and is not in itself an indication of whether the site should or shouldn’t be developed for flooding reason
B21: Functional floodplain plus climate change / Flood Zone 3a / Flood Zone 3a plus climate change
B22: Flood Zone 2 | F22: Main Table
B23: Flood Zone 1 + Surface Water
B24: Flood Zone 1 | F24: Fluvial Flood Zone Coverage | N24: Risk of Flooding from Surface Water | V24: Risk of Flooding from Fluvial Climate Change | AB24: Risk of Flooding from Surface Water Climate Change | AD24: Reservoir Flooding | AF24: Unmodelled watercourse within 10m of site in Flood Zone 1? | AG24: United Utilities constraint identified? | AH24: Risk of groundwater emergence (JBA Groundwater Map)
F25: Flood Zone 1 | H25: Flood Zone 2 | J25: Flood Zone 3a | L25: Flood Zone 3b | N25: Very Low Risk (less than 1 in 1000 year) | P25: Low Risk (1 in 1000 year outline) | R25: Medium Risk (1 in 100 year outline) | T25: High Risk (1 in 30 year outline) | V25: Flood Zones + climate change (additional risk) | X25: Modelled undefended 1% AEP + 35% climate change (additional risk) | Z25: Future functional floodplain (additional risk) | AB25: Medium Risk plus Climate Change (using Low Risk as a proxy) | AD25: Reservoir Flood Maps Dry Day Extent
B26: Site Reference | C26: Site Name | D26: Proposed Use | E26: Area (ha) | F26: Area (ha) | G26: % | H26: Area (ha) | I26: % | J26: Area (ha) | K26: % | L26: Area (ha) | M26: % | N26: Area (ha) | O26: % | P26: Area (ha) | Q26: % | R26: Area (ha) | S26: % | T26: Area (ha) | U26: % | V26: Area (ha) | W26: % | X26: Area (ha) | Y26: % | Z26: Area (ha) | AA26: % | AB26: Area (ha) | AC26: % | AD26: Area (ha) | AE26: % | AI26: Flood Risk Vulnerability Classification (NPPF) | AJ26: Level 1 Strategic Recommendation (see SFRA Report) | AK26: Development Considerations | AL26: Recommended Next Steps | AM26: Council Comments | AN26: LLFA Comments | AO26: Council Decision on Site for Local Plan
B27: =Calculations!A2 -> 1 | C27: =Calculations!B2 -> Tonge Mill | D27: =Calculations!C2 -> Housing | E27: =Calculations!D2 -> 0.69976367 | F27: =Calculations!H2 -> 0.69976367 | G27: =Calculations!L2 -> 100 | H27: =Calculations!G2 -> 0 | I27: =Calculations!K2 -> 0 | J27: =Calculations!F2 -> 0 | K27: =Calculations!J2 -> 0 | L27: =Calculations!E2 -> 0 | M27: =Calculations!I2 -> 0 | N27: =Calculations!P2 -> 0.68365898 | O27: =Calculations!T2 -> 97.698552 | P27: =Calculations!O2 -> 0.016104695 | Q27: =Calculations!S2 -> 2.3014477 | R27: =Calculations!N2 -> 0 | S27: =Calculations!R2 -> 0 | T27: =Calculations!M2 -> 0 | U27: =Calculations!Q2 -> 0 | V27: =Calculations!AA2 -> 0 | W27: =Calculations!AB2 -> 0 | X27: =Calculations!AC2 -> 0 | Y27: =Calculations!AD2 -> 0 | Z27: =Calculations!Y2 -> 0 | AA27: =Calculations!Z2 -> 0 | AB27: =P27 -> 0.016104695 | AC27: =Q27 -> 2.3014477 | AD27: =Calculations!AF2 -> 0 | AE27: =Calculations!AG2 -> 0 | AF27: No | AG27: No | AH27: Groundwater emergence is not likley. | AI27: More vulnerable | AJ27: Strategic Recommendation B | AK27: Level 2 SFRA required due to future surface water risk (using the low risk surface water extent as a proxy for the medium risk plus climate change extent). | AL27: Carry out Level 2 SFRA to further assess risk. However, for sites with only a small area at risk, depending on the spatial variability of risk, it may be possible to address risk through policy wording.
B28: =Calculations!A3 -> 2 | C28: =Calculations!B3 -> T Sutcliffe and Co Ltd | D28: =Calculations!C3 -> Housing | E28: =Calculations!D3 -> 0.68070638 | F28: =Calculations!H3 -> 0.68070638 | G28: =Calculations!L3 -> 100 | H28: =Calculations!G3 -> 0 | I28: =Calculations!K3 -> 0 | J28: =Calculations!F3 -> 0 | K28: =Calculations!J3 -> 0 | L28: =Calculations!E3 -> 0 | M28: =Calculations!I3 -> 0 | N28: =Calculations!P3 -> 0.12342767 | O28: =Calculations!T3 -> 18.132291 | P28: =Calculations!O3 -> 0.07470262 | Q28: =Calculations!S3 -> 10.974279 | R28: =Calculations!N3 -> 0.28984848 | S28: =Calculations!R3 -> 42.580544 | T28: =Calculations!M3 -> 0.19272762 | U28: =Calculations!Q3 -> 28.312885 | V28: =Calculations!AA3 -> 0 | W28: =Calculations!AB3 -> 0 | X28: =Calculations!AC3 -> 0 | Y28: =Calculations!AD3 -> 0 | Z28: =Calculations!Y3 -> 0 | AA28: =Calculations!Z3 -> 0 | AB28: =P28 -> 0.07470262 | AC28: =Q28 -> 10.974279 | AD28: =Calculations!AF3 -> 0 | AE28: =Calculations!AG3 -> 0 | AF28: No | AG28: No | AH28: There is a risk of emergence to subsurface assets, but surface manifestation of groundwater is unlikely. | AI28: More vulnerable | AJ28: Strategic Recommendation B | AK28: Level 2 SFRA required due to high and/or medium risk from surface water sources. | AL28: Carry out Level 2 SFRA to further assess risk. However, for sites with only a small area at risk, depending on the spatial variability of risk, it may be possible to address risk through policy wording.
B29: =Calculations!A4 -> 3 | C29: =Calculations!B4 -> Halliwell Mills | D29: =Calculations!C4 -> Housing | E29: =Calculations!D4 -> 0.85141962 | F29: =Calculations!H4 -> 0.85141962 | G29: =Calculations!L4 -> 100 | H29: =Calculations!G4 -> 0 | I29: =Calculations!K4 -> 0 | J29: =Calculations!F4 -> 0 | K29: =Calculations!J4 -> 0 | L29: =Calculations!E4 -> 0 | M29: =Calculations!I4 -> 0 | N29: =Calculations!P4 -> 0.72405715 | O29: =Calculations!T4 -> 85.041163 | P29: =Calculations!O4 -> 0.033043765 | Q29: =Calculations!S4 -> 3.8810199 | R29: =Calculations!N4 -> 0.03170413 | S29: =Calculations!R4 -> 3.7236785 | T29: =Calculations!M4 -> 0.062614579 | U29: =Calculations!Q4 -> 7.3541386 | V29: =Calculations!AA4 -> 0 | W29: =Calculations!AB4 -> 0 | X29: =Calculations!AC4 -> 0 | Y29: =Calculations!AD4 -> 0 | Z29: =Calculations!Y4 -> 0 | AA29: =Calculations!Z4 -> 0 | AB29: =P29 -> 0.033043765 | AC29: =Q29 -> 3.8810199 | AD29: =Calculations!AF4 -> 0 | AE29: =Calculations!AG4 -> 0 | AF29: No | AG29: No | AH29: No risk. | AI29: More vulnerable | AJ29: Strategic Recommendation B | AK29: Level 2 SFRA required due to high and/or medium risk from surface water sources. | AL29: Carry out Level 2 SFRA to further assess risk. However, for sites with only a small area at risk, depending on the spatial variability of risk, it may be possible to address risk through policy wording.
B30: =Calculations!A5 -> 4 | C30: =Calculations!B5 -> Hall Lane #1 | D30: =Calculations!C5 -> Housing | E30: =Calculations!D5 -> 0.67443249 | F30: =Calculations!H5 -> 0.67443249 | G30: =Calculations!L5 -> 100 | H30: =Calculations!G5 -> 0 | I30: =Calculations!K5 -> 0 | J30: =Calculations!F5 -> 0 | K30: =Calculations!J5 -> 0 | L30: =Calculations!E5 -> 0 | M30: =Calculations!I5 -> 0 | N30: =Calculations!P5 -> 0.46962324 | O30: =Calculations!T5 -> 69.632357 | P30: =Calculations!O5 -> 0.077509892 | Q30: =Calculations!S5 -> 11.492609 | R30: =Calculations!N5 -> 0.04723687 | S30: =Calculations!R5 -> 7.0039434 | T30: =Calculations!M5 -> 0.08006249 | U30: =Calculations!Q5 -> 11.87109 | V30: =Calculations!AA5 -> 0 | W30: =Calculations!AB5 -> 0 | X30: =Calculations!AC5 -> 0 | Y30: =Calculations!AD5 -> 0 | Z30: =Calculations!Y5 -> 0 | AA30: =Calculations!Z5 -> 0 | AB30: =P30 -> 0.077509892 | AC30: =Q30 -> 11.492609 | AD30: =Calculations!AF5 -> 0 | AE30: =Calculations!AG5 -> 0 | AF30: No | AG30: No | AH30: There is a risk of emergence to subsurface assets, but surface manifestation of groundwater is unlikely. | AI30: More vulnerable | AJ30: Strategic Recommendation B | AK30: Level 2 SFRA required due to high and/or medium risk from surface water sources. | AL30: Carry out Level 2 SFRA to further assess risk. However, for sites with only a small area at risk, depending on the spatial variability of risk, it may be possible to address risk through policy wording.
B31: =Calculations!A6 -> 5 | C31: =Calculations!B6 -> 86 Chapeltown Road | D31: =Calculations!C6 -> Housing | E31: =Calculations!D6 -> 0.64465528 | F31: =Calculations!H6 -> 0.64465528 | G31: =Calculations!L6 -> 100 | H31: =Calculations!G6 -> 0 | I31: =Calculations!K6 -> 0 | J31: =Calculations!F6 -> 0 | K31: =Calculations!J6 -> 0 | L31: =Calculations!E6 -> 0 | M31: =Calculations!I6 -> 0 | N31: =Calculations!P6 -> 0.63344654 | O31: =Calculations!T6 -> 98.261282 | P31: =Calculations!O6 -> 0.011208735 | Q31: =Calculations!S6 -> 1.7387177 | R31: =Calculations!N6 -> 0 | S31: =Calculations!R6 -> 0 | T31: =Calculations!M6 -> 0 | U31: =Calculations!Q6 -> 0 | V31: =Calculations!AA6 -> 0 | W31: =Calculations!AB6 -> 0 | X31: =Calculations!AC6 -> 0 | Y31: =Calculations!AD6 -> 0 | Z31: =Calculations!Y6 -> 0 | AA31: =Calculations!Z6 -> 0 | AB31: =P31 -> 0.011208735 | AC31: =Q31 -> 1.7387177 | AD31: =Calculations!AF6 -> 0 | AE31: =Calculations!AG6 -> 0 | AF31: No | AG31: No | AH31: No risk. | AI31: More vulnerable | AJ31: Strategic Recommendation B | AK31: Level 2 SFRA required due to future surface water risk (using the low risk surface water extent as a proxy for the medium risk plus climate change extent). | AL31: Carry out Level 2 SFRA to further assess risk. However, for sites with only a small area at risk, depending on the spatial variability of risk, it may be possible to address risk through policy wording.
B32: =Calculations!A7 -> 6 | C32: =Calculations!B7 -> The Hollins, East of Harry Fold Farm | D32: =Calculations!C7 -> Housing | E32: =Calculations!D7 -> 3.4831391 | F32: =Calculations!H7 -> 3.4831391 | G32: =Calculations!L7 -> 100 | H32: =Calculations!G7 -> 0 | I32: =Calculations!K7 -> 0 | J32: =Calculations!F7 -> 0 | K32: =Calculations!J7 -> 0 | L32: =Calculations!E7 -> 0 | M32: =Calculations!I7 -> 0 | N32: =Calculations!P7 -> 3.3976065 | O32: =Calculations!T7 -> 97.544381 | P32: =Calculations!O7 -> 0.021727638 | Q32: =Calculations!S7 -> 0.62379472 | R32: =Calculations!N7 -> 0.0077611786 | S32: =Calculations!R7 -> 0.22282138 | T32: =Calculations!M7 -> 0.056043804 | U32: =Calculations!Q7 -> 1.6090028 | V32: =Calculations!AA7 -> 0 | W32: =Calculations!AB7 -> 0 | X32: =Calculations!AC7 -> 0 | Y32: =Calculations!AD7 -> 0 | Z32: =Calculations!Y7 -> 0 | AA32: =Calculations!Z7 -> 0 | AB32: =P32 -> 0.021727638 | AC32: =Q32 -> 0.62379472 | AD32: =Calculations!AF7 -> 0 | AE32: =Calculations!AG7 -> 0 | AF32: Yes | AG32: No | AH32: Groundwater emergence is not likley. | AI32: More vulnerable | AJ32: Strategic Recommendation B | AK32: Level 2 SFRA required due to high and/or medium risk from surface water sources. | AL32: Carry out Level 2 SFRA to further assess risk. However, for sites with only a small area at risk, depending on the spatial variability of risk, it may be possible to address risk through policy wording.
B33: =Calculations!A8 -> 7 | C33: =Calculations!B8 -> 99 Chapeltown Road | D33: =Calculations!C8 -> Housing | E33: =Calculations!D8 -> 0.35288506 | F33: =Calculations!H8 -> 0.35288506 | G33: =Calculations!L8 -> 100 | H33: =Calculations!G8 -> 0 | I33: =Calculations!K8 -> 0 | J33: =Calculations!F8 -> 0 | K33: =Calculations!J8 -> 0 | L33: =Calculations!E8 -> 0 | M33: =Calculations!I8 -> 0 | N33: =Calculations!P8 -> 0.35288506 | O33: =Calculations!T8 -> 100 | P33: =Calculations!O8 -> 0 | Q33: =Calculations!S8 -> 0 | R33: =Calculations!N8 -> 0 | S33: =Calculations!R8 -> 0 | T33: =Calculations!M8 -> 0 | U33: =Calculations!Q8 -> 0 | V33: =Calculations!AA8 -> 0 | W33: =Calculations!AB8 -> 0 | X33: =Calculations!AC8 -> 0 | Y33: =Calculations!AD8 -> 0 | Z33: =Calculations!Y8 -> 0 | AA33: =Calculations!Z8 -> 0 | AB33: =P33 -> 0 | AC33: =Q33 -> 0 | AD33: =Calculations!AF8 -> 0 | AE33: =Calculations!AG8 -> 0 | AF33: No | AG33: No | AH33: No risk. | AI33: More vulnerable | AJ33: Strategic Recommendation D | AK33: Development could be allocated on flood risk grounds based on the evidence of this Level 1 SFRA. | AL33: LPA to make decision on allocation.
B34: =Calculations!A9 -> 8 | C34: =Calculations!B9 -> Brownlow Folds Mill | D34: =Calculations!C9 -> Housing | E34: =Calculations!D9 -> 1.0430672 | F34: =Calculations!H9 -> 1.0430672 | G34: =Calculations!L9 -> 100 | H34: =Calculations!G9 -> 0 | I34: =Calculations!K9 -> 0 | J34: =Calculations!F9 -> 0 | K34: =Calculations!J9 -> 0 | L34: =Calculations!E9 -> 0 | M34: =Calculations!I9 -> 0 | N34: =Calculations!P9 -> 0.98604039 | O34: =Calculations!T9 -> 94.532782 | P34: =Calculations!O9 -> 0.021360723 | Q34: =Calculations!S9 -> 2.0478761 | R34: =Calculations!N9 -> 0.0084508951 | S34: =Calculations!R9 -> 0.81019665 | T34: =Calculations!M9 -> 0.02721514 | U34: =Calculations!Q9 -> 2.6091455 | V34: =Calculations!AA9 -> 0 | W34: =Calculations!AB9 -> 0 | X34: =Calculations!AC9 -> 0 | Y34: =Calculations!AD9 -> 0 | Z34: =Calculations!Y9 -> 0 | AA34: =Calculations!Z9 -> 0 | AB34: =P34 -> 0.021360723 | AC34: =Q34 -> 2.0478761 | AD34: =Calculations!AF9 -> 0 | AE34: =Calculations!AG9 -> 0 | AF34: No | AG34: No | AH34: No risk. | AI34: More vulnerable | AJ34: Strategic Recommendation B | AK34: Level 2 SFRA required due to high and/or medium risk from surface water sources. | AL34: Carry out Level 2 SFRA to further assess risk. However, for sites with only a small area at risk, depending on the spatial variability of risk, it may be possible to address risk through policy wording.
B35: =Calculations!A10 -> 9 | C35: =Calculations!B10 -> Tennyson Mill | D35: =Calculations!C10 -> Housing | E35: =Calculations!D10 -> 0.90310482 | F35: =Calculations!H10 -> 0.90310482 | G35: =Calculations!L10 -> 100 | H35: =Calculations!G10 -> 0 | I35: =Calculations!K10 -> 0 | J35: =Calculations!F10 -> 0 | K35: =Calculations!J10 -> 0 | L35: =Calculations!E10 -> 0 | M35: =Calculations!I10 -> 0 | N35: =Calculations!P10 -> 0.90310482 | O35: =Calculations!T10 -> 100 | P35: =Calculations!O10 -> 0 | Q35: =Calculations!S10 -> 0 | R35: =Calculations!N10 -> 0 | S35: =Calculations!R10 -> 0 | T35: =Calculations!M10 -> 0 | U35: =Calculations!Q10 -> 0 | V35: =Calculations!AA10 -> 0 | W35: =Calculations!AB10 -> 0 | X35: =Calculations!AC10 -> 0 | Y35: =Calculations!AD10 -> 0 | Z35: =Calculations!Y10 -> 0 | AA35: =Calculations!Z10 -> 0 | AB35: =P35 -> 0 | AC35: =Q35 -> 0 | AD35: =Calculations!AF10 -> 0 | AE35: =Calculations!AG10 -> 0 | AF35: No | AG35: No | AH35: There is a risk of groundwater emergence to surface and subsurface assets. There is the possibility of groundwater emerging at the surface locally. | AI35: More vulnerable | AJ35: Strategic Recommendation C | AK35: Progress to developer-led FRA. Site is at high risk from groundwater emergence. | AL35: Site appropriate to allocate. Developer-led FRA required. Planning permission subject to FRA.
B36: =Calculations!A11 -> 10 | C36: =Calculations!B11 -> Gilnow Mill | D36: =Calculations!C11 -> Housing | E36: =Calculations!D11 -> 1.648633 | F36: =Calculations!H11 -> 1.208552e-06 | G36: =Calculations!L11 -> 7.3306308e-05 | H36: =Calculations!G11 -> 0.022015821 | I36: =Calculations!K11 -> 1.3353985 | J36: =Calculations!F11 -> 0.7021545 | K36: =Calculations!J11 -> 42.590103 | L36: =Calculations!E11 -> 0.9244615 | M36: =Calculations!I11 -> 56.074425 | N36: =Calculations!P11 -> 0.18993062 | O36: =Calculations!T11 -> 11.520491 | P36: =Calculations!O11 -> 0.1757948 | Q36: =Calculations!S11 -> 10.663064 | R36: =Calculations!N11 -> 0.88195164 | S36: =Calculations!R11 -> 53.495934 | T36: =Calculations!M11 -> 0.40095597 | U36: =Calculations!Q11 -> 24.32051 | V36: =Calculations!AA11 -> 2.1049182e-07 | W36: =Calculations!AB11 -> 1.2767658e-05 | X36: =Calculations!AC11 -> 0.00060303382 | Y36: =Calculations!AD11 -> 0.036577808 | Z36: =Calculations!Y11 -> 0.70295507 | AA36: =Calculations!Z11 -> 42.638662 | AB36: =P36 -> 0.1757948 | AC36: =Q36 -> 10.663064 | AD36: =Calculations!AF11 -> 1.2122502 | AE36: =Calculations!AG11 -> 73.530629 | AF36: N/A | AG36: No | AH36: No risk. | AI36: More vulnerable | AJ36: Strategic Recommendation A | AK36: Recommend for withdrawal if built development cannot avoid Flood Zone 3b. Site is at risk from reservoir flooding. | AL36: Development not permitted in Flood Zone 3b. Check whether site boundary can be redrawn or whether it may be possible to incorporate functional floodplain into site layout and design as open greenspace. This may be possible for sites where percentage area of functional floodplain is lower. Site should be withdrawn if these criteria cannot be met. A Level 2 SFRA may be required to inform this process.
B37: =Calculations!A12 -> 11 | C37: =Calculations!B12 -> Dinsdale Drive | D37: =Calculations!C12 -> Housing | E37: =Calculations!D12 -> 0.72507362 | F37: =Calculations!H12 -> 0.72507362 | G37: =Calculations!L12 -> 100 | H37: =Calculations!G12 -> 0 | I37: =Calculations!K12 -> 0 | J37: =Calculations!F12 -> 0 | K37: =Calculations!J12 -> 0 | L37: =Calculations!E12 -> 0 | M37: =Calculations!I12 -> 0 | N37: =Calculations!P12 -> 0.66515553 | O37: =Calculations!T12 -> 91.736276 | P37: =Calculations!O12 -> 0.038856535 | Q37: =Calculations!S12 -> 5.3589779 | R37: =Calculations!N12 -> 0.020760911 | S37: =Calculations!R12 -> 2.8632832 | T37: =Calculations!M12 -> 0.00030063897 | U37: =Calculations!Q12 -> 0.041463234 | V37: =Calculations!AA12 -> 0 | W37: =Calculations!AB12 -> 0 | X37: =Calculations!AC12 -> 0 | Y37: =Calculations!AD12 -> 0 | Z37: =Calculations!Y12 -> 0 | AA37: =Calculations!Z12 -> 0 | AB37: =P37 -> 0.038856535 | AC37: =Q37 -> 5.3589779 | AD37: =Calculations!AF12 -> 0 | AE37: =Calculations!AG12 -> 0 | AF37: No | AG37: No | AH37: There is a risk of groundwater emergence to surface and subsurface assets. There is the possibility of groundwater emerging at the surface locally. | AI37: More vulnerable | AJ37: Strategic Recommendation B | AK37: Level 2 SFRA required due to high and/or medium risk from surface water sources. Site is at high risk from groundwater emergence. | AL37: Carry out Level 2 SFRA to further assess risk. However, for sites with only a small area at risk, depending on the spatial variability of risk, it may be possible to address risk through policy wording.
B38: =Calculations!A13 -> 12 | C38: =Calculations!B13 -> Garnet Fold Farm | D38: =Calculations!C13 -> Housing | E38: =Calculations!D13 -> 4.0559892 | F38: =Calculations!H13 -> 4.0559892 | G38: =Calculations!L13 -> 100 | H38: =Calculations!G13 -> 0 | I38: =Calculations!K13 -> 0 | J38: =Calculations!F13 -> 0 | K38: =Calculations!J13 -> 0 | L38: =Calculations!E13 -> 0 | M38: =Calculations!I13 -> 0 | N38: =Calculations!P13 -> 3.7926905 | O38: =Calculations!T13 -> 93.508396 | P38: =Calculations!O13 -> 0.16260383 | Q38: =Calculations!S13 -> 4.0089807 | R38: =Calculations!N13 -> 0.065205862 | S38: =Calculations!R13 -> 1.6076439 | T38: =Calculations!M13 -> 0.035489081 | U38: =Calculations!Q13 -> 0.87497966 | V38: =Calculations!AA13 -> 0 | W38: =Calculations!AB13 -> 0 | X38: =Calculations!AC13 -> 0 | Y38: =Calculations!AD13 -> 0 | Z38: =Calculations!Y13 -> 0 | AA38: =Calculations!Z13 -> 0 | AB38: =P38 -> 0.16260383 | AC38: =Q38 -> 4.0089807 | AD38: =Calculations!AF13 -> 0 | AE38: =Calculations!AG13 -> 0 | AF38: Yes | AG38: No | AH38: There is a risk of groundwater emergence to surface and subsurface assets. There is the possibility of groundwater emerging at the surface locally. | AI38: More vulnerable | AJ38: Strategic Recommendation B | AK38: Level 2 SFRA required due to high and/or medium risk from surface water sources. Site is at high risk from groundwater emergence. | AL38: Carry out Level 2 SFRA to further assess risk. However, for sites with only a small area at risk, depending on the spatial variability of risk, it may be possible to address risk through policy wording.
... B43: =Calculations!A18 -> 17 | C43: =Calculations!B18 -> Astley Lane | D43: =Calculations!C18 -> Housing | E43: =Calculations!D18 -> 2.9087156 | F43: =Calculations!H18 -> 2.6762286 | G43: =Calculations!L18 -> 92.007227 | H43: =Calculations!G18 -> 0.019251465 | I43: =Calculations!K18 -> 0.66185449 | J43: =Calculations!F18 -> 0.020149918 | K43: =Calculations!J18 -> 0.69274279 | L43: =Calculations!E18 -> 0.19308566 | M43: =Calculations!I18 -> 6.638176 | N43: =Calculations!P18 -> 2.8561756 | O43: =Calculations!T18 -> 98.193705 | P43: =Calculations!O18 -> 0.052489827 | Q43: =Calculations!S18 -> 1.8045706 | R43: =Calculations!N18 -> 5.0161201e-05 | S43: =Calculations!R18 -> 0.0017245138 | T43: =Calculations!M18 -> 0 | U43: =Calculations!Q18 -> 0 | V43: =Calculations!AA18 -> 0.040050128 | W43: =Calculations!AB18 -> 1.3769008 | X43: =Calculations!AC18 -> 0 | Y43: =Calculations!AD18 -> 0 | Z43: =Calculations!Y18 -> 0.02254908 | AA43: =Calculations!Z18 -> 0.77522463 | AB43: =P43 -> 0.052489827 | AC43: =Q43 -> 1.8045706 | AD43: =Calculations!AF18 -> 0 | AE43: =Calculations!AG18 -> 0 | AF43: N/A | AG43: No | AH43: No risk. | AI43: More vulnerable | AJ43: Strategic Recommendation A | AK43: Recommend for withdrawal if built development cannot avoid Flood Zone 3b. | AL43: Development not permitted in Flood Zone 3b. Check whether site boundary can be redrawn or whether it may be possible to incorporate functional floodplain into site layout and design as open greenspace. This may be possible for sites where percentage area of functional floodplain is lower. Site should be withdrawn if these criteria cannot be met. A Level 2 SFRA may be required to inform this process.
B44: =Calculations!A19 -> 18 | C44: =Calculations!B19 -> Dealey Road | D44: =Calculations!C19 -> Housing | E44: =Calculations!D19 -> 1.0100805 | F44: =Calculations!H19 -> 1.0100805 | G44: =Calculations!L19 -> 100 | H44: =Calculations!G19 -> 0 | I44: =Calculations!K19 -> 0 | J44: =Calculations!F19 -> 0 | K44: =Calculations!J19 -> 0 | L44: =Calculations!E19 -> 0 | M44: =Calculations!I19 -> 0 | N44: =Calculations!P19 -> 0.48870911 | O44: =Calculations!T19 -> 48.383184 | P44: =Calculations!O19 -> 0.16332427 | Q44: =Calculations!S19 -> 16.169431 | R44: =Calculations!N19 -> 0.075551912 | S44: =Calculations!R19 -> 7.4797911 | T44: =Calculations!M19 -> 0.28249521 | U44: =Calculations!Q19 -> 27.967593 | V44: =Calculations!AA19 -> 0 | W44: =Calculations!AB19 -> 0 | X44: =Calculations!AC19 -> 0 | Y44: =Calculations!AD19 -> 0 | Z44: =Calculations!Y19 -> 0 | AA44: =Calculations!Z19 -> 0 | AB44: =P44 -> 0.16332427 | AC44: =Q44 -> 16.169431 | AD44: =Calculations!AF19 -> 0 | AE44: =Calculations!AG19 -> 0 | AF44: No | AG44: Yes | AH44: There is a risk of groundwater emergence to surface and subsurface assets. There is the possibility of groundwater emerging at the surface locally. | AI44: More vulnerable | AJ44: Strategic Recommendation B | AK44: Level 2 SFRA required due to high and/or medium risk from surface water sources. Site is at high risk from groundwater emergence. | AL44: Carry out Level 2 SFRA to further assess risk. However, for sites with only a small area at risk, depending on the spatial variability of risk, it may be possible to address risk through policy wording. | AN44: Agree with recommendation more detailed work required, likely development is viable but the number of units is small
B45: =Calculations!A20 -> 19 | C45: =Calculations!B20 -> Heaton Grange | D45: =Calculations!C20 -> Housing | E45: =Calculations!D20 -> 1.7730201 | F45: =Calculations!H20 -> 1.7730201 | G45: =Calculations!L20 -> 100 | H45: =Calculations!G20 -> 0 | I45: =Calculations!K20 -> 0 | J45: =Calculations!F20 -> 0 | K45: =Calculations!J20 -> 0 | L45: =Calculations!E20 -> 0 | M45: =Calculations!I20 -> 0 | N45: =Calculations!P20 -> 1.7289828 | O45: =Calculations!T20 -> 97.516254 | P45: =Calculations!O20 -> 0.010028379 | Q45: =Calculations!S20 -> 0.56561 | R45: =Calculations!N20 -> 0.0040030985 | S45: =Calculations!R20 -> 0.22577852 | T45: =Calculations!M20 -> 0.030005841 | U45: =Calculations!Q20 -> 1.6923576 | V45: =Calculations!AA20 -> 0 | W45: =Calculations!AB20 -> 0 | X45: =Calculations!AC20 -> 0 | Y45: =Calculations!AD20 -> 0 | Z45: =Calculations!Y20 -> 0 | AA45: =Calculations!Z20 -> 0 | AB45: =P45 -> 0.010028379 | AC45: =Q45 -> 0.56561 | AD45: =Calculations!AF20 -> 0 | AE45: =Calculations!AG20 -> 0 | AF45: Yes | AG45: Yes | AH45: There is a risk of groundwater emergence to surface and subsurface assets. There is the possibility of groundwater emerging at the surface locally. | AI45: More vulnerable | AJ45: Strategic Recommendation B | AK45: Level 2 SFRA required due to high and/or medium risk from surface water sources. Site is at high risk from groundwater emergence. | AL45: Carry out Level 2 SFRA to further assess risk. However, for sites with only a small area at risk, depending on the spatial variability of risk, it may be possible to address risk through policy wording. | AN45: Flood risk area is very small and localised
B46: =Calculations!A21 -> 20 | C46: =Calculations!B21 -> Garthmere | D46: =Calculations!C21 -> Housing | E46: =Calculations!D21 -> 0.76992574 | F46: =Calculations!H21 -> 0.76992574 | G46: =Calculations!L21 -> 100 | H46: =Calculations!G21 -> 0 | I46: =Calculations!K21 -> 0 | J46: =Calculations!F21 -> 0 | K46: =Calculations!J21 -> 0 | L46: =Calculations!E21 -> 0 | M46: =Calculations!I21 -> 0 | N46: =Calculations!P21 -> 0.76992574 | O46: =Calculations!T21 -> 100 | P46: =Calculations!O21 -> 0 | Q46: =Calculations!S21 -> 0 | R46: =Calculations!N21 -> 0 | S46: =Calculations!R21 -> 0 | T46: =Calculations!M21 -> 0 | U46: =Calculations!Q21 -> 0 | V46: =Calculations!AA21 -> 0 | W46: =Calculations!AB21 -> 0 | X46: =Calculations!AC21 -> 0 | Y46: =Calculations!AD21 -> 0 | Z46: =Calculations!Y21 -> 0 | AA46: =Calculations!Z21 -> 0 | AB46: =P46 -> 0 | AC46: =Q46 -> 0 | AD46: =Calculations!AF21 -> 0 | AE46: =Calculations!AG21 -> 0 | AF46: Yes | AG46: No | AH46: There is a risk of groundwater emergence to surface and subsurface assets. There is the possibility of groundwater emerging at the surface locally. | AI46: More vulnerable | AJ46: Strategic Recommendation C | AK46: Progress to developer-led FRA. Site is at high risk from groundwater emergence. | AL46: Site appropriate to allocate. Developer-led FRA required. Planning permission subject to FRA.
B47: =Calculations!A22 -> 21 | C47: =Calculations!B22 -> Darwen Road #4 | D47: =Calculations!C22 -> Housing | E47: =Calculations!D22 -> 0.23038813 | F47: =Calculations!H22 -> 0.23038813 | G47: =Calculations!L22 -> 100 | H47: =Calculations!G22 -> 0 | I47: =Calculations!K22 -> 0 | J47: =Calculations!F22 -> 0 | K47: =Calculations!J22 -> 0 | L47: =Calculations!E22 -> 0 | M47: =Calculations!I22 -> 0 | N47: =Calculations!P22 -> 0.22980124 | O47: =Calculations!T22 -> 99.745258 | P47: =Calculations!O22 -> 0.00058689426 | Q47: =Calculations!S22 -> 0.25474153 | R47: =Calculations!N22 -> 0 | S47: =Calculations!R22 -> 0 | T47: =Calculations!M22 -> 0 | U47: =Calculations!Q22 -> 0 | V47: =Calculations!AA22 -> 0 | W47: =Calculations!AB22 -> 0 | X47: =Calculations!AC22 -> 0 | Y47: =Calculations!AD22 -> 0 | Z47: =Calculations!Y22 -> 0 | AA47: =Calculations!Z22 -> 0 | AB47: =P47 -> 0.00058689426 | AC47: =Q47 -> 0.25474153 | AD47: =Calculations!AF22 -> 0 | AE47: =Calculations!AG22 -> 0 | AF47: No | AG47: Yes | AH47: No risk. | AI47: More vulnerable | AJ47: Strategic Recommendation B | AK47: Level 2 SFRA required due to future surface water risk (using the low risk surface water extent as a proxy for the medium risk plus climate change extent). | AL47: Carry out Level 2 SFRA to further assess risk. However, for sites with only a small area at risk, depending on the spatial variability of risk, it may be possible to address risk through policy wording. | AN47: Advise Recommendation C
B48: =Calculations!A23 -> 22 | C48: =Calculations!B23 -> Fold Road #1 | D48: =Calculations!C23 -> Housing | E48: =Calculations!D23 -> 1.5424126 | F48: =Calculations!H23 -> 1.5424126 | G48: =Calculations!L23 -> 100 | H48: =Calculations!G23 -> 0 | I48: =Calculations!K23 -> 0 | J48: =Calculations!F23 -> 0 | K48: =Calculations!J23 -> 0 | L48: =Calculations!E23 -> 0 | M48: =Calculations!I23 -> 0 | N48: =Calculations!P23 -> 1.3211828 | O48: =Calculations!T23 -> 85.656904 | P48: =Calculations!O23 -> 0.04402979 | Q48: =Calculations!S23 -> 2.8546053 | R48: =Calculations!N23 -> 0.10487659 | S48: =Calculations!R23 -> 6.7995164 | T48: =Calculations!M23 -> 0.072323331 | U48: =Calculations!Q23 -> 4.6889745 | V48: =Calculations!AA23 -> 0 | W48: =Calculations!AB23 -> 0 | X48: =Calculations!AC23 -> 0 | Y48: =Calculations!AD23 -> 0 | Z48: =Calculations!Y23 -> 0 | AA48: =Calculations!Z23 -> 0 | AB48: =P48 -> 0.04402979 | AC48: =Q48 -> 2.8546053 | AD48: =Calculations!AF23 -> 0 | AE48: =Calculations!AG23 -> 0 | AF48: No | AG48: Yes | AH48: There is a risk of emergence to subsurface assets, but surface manifestation of groundwater is unlikely. | AI48: More vulnerable | AJ48: Strategic Recommendation B | AK48: Level 2 SFRA required due to high and/or medium risk from surface water sources. | AL48: Carry out Level 2 SFRA to further assess risk. However, for sites with only a small area at risk, depending on the spatial variability of risk, it may be possible to address risk through policy wording. | AN48: Surface water flood risk caused by existing buildings preventing overland flow
B49: =Calculations!A24 -> 23 | C49: =Calculations!B24 -> Back Bury Road South | D49: =Calculations!C24 -> Housing | E49: =Calculations!D24 -> 0.49024481 | F49: =Calculations!H24 -> 0.49024481 | G49: =Calculations!L24 -> 100 | H49: =Calculations!G24 -> 0 | I49: =Calculations!K24 -> 0 | J49: =Calculations!F24 -> 0 | K49: =Calculations!J24 -> 0 | L49: =Calculations!E24 -> 0 | M49: =Calculations!I24 -> 0 | N49: =Calculations!P24 -> 0.49024481 | O49: =Calculations!T24 -> 100 | P49: =Calculations!O24 -> 0 | Q49: =Calculations!S24 -> 0 | R49: =Calculations!N24 -> 0 | S49: =Calculations!R24 -> 0 | T49: =Calculations!M24 -> 0 | U49: =Calculations!Q24 -> 0 | V49: =Calculations!AA24 -> 0 | W49: =Calculations!AB24 -> 0 | X49: =Calculations!AC24 -> 0 | Y49: =Calculations!AD24 -> 0 | Z49: =Calculations!Y24 -> 0 | AA49: =Calculations!Z24 -> 0 | AB49: =P49 -> 0 | AC49: =Q49 -> 0 | AD49: =Calculations!AF24 -> 0 | AE49: =Calculations!AG24 -> 0 | AF49: No | AG49: Yes | AH49: No risk. | AI49: More vulnerable | AJ49: Strategic Recommendation D | AK49: Development could be allocated on flood risk grounds based on the evidence of this Level 1 SFRA. | AL49: LPA to make decision on allocation. | AN49: Agree with recommendation D
B50: =Calculations!A25 -> 24 | C50: =Calculations!B25 -> Deepdale Road #1 | D50: =Calculations!C25 -> Housing | E50: =Calculations!D25 -> 0.491472 | F50: =Calculations!H25 -> 0.491472 | G50: =Calculations!L25 -> 100 | H50: =Calculations!G25 -> 0 | I50: =Calculations!K25 -> 0 | J50: =Calculations!F25 -> 0 | K50: =Calculations!J25 -> 0 | L50: =Calculations!E25 -> 0 | M50: =Calculations!I25 -> 0 | N50: =Calculations!P25 -> 0.48790787 | O50: =Calculations!T25 -> 99.274806 | P50: =Calculations!O25 -> 0.0033329362 | Q50: =Calculations!S25 -> 0.67815384 | R50: =Calculations!N25 -> 2.5727224e-06 | S50: =Calculations!R25 -> 0.00052347284 | T50: =Calculations!M25 -> 0.00022861658 | U50: =Calculations!Q25 -> 0.046516705 | V50: =Calculations!AA25 -> 0 | W50: =Calculations!AB25 -> 0 | X50: =Calculations!AC25 -> 0 | Y50: =Calculations!AD25 -> 0 | Z50: =Calculations!Y25 -> 0 | AA50: =Calculations!Z25 -> 0 | AB50: =P50 -> 0.0033329362 | AC50: =Q50 -> 0.67815384 | AD50: =Calculations!AF25 -> 0 | AE50: =Calculations!AG25 -> 0 | AF50: No | AG50: Yes | AH50: There is a risk of emergence to subsurface assets, but surface manifestation of groundwater is unlikely. | AI50: More vulnerable | AJ50: Strategic Recommendation B | AK50: Level 2 SFRA required due to high and/or medium risk from surface water sources. | AL50: Carry out Level 2 SFRA to further assess risk. However, for sites with only a small area at risk, depending on the spatial variability of risk, it may be possible to address risk through policy wording. | AN50: Flood risk area is very small and shallow
B51: =Calculations!A26 -> 25 | C51: =Calculations!B26 -> Wasdale Avenue | D51: =Calculations!C26 -> Housing | E51: =Calculations!D26 -> 0.34320108 | F51: =Calculations!H26 -> 0.34320108 | G51: =Calculations!L26 -> 100 | H51: =Calculations!G26 -> 0 | I51: =Calculations!K26 -> 0 | J51: =Calculations!F26 -> 0 | K51: =Calculations!J26 -> 0 | L51: =Calculations!E26 -> 0 | M51: =Calculations!I26 -> 0 | N51: =Calculations!P26 -> 0.34320108 | O51: =Calculations!T26 -> 100 | P51: =Calculations!O26 -> 0 | Q51: =Calculations!S26 -> 0 | R51: =Calculations!N26 -> 0 | S51: =Calculations!R26 -> 0 | T51: =Calculations!M26 -> 0 | U51: =Calculations!Q26 -> 0 | V51: =Calculations!AA26 -> 0 | W51: =Calculations!AB26 -> 0 | X51: =Calculations!AC26 -> 0 | Y51: =Calculations!AD26 -> 0 | Z51: =Calculations!Y26 -> 0 | AA51: =Calculations!Z26 -> 0 | AB51: =P51 -> 0 | AC51: =Q51 -> 0 | AD51: =Calculations!AF26 -> 0 | AE51: =Calculations!AG26 -> 0 | AF51: No | AG51: No | AH51: Groundwater emergence is not likley. | AI51: More vulnerable | AJ51: Strategic Recommendation D | AK51: Development could be allocated on flood risk grounds based on the evidence of this Level 1 SFRA. | AL51: LPA to make decision on allocation.
B52: =Calculations!A27 -> 26 | C52: =Calculations!B27 -> Site of former St Catherine's Acacemy Primary | D52: =Calculations!C27 -> Housing | E52: =Calculations!D27 -> 1.8174448 | F52: =Calculations!H27 -> 1.8174448 | G52: =Calculations!L27 -> 100 | H52: =Calculations!G27 -> 0 | I52: =Calculations!K27 -> 0 | J52: =Calculations!F27 -> 0 | K52: =Calculations!J27 -> 0 | L52: =Calculations!E27 -> 0 | M52: =Calculations!I27 -> 0 | N52: =Calculations!P27 -> 1.7770132 | O52: =Calculations!T27 -> 97.775362 | P52: =Calculations!O27 -> 0.040431569 | Q52: =Calculations!S27 -> 2.2246381 | R52: =Calculations!N27 -> 0 | S52: =Calculations!R27 -> 0 | T52: =Calculations!M27 -> 0 | U52: =Calculations!Q27 -> 0 | V52: =Calculations!AA27 -> 0 | W52: =Calculations!AB27 -> 0 | X52: =Calculations!AC27 -> 0 | Y52: =Calculations!AD27 -> 0 | Z52: =Calculations!Y27 -> 0 | AA52: =Calculations!Z27 -> 0 | AB52: =P52 -> 0.040431569 | AC52: =Q52 -> 2.2246381 | AD52: =Calculations!AF27 -> 0 | AE52: =Calculations!AG27 -> 0 | AF52: No | AG52: No | AH52: There is a risk of emergence to subsurface assets, but surface manifestation of groundwater is unlikely. | AI52: More vulnerable | AJ52: Strategic Recommendation B | AK52: Level 2 SFRA required due to future surface water risk (using the low risk surface water extent as a proxy for the medium risk plus climate change extent). | AL52: Carry out Level 2 SFRA to further assess risk. However, for sites with only a small area at risk, depending on the spatial variability of risk, it may be possible to address risk through policy wording. | AN52: Flood risk area is small and localised
...

Sheet Calculations
A1: SiteRef | B1: Name | C1: Proposed_Use | D1: Area_Ha | E1: FZ3b_Area | F1: FZ3a_Area | G1: FZ2_Area | H1: FZ1_Area | I1: FZ3b_pct | J1: FZ3a_pct | K1: FZ2_pct | L1: FZ1 | M1: RoFSW30yr_Area | N1: RoFSW100yr_Area | O1: RoFSW1000yr_Area | P1: Very Low Area | Q1: RoFSW30yr_pct | R1: RoFSW100yr_pct | S1: RoFSW1000yr_pct | T1: Very Low pct | V1: QA | W1: QA | Y1: Future_functional_floodplain_area | Z1: Future_FF_pct | AA1: Future_FZ_area | AB1: Future_FZ_pct | AC1: 100_CC_MFO_area | AD1: 100_CC_MFO_pct | AF1: Dry day reservoir area | AG1: Dry day reservoir pct
A2: 1 | B2: Tonge Mill | C2: Housing | D2: 0.69976367 | E2: 0 | F2: 0 | G2: 0 | H2: =D2-E2-F2-G2 -> 0.69976367 | I2: =E2/D2*100 -> 0 | J2: =F2/D2*100 -> 0 | K2: =G2/D2*100 -> 0 | L2: =H2/D2*100 -> 100 | M2: 0 | N2: 0 | O2: 0.016104695 | P2: =D2-SUM(M2,N2,O2) -> 0.68365898 | Q2: =M2/D2*100 -> 0 | R2: =N2/D2*100 -> 0 | S2: =O2/D2*100 -> 2.3014477 | T2: =P2/D2*100 -> 97.698552 | V2: =SUM(I2:L2) -> 100 | W2: =SUM(Q2:R2,S2) -> 2.3014477 | Y2: 0 | Z2: =Y2/D2*100 -> 0 | AA2: 0 | AB2: =AA2/D2*100 -> 0 | AC2: 0 | AD2: =AC2/D2*100 -> 0 | AF2: 0 | AG2: =AF2/D2*100 -> 0
A3: 2 | B3: T Sutcliffe and Co Ltd | C3: Housing | D3: 0.68070638 | E3: 0 | F3: 0 | G3: 0 | H3: =D3-E3-F3-G3 -> 0.68070638 | I3: =E3/D3*100 -> 0 | J3: =F3/D3*100 -> 0 | K3: =G3/D3*100 -> 0 | L3: =H3/D3*100 -> 100 | M3: 0.19272762 | N3: 0.28984848 | O3: 0.07470262 | P3: =D3-SUM(M3,N3,O3) -> 0.12342767 | Q3: =M3/D3*100 -> 28.312885 | R3: =N3/D3*100 -> 42.580544 | S3: =O3/D3*100 -> 10.974279 | T3: =P3/D3*100 -> 18.132291 | V3: =SUM(I3:L3) -> 100 | W3: =SUM(Q3:R3,S3) -> 81.867709 | Y3: 0 | Z3: =Y3/D3*100 -> 0 | AA3: 0 | AB3: =AA3/D3*100 -> 0 | AC3: 0 | AD3: =AC3/D3*100 -> 0 | AF3: 0 | AG3: =AF3/D3*100 -> 0
A4: 3 | B4: Halliwell Mills | C4: Housing | D4: 0.85141962 | E4: 0 | F4: 0 | G4: 0 | H4: =D4-E4-F4-G4 -> 0.85141962 | I4: =E4/D4*100 -> 0 | J4: =F4/D4*100 -> 0 | K4: =G4/D4*100 -> 0 | L4: =H4/D4*100 -> 100 | M4: 0.062614579 | N4: 0.03170413 | O4: 0.033043765 | P4: =D4-SUM(M4,N4,O4) -> 0.72405715 | Q4: =M4/D4*100 -> 7.3541386 | R4: =N4/D4*100 -> 3.7236785 | S4: =O4/D4*100 -> 3.8810199 | T4: =P4/D4*100 -> 85.041163 | V4: =SUM(I4:L4) -> 100 | W4: =SUM(Q4:R4,S4) -> 14.958837 | Y4: 0 | Z4: =Y4/D4*100 -> 0 | AA4: 0 | AB4: =AA4/D4*100 -> 0 | AC4: 0 | AD4: =AC4/D4*100 -> 0 | AF4: 0 | AG4: =AF4/D4*100 -> 0
A5: 4 | B5: Hall Lane #1 | C5: Housing | D5: 0.67443249 | E5: 0 | F5: 0 | G5: 0 | H5: =D5-E5-F5-G5 -> 0.67443249 | I5: =E5/D5*100 -> 0 | J5: =F5/D5*100 -> 0 | K5: =G5/D5*100 -> 0 | L5: =H5/D5*100 -> 100 | M5: 0.08006249 | N5: 0.04723687 | O5: 0.077509892 | P5: =D5-SUM(M5,N5,O5) -> 0.46962324 | Q5: =M5/D5*100 -> 11.87109 | R5: =N5/D5*100 -> 7.0039434 | S5: =O5/D5*100 -> 11.492609 | T5: =P5/D5*100 -> 69.632357 | V5: =SUM(I5:L5) -> 100 | W5: =SUM(Q5:R5,S5) -> 30.367643 | Y5: 0 | Z5: =Y5/D5*100 -> 0 | AA5: 0 | AB5: =AA5/D5*100 -> 0 | AC5: 0 | AD5: =AC5/D5*100 -> 0 | AF5: 0 | AG5: =AF5/D5*100 -> 0
A6: 5 | B6: 86 Chapeltown Road | C6: Housing | D6: 0.64465528 | E6: 0 | F6: 0 | G6: 0 | H6: =D6-E6-F6-G6 -> 0.64465528 | I6: =E6/D6*100 -> 0 | J6: =F6/D6*100 -> 0 | K6: =G6/D6*100 -> 0 | L6: =H6/D6*100 -> 100 | M6: 0 | N6: 0 | O6: 0.011208735 | P6: =D6-SUM(M6,N6,O6) -> 0.63344654 | Q6: =M6/D6*100 -> 0 | R6: =N6/D6*100 -> 0 | S6: =O6/D6*100 -> 1.7387177 | T6: =P6/D6*100 -> 98.261282 | V6: =SUM(I6:L6) -> 100 | W6: =SUM(Q6:R6,S6) -> 1.7387177 | Y6: 0 | Z6: =Y6/D6*100 -> 0 | AA6: 0 | AB6: =AA6/D6*100 -> 0 | AC6: 0 | AD6: =AC6/D6*100 -> 0 | AF6: 0 | AG6: =AF6/D6*100 -> 0
A7: 6 | B7: The Hollins, East of Harry Fold Farm | C7: Housing | D7: 3.4831391 | E7: 0 | F7: 0 | G7: 0 | H7: =D7-E7-F7-G7 -> 3.4831391 | I7: =E7/D7*100 -> 0 | J7: =F7/D7*100 -> 0 | K7: =G7/D7*100 -> 0 | L7: =H7/D7*100 -> 100 | M7: 0.056043804 | N7: 0.0077611786 | O7: 0.021727638 | P7: =D7-SUM(M7,N7,O7) -> 3.3976065 | Q7: =M7/D7*100 -> 1.6090028 | R7: =N7/D7*100 -> 0.22282138 | S7: =O7/D7*100 -> 0.62379472 | T7: =P7/D7*100 -> 97.544381 | V7: =SUM(I7:L7) -> 100 | W7: =SUM(Q7:R7,S7) -> 2.4556189 | Y7: 0 | Z7: =Y7/D7*100 -> 0 | AA7: 0 | AB7: =AA7/D7*100 -> 0 | AC7: 0 | AD7: =AC7/D7*100 -> 0 | AF7: 0 | AG7: =AF7/D7*100 -> 0
A8: 7 | B8: 99 Chapeltown Road | C8: Housing | D8: 0.35288506 | E8: 0 | F8: 0 | G8: 0 | H8: =D8-E8-F8-G8 -> 0.35288506 | I8: =E8/D8*100 -> 0 | J8: =F8/D8*100 -> 0 | K8: =G8/D8*100 -> 0 | L8: =H8/D8*100 -> 100 | M8: 0 | N8: 0 | O8: 0 | P8: =D8-SUM(M8,N8,O8) -> 0.35288506 | Q8: =M8/D8*100 -> 0 | R8: =N8/D8*100 -> 0 | S8: =O8/D8*100 -> 0 | T8: =P8/D8*100 -> 100 | V8: =SUM(I8:L8) -> 100 | W8: =SUM(Q8:R8,S8) -> 0 | Y8: 0 | Z8: =Y8/D8*100 -> 0 | AA8: 0 | AB8: =AA8/D8*100 -> 0 | AC8: 0 | AD8: =AC8/D8*100 -> 0 | AF8: 0 | AG8: =AF8/D8*100 -> 0
A9: 8 | B9: Brownlow Folds Mill | C9: Housing | D9: 1.0430672 | E9: 0 | F9: 0 | G9: 0 | H9: =D9-E9-F9-G9 -> 1.0430672 | I9: =E9/D9*100 -> 0 | J9: =F9/D9*100 -> 0 | K9: =G9/D9*100 -> 0 | L9: =H9/D9*100 -> 100 | M9: 0.02721514 | N9: 0.0084508951 | O9: 0.021360723 | P9: =D9-SUM(M9,N9,O9) -> 0.98604039 | Q9: =M9/D9*100 -> 2.6091455 | R9: =N9/D9*100 -> 0.81019665 | S9: =O9/D9*100 -> 2.0478761 | T9: =P9/D9*100 -> 94.532782 | V9: =SUM(I9:L9) -> 100 | W9: =SUM(Q9:R9,S9) -> 5.4672183 | Y9: 0 | Z9: =Y9/D9*100 -> 0 | AA9: 0 | AB9: =AA9/D9*100 -> 0 | AC9: 0 | AD9: =AC9/D9*100 -> 0 | AF9: 0 | AG9: =AF9/D9*100 -> 0
A10: 9 | B10: Tennyson Mill | C10: Housing | D10: 0.90310482 | E10: 0 | F10: 0 | G10: 0 | H10: =D10-E10-F10-G10 -> 0.90310482 | I10: =E10/D10*100 -> 0 | J10: =F10/D10*100 -> 0 | K10: =G10/D10*100 -> 0 | L10: =H10/D10*100 -> 100 | M10: 0 | N10: 0 | O10: 0 | P10: =D10-SUM(M10,N10,O10) -> 0.90310482 | Q10: =M10/D10*100 -> 0 | R10: =N10/D10*100 -> 0 | S10: =O10/D10*100 -> 0 | T10: =P10/D10*100 -> 100 | V10: =SUM(I10:L10) -> 100 | W10: =SUM(Q10:R10,S10) -> 0 | Y10: 0 | Z10: =Y10/D10*100 -> 0 | AA10: 0 | AB10: =AA10/D10*100 -> 0 | AC10: 0 | AD10: =AC10/D10*100 -> 0 | AF10: 0 | AG10: =AF10/D10*100 -> 0
A11: 10 | B11: Gilnow Mill | C11: Housing | D11: 1.648633 | E11: 0.9244615 | F11: 0.7021545 | G11: 0.022015821 | H11: =D11-E11-F11-G11 -> 1.208552e-06 | I11: =E11/D11*100 -> 56.074425 | J11: =F11/D11*100 -> 42.590103 | K11: =G11/D11*100 -> 1.3353985 | L11: =H11/D11*100 -> 7.3306308e-05 | M11: 0.40095597 | N11: 0.88195164 | O11: 0.1757948 | P11: =D11-SUM(M11,N11,O11) -> 0.18993062 | Q11: =M11/D11*100 -> 24.32051 | R11: =N11/D11*100 -> 53.495934 | S11: =O11/D11*100 -> 10.663064 | T11: =P11/D11*100 -> 11.520491 | V11: =SUM(I11:L11) -> 100 | W11: =SUM(Q11:R11,S11) -> 88.479509 | Y11: 0.70295507 | Z11: =Y11/D11*100 -> 42.638662 | AA11: 2.1049182e-07 | AB11: =AA11/D11*100 -> 1.2767658e-05 | AC11: 0.00060303382 | AD11: =AC11/D11*100 -> 0.036577808 | AF11: 1.2122502 | AG11: =AF11/D11*100 -> 73.530629
A12: 11 | B12: Dinsdale Drive | C12: Housing | D12: 0.72507362 | E12: 0 | F12: 0 | G12: 0 | H12: =D12-E12-F12-G12 -> 0.72507362 | I12: =E12/D12*100 -> 0 | J12: =F12/D12*100 -> 0 | K12: =G12/D12*100 -> 0 | L12: =H12/D12*100 -> 100 | M12: 0.00030063897 | N12: 0.020760911 | O12: 0.038856535 | P12: =D12-SUM(M12,N12,O12) -> 0.66515553 | Q12: =M12/D12*100 -> 0.041463234 | R12: =N12/D12*100 -> 2.8632832 | S12: =O12/D12*100 -> 5.3589779 | T12: =P12/D12*100 -> 91.736276 | V12: =SUM(I12:L12) -> 100 | W12: =SUM(Q12:R12,S12) -> 8.2637243 | Y12: 0 | Z12: =Y12/D12*100 -> 0 | AA12: 0 | AB12: =AA12/D12*100 -> 0 | AC12: 0 | AD12: =AC12/D12*100 -> 0 | AF12: 0 | AG12: =AF12/D12*100 -> 0
A13: 12 | B13: Garnet Fold Farm | C13: Housing | D13: 4.0559892 | E13: 0 | F13: 0 | G13: 0 | H13: =D13-E13-F13-G13 -> 4.0559892 | I13: =E13/D13*100 -> 0 | J13: =F13/D13*100 -> 0 | K13: =G13/D13*100 -> 0 | L13: =H13/D13*100 -> 100 | M13: 0.035489081 | N13: 0.065205862 | O13: 0.16260383 | P13: =D13-SUM(M13,N13,O13) -> 3.7926905 | Q13: =M13/D13*100 -> 0.87497966 | R13: =N13/D13*100 -> 1.6076439 | S13: =O13/D13*100 -> 4.0089807 | T13: =P13/D13*100 -> 93.508396 | V13: =SUM(I13:L13) -> 100 | W13: =SUM(Q13:R13,S13) -> 6.4916042 | Y13: 0 | Z13: =Y13/D13*100 -> 0 | AA13: 0 | AB13: =AA13/D13*100 -> 0 | AC13: 0 | AD13: =AC13/D13*100 -> 0 | AF13: 0 | AG13: =AF13/D13*100 -> 0
... A512: 534 | B512: Fylde Street | C512: Gypsy & Traveller | D512: 0.16229019 | E512: 0 | F512: 0 | G512: 0 | H512: =D512-E512-F512-G512 -> 0.16229019 | I512: =E512/D512*100 -> 0 | J512: =F512/D512*100 -> 0 | K512: =G512/D512*100 -> 0 | L512: =H512/D512*100 -> 100 | M512: 0.0010218423 | N512: 0.0022641699 | O512: 0.0024653259 | P512: =D512-SUM(M512,N512,O512) -> 0.15653885 | Q512: =M512/D512*100 -> 0.62963901 | R512: =N512/D512*100 -> 1.3951366 | S512: =O512/D512*100 -> 1.519085 | T512: =P512/D512*100 -> 96.456139 | V512: =SUM(I512:L512) -> 100 | W512: =SUM(Q512:R512,S512) -> 3.5438606 | Y512: 0 | Z512: =Y512/D512*100 -> 0 | AA512: 0 | AB512: =AA512/D512*100 -> 0 | AC512: 0 | AD512: =AC512/D512*100 -> 0 | AF512: 0 | AG512: =AF512/D512*100 -> 0
