Workbook

Sheet Sites Assessment
F8: Summary Table
B9: Bolton Council
B10: Level 1 SFRA Local Plan Sites Assessment | F10: Fluvial Flood Zone Coverage | N10: Risk of Flooding from Surface Water | V10: Risk of Flooding from Fluvial Climate Change | AB10: Risk of Flooding from Surface Water Climate Change | AD10: Reservoir Flooding
B11: 46276 | F11: Flood Zone 1 | H11: Flood Zone 2 | J11: Flood Zone 3a | L11: Flood Zone 3b | N11: Very Low Risk (less than 1 in 1000 year) | P11: Low Risk (1 in 1000 year outline) | R11: Medium Risk (1 in 100 year outline) | T11: High Risk (1 in 30 year outline) | V11: Flood Zones + climate change (additional risk) | X11: Modelled undefended 1% AEP + 35% climate change (additional risk) | Z11: Functional floodplain + climate change (additional risk) | AB11: Medium Risk plus Climate Change (using Low Risk as a proxy) | AD11: Reservoir Flood Maps Dry Day Extent
C12: Proposed Use | D12: Number of Sites | E12: Area (ha) | F12: Area (ha) | G12: No. 100% | H12: Area (ha) | I12: No. | J12: Area (ha) | K12: No. | L12: Area (ha) | M12: No. | N12: Area (ha) | O12: No. 100% | P12: Area (ha) | Q12: No. | R12: Area (ha) | S12: No. | T12: Area (ha) | U12: No. | V12: Area (ha) | W12: No. | X12: Area (ha) | Y12: No. | Z12: Area (ha) | AA12: No. | AB12: Area (ha) | AC12: No. | AD12: Area (ha) | AE12: No.
C13: Housing | D13: =COUNTIF($D$27:$D$535, $C$13) -> 454 | E13: =SUMIF($D$27:$D$535, $C$13, $E$27:$E$535) -> 1517.4892 | F13: =SUMIF($D$27:$D$535, $C$13, $F$27:$F$535) -> 1435.6324 | G13: =COUNTIFS($D$27:$D$535, $C$13, $G$27:$G$535, "=100") -> 353 | H13: =SUMIF($D$27:$D$535, $C$13, $H$27:$H$535) -> 24.39762 | I13: =COUNTIFS($D$27:$D$535, $C$13, $I$27:$I$535, ">0") -> 84 | J13: =SUMIF($D$27:$D$535, $C$13, $J$27:$J$535) -> 9.8116918 | K13: =COUNTIFS($D$27:$D$535, $C$13, $K$27:$K$535, ">0") -> 74 | L13: =SUMIF($D$27:$D$535, $C$13, $L$27:$L$535) -> 47.647464 | M13: =COUNTIFS($D$27:$D$535, $C$13, $M$27:$M$535, ">0") -> 85 | N13: =SUMIF($D$27:$D$535, $C$13, $N$27:$N$535) -> 1332.9969 | O13: =COUNTIFS($D$27:$D$535, $C$13, $O$27:$O$535, "=100") -> 80 | P13: =SUMIF($D$27:$D$535, $C$13, $P$27:$P$535) -> 64.226153 | Q13: =COUNTIFS($D$27:$D$535, $C$13, $Q$27:$Q$535, ">0") -> 374 | R13: =SUMIF($D$27:$D$535, $C$13, $R$27:$R$535) -> 23.380724 | S13: =COUNTIFS($D$27:$D$535, $C$13, $S$27:$S$535, ">0") -> 305 | T13: =SUMIF($D$27:$D$535, $C$13, $T$27:$T$535) -> 96.885436 | U13: =COUNTIFS($D$27:$D$535, $C$13, $U$27:$U$535, ">0") -> 279 | V13: =SUMIF($D$27:$D$535, $C$13,$V$27:$V$535) -> 12.722996 | W13: =COUNTIFS($D$27:$D$535, $C$13,$W$27:$W$535, ">0") -> 70 | X13: =SUMIF($D$27:$D$535, $C$13,$X$27:$X$535) -> 5.0658714 | Y13: =COUNTIFS($D$27:$D$535, $C$13,$Y$27:$Y$535, ">0") -> 33 | Z13: =SUMIF($D$27:$D$535, $C$13, $Z$27:$Z$535) -> 7.3063243 | AA13: =COUNTIFS($D$27:$D$535, $C$13, $AA$27:$AA$535, ">0") -> 63 | AB13: =SUMIF($D$27:$D$535, $C$13, $P$27:$P$535) -> 64.226153 | AC13: =COUNTIFS($D$27:$D$535, $C$13, $Q$27:$Q$535, ">0") -> 374 | AD13: =SUMIF($D$27:$D$535, $C$13, $AD$27:$AD$535) -> 102.35868 | AE13: =COUNTIFS($D$27:$D$535, $C$13, $AE$27:$AE$535, ">0") -> 81
C14: Employment | D14: =COUNTIF($D$27:$D$535, $C$14) -> 19 | E14: =SUMIF($D$27:$D$535, $C$14, $E$27:$E$535) -> 244.6809 | F14: =SUMIF($D$27:$D$535, $C$14, $F$27:$F$535) -> 243.1204 | G14: =COUNTIFS($D$27:$D$535, $C$14, $G$27:$G$535, "=100") -> 14 | H14: =SUMIF($D$27:$D$535, $C$14, $H$27:$H$535) -> 0.2025344 | I14: =COUNTIFS($D$27:$D$535, $C$14, $I$27:$I$535, ">0") -> 2 | J14: =SUMIF($D$27:$D$535, $C$14, $J$27:$J$535) -> 0.054312643 | K14: =COUNTIFS($D$27:$D$535, $C$14, $K$27:$K$535, ">0") -> 1 | L14: =SUMIF($D$27:$D$535, $C$14, $L$27:$L$535) -> 1.3036579 | M14: =COUNTIFS($D$27:$D$535, $C$14, $M$27:$M$535, ">0") -> 4 | N14: =SUMIF($D$27:$D$535, $C$14, $N$27:$N$535) -> 212.90888 | O14: =COUNTIFS($D$27:$D$535, $C$14, $O$27:$O$535, "=100") -> 1 | P14: =SUMIF($D$27:$D$535, $C$14, $P$27:$P$535) -> 12.552698 | Q14: =COUNTIFS($D$27:$D$535, $C$14, $Q$27:$Q$535, ">0") -> 18 | R14: =SUMIF($D$27:$D$535, $C$14, $R$27:$R$535) -> 6.4289696 | S14: =COUNTIFS($D$27:$D$535, $C$14, $S$27:$S$535, ">0") -> 17 | T14: =SUMIF($D$27:$D$535, $C$14, $T$27:$T$535) -> 12.790355 | U14: =COUNTIFS($D$27:$D$535, $C$14, $U$27:$U$535, ">0") -> 17 | V14: =SUMIF($D$27:$D$535, $C$14,$V$27:$V$535) -> 0.11620283 | W14: =COUNTIFS($D$27:$D$535, $C$14,$W$27:$W$535, ">0") -> 3 | X14: =SUMIF($D$27:$D$535, $C$14,$X$27:$X$535) -> 0 | Y14: =COUNTIFS($D$27:$D$535, $C$14,$Y$27:$Y$535, ">0") -> 0 | Z14: =SUMIF($D$27:$D$535, $C$14, $Z$27:$Z$535) -> 0.0068776245 | AA14: =COUNTIFS($D$27:$D$535, $C$14, $AA$27:$AA$535, ">0") -> 1 | AB14: =SUMIF($D$27:$D$535, $C$14, $P$27:$P$535) -> 12.552698 | AC14: =COUNTIFS($D$27:$D$535, $C$14, $Q$27:$Q$535, ">0") -> 18 | AD14: =SUMIF($D$27:$D$535, $C$14, $AD$27:$AD$535) -> 0.92946035 | AE14: =COUNTIFS($D$27:$D$535, $C$14, $AE$27:$AE$535, ">0") -> 1
C15: Mixed use | D15: =COUNTIF($D$27:$D$535, $C$15) -> 35 | E15: =SUMIF($D$27:$D$535, $C$15, $E$27:$E$535) -> 972.62193 | F15: =SUMIF($D$27:$D$535, $C$15, $F$27:$F$535) -> 938.16305 | G15: =COUNTIFS($D$27:$D$535, $C$15, $G$27:$G$535, "=100") -> 23 | H15: =SUMIF($D$27:$D$535, $C$15, $H$27:$H$535) -> 7.5490923 | I15: =COUNTIFS($D$27:$D$535, $C$15, $I$27:$I$535, ">0") -> 11 | J15: =SUMIF($D$27:$D$535, $C$15, $J$27:$J$535) -> 5.0518278 | K15: =COUNTIFS($D$27:$D$535, $C$15, $K$27:$K$535, ">0") -> 11 | L15: =SUMIF($D$27:$D$535, $C$15, $L$27:$L$535) -> 21.857969 | M15: =COUNTIFS($D$27:$D$535, $C$15, $M$27:$M$535, ">0") -> 11 | N15: =SUMIF($D$27:$D$535, $C$15, $N$27:$N$535) -> 863.50255 | O15: =COUNTIFS($D$27:$D$535, $C$15, $O$27:$O$535, "=100") -> 0 | P15: =SUMIF($D$27:$D$535, $C$15, $P$27:$P$535) -> 46.724021 | Q15: =COUNTIFS($D$27:$D$535, $C$15, $Q$27:$Q$535, ">0") -> 34 | R15: =SUMIF($D$27:$D$535, $C$15, $R$27:$R$535) -> 16.560652 | S15: =COUNTIFS($D$27:$D$535, $C$15, $S$27:$S$535, ">0") -> 34 | T15: =SUMIF($D$27:$D$535, $C$15, $T$27:$T$535) -> 45.834715 | U15: =COUNTIFS($D$27:$D$535, $C$15, $U$27:$U$535, ">0") -> 32 | V15: =SUMIF($D$27:$D$535, $C$15,$V$27:$V$535) -> 3.094237 | W15: =COUNTIFS($D$27:$D$535, $C$15,$W$27:$W$535, ">0") -> 10 | X15: =SUMIF($D$27:$D$535, $C$15,$X$27:$X$535) -> 2.1168984 | Y15: =COUNTIFS($D$27:$D$535, $C$15,$Y$27:$Y$535, ">0") -> 7 | Z15: =SUMIF($D$27:$D$535, $C$15, $Z$27:$Z$535) -> 2.0757693 | AA15: =COUNTIFS($D$27:$D$535, $C$15, $AA$27:$AA$535, ">0") -> 7 | AB15: =SUMIF($D$27:$D$535, $C$15, $P$27:$P$535) -> 46.724021 | AC15: =COUNTIFS($D$27:$D$535, $C$15, $Q$27:$Q$535, ">0") -> 34 | AD15: =SUMIF($D$27:$D$535, $C$15, $AD$27:$AD$535) -> 40.69919 | AE15: =COUNTIFS($D$27:$D$535, $C$15, $AE$27:$AE$535, ">0") -> 15
C16: Gypsy & Traveller | D16: =COUNTIF($D$27:$D$535, $C$16) -> 1 | E16: =SUMIF($D$27:$D$535, $C$16, $E$27:$E$535) -> 4.2591055 | F16: =SUMIF($D$27:$D$535, $C$16, $F$27:$F$535) -> 4.2591055 | G16: =COUNTIFS($D$27:$D$535, $C$16, $G$27:$G$535, "=100") -> 1 | H16: =SUMIF($D$27:$D$535, $C$16, $H$27:$H$535) -> 0 | I16: =COUNTIFS($D$27:$D$535, $C$16, $I$27:$I$535, ">0") -> 0 | J16: =SUMIF($D$27:$D$535, $C$16, $J$27:$J$535) -> 0 | K16: =COUNTIFS($D$27:$D$535, $C$16, $K$27:$K$535, ">0") -> 0 | L16: =SUMIF($D$27:$D$535, $C$16, $L$27:$L$535) -> 0 | M16: =COUNTIFS($D$27:$D$535, $C$16, $M$27:$M$535, ">0") -> 0 | N16: =SUMIF($D$27:$D$535, $C$16, $N$27:$N$535) -> 3.7731924 | O16: =COUNTIFS($D$27:$D$535, $C$16, $O$27:$O$535, "=100") -> 0 | P16: =SUMIF($D$27:$D$535, $C$16, $P$27:$P$535) -> 0.2123937 | Q16: =COUNTIFS($D$27:$D$535, $C$16, $Q$27:$Q$535, ">0") -> 1 | R16: =SUMIF($D$27:$D$535, $C$16, $R$27:$R$535) -> 0.10063735 | S16: =COUNTIFS($D$27:$D$535, $C$16, $S$27:$S$535, ">0") -> 1 | T16: =SUMIF($D$27:$D$535, $C$16, $T$27:$T$535) -> 0.17288205 | U16: =COUNTIFS($D$27:$D$535, $C$16, $U$27:$U$535, ">0") -> 1 | V16: =SUMIF($D$27:$D$535, $C$16,$V$27:$V$535) -> 0 | W16: =COUNTIFS($D$27:$D$535, $C$16,$W$27:$W$535, ">0") -> 0 | X16: =SUMIF($D$27:$D$535, $C$16,$X$27:$X$535) -> 0 | Y16: =COUNTIFS($D$27:$D$535, $C$16,$Y$27:$Y$535, ">0") -> 0 | Z16: =SUMIF($D$27:$D$535, $C$16, $Z$27:$Z$535) -> 0 | AA16: =COUNTIFS($D$27:$D$535, $C$16, $AA$27:$AA$535, ">0") -> 0 | AB16: =SUMIF($D$27:$D$535, $C$16, $P$27:$P$535) -> 0.2123937 | AC16: =COUNTIFS($D$27:$D$535, $C$16, $Q$27:$Q$535, ">0") -> 1 | AD16: =SUMIF($D$27:$D$535, $C$16, $AD$27:$AD$535) -> 4.2591055 | AE16: =COUNTIFS($D$27:$D$535, $C$16, $AE$27:$AE$535, ">0") -> 1
C17: TOTAL | D17: =SUM(D13:D16) -> 509 | E17: =SUM(E13:E16) -> 2739.0512 | F17: =SUM(F13:F16) -> 2621.175 | G17: =SUM(G13:G16) -> 391 | H17: =SUM(H13:H16) -> 32.149247 | I17: =SUM(I13:I16) -> 97 | J17: =SUM(J13:J16) -> 14.917832 | K17: =SUM(K13:K16) -> 86 | ... AE17: =SUM(AE13:AE16) -> 98
B19: Key
B20: Flood Zone 3b | C20: The colour coding shows the highest risk element of the flood zone that is present on site and is not in itself an indication of whether the site should or shouldn’t be developed for flooding reason
B21: Functional floodplain plus climate change / Flood Zone 3a / Flood Zone 3a plus climate change
B22: Flood Zone 2 | F22: Main Table
B23: Flood Zone 1 + Surface Water
B24: Flood Zone 1 | F24: Fluvial Flood Zone Coverage | N24: Risk of Flooding from Surface Water | V24: Risk of Flooding from Fluvial Climate Change | AB24: Risk of Flooding from Surface Water Climate Change | AD24: Reservoir Flooding | AF24: Unmodelled watercourse within 10m of site in Flood Zone 1? | AG24: United Utilities constraint identified? | AH24: Risk of groundwater emergence (JBA Groundwater Map)
F25: Flood Zone 1 | H25: Flood Zone 2 | J25: Flood Zone 3a | L25: Flood Zone 3b | N25: Very Low Risk (less than 1 in 1000 year) | P25: Low Risk (1 in 1000 year outline) | R25: Medium Risk (1 in 100 year outline) | T25: High Risk (1 in 30 year outline) | V25: Flood Zones + climate change (additional risk) | X25: Modelled undefended 1% AEP + 35% climate change (additional risk) | Z25: Future functional floodplain (additional risk) | AB25: Medium Risk plus Climate Change (using Low Risk as a proxy) | AD25: Reservoir Flood Maps Dry Day Extent
B26: Site Reference | C26: Site Name | D26: Proposed Use | E26: Area (ha) | F26: Area (ha) | G26: % | H26: Area (ha) | I26: % | J26: Area (ha) | K26: % | L26: Area (ha) | M26: % | N26: Area (ha) | O26: % | P26: Area (ha) | Q26: % | R26: Area (ha) | S26: % | T26: Area (ha) | U26: % | V26: Area (ha) | W26: % | X26: Area (ha) | Y26: % | Z26: Area (ha) | AA26: % | AB26: Area (ha) | AC26: % | AD26: Area (ha) | AE26: % | AI26: Flood Risk Vulnerability Classification (NPPF) | AJ26: Level 1 Strategic Recommendation (see SFRA Report) | AK26: Development Considerations | AL26: Recommended Next Steps | AM26: Council Comments | AN26: LLFA Comments | AO26: Council Decision on Site for Local Plan
B27: =Calculations!A2 -> 1 | C27: =Calculations!B2 -> Tonge Mill | D27: =Calculations!C2 -> Housing | E27: =Calculations!D2 -> 0.69976367 | F27: =Calculations!H2 -> 0.69976367 | G27: =Calculations!L2 -> 100 | H27: =Calculations!G2 -> 0 | I27: =Calculations!K2 -> 0 | J27: =Calculations!F2 -> 0 | K27: =Calculations!J2 -> 0 | L27: =Calculations!E2 -> 0 | M27: =Calculations!I2 -> 0 | N27: =Calculations!P2 -> 0.68365898 | O27: =Calculations!T2 -> 97.698552 | P27: =Calculations!O2 -> 0.016104695 | Q27: =Calculations!S2 -> 2.3014477 | R27: =Calculations!N2 -> 0 | S27: =Calculations!R2 -> 0 | T27: =Calculations!M2 -> 0 | U27: =Calculations!Q2 -> 0 | V27: =Calculations!AA2 -> 0 | W27: =Calculations!AB2 -> 0 | X27: =Calculations!AC2 -> 0 | Y27: =Calculations!AD2 -> 0 | Z27: =Calculations!Y2 -> 0 | AA27: =Calculations!Z2 -> 0 | AB27: =P27 -> 0.016104695 | AC27: =Q27 -> 2.3014477 | AD27: =Calculations!AF2 -> 0 | AE27: =Calculations!AG2 -> 0 | AF27: No | AG27: No | AH27: Groundwater emergence is not likley. | AI27: More vulnerable | AJ27: Strategic Recommendation B | AK27: Level 2 SFRA required due to future surface water risk (using the low risk surface water extent as a proxy for the medium risk plus climate change extent). | AL27: Carry out Level 2 SFRA to further assess risk. However, for sites with only a small area at risk, depending on the spatial variability of risk, it may be possible to address risk through policy wording.
B28: =Calculations!A3 -> 2 | C28: =Calculations!B3 -> T Sutcliffe and Co Ltd | D28: =Calculations!C3 -> Housing | E28: =Calculations!D3 -> 0.68070638 | F28: =Calculations!H3 -> 0.68070638 | G28: =Calculations!L3 -> 100 | H28: =Calculations!G3 -> 0 | I28: =Calculations!K3 -> 0 | J28: =Calculations!F3 -> 0 | K28: =Calculations!J3 -> 0 | L28: =Calculations!E3 -> 0 | M28: =Calculations!I3 -> 0 | N28: =Calculations!P3 -> 0.12342767 | O28: =Calculations!T3 -> 18.132291 | P28: =Calculations!O3 -> 0.07470262 | Q28: =Calculations!S3 -> 10.974279 | R28: =Calculations!N3 -> 0.28984848 | S28: =Calculations!R3 -> 42.580544 | T28: =Calculations!M3 -> 0.19272762 | U28: =Calculations!Q3 -> 28.312885 | V28: =Calculations!AA3 -> 0 | W28: =Calculations!AB3 -> 0 | X28: =Calculations!AC3 -> 0 | Y28: =Calculations!AD3 -> 0 | Z28: =Calculations!Y3 -> 0 | AA28: =Calculations!Z3 -> 0 | AB28: =P28 -> 0.07470262 | AC28: =Q28 -> 10.974279 | AD28: =Calculations!AF3 -> 0 | AE28: =Calculations!AG3 -> 0 | AF28: No | AG28: No | AH28: There is a risk of emergence to subsurface assets, but surface manifestation of groundwater is unlikely. | AI28: More vulnerable | AJ28: Strategic Recommendation B | AK28: Level 2 SFRA required due to high and/or medium risk from surface water sources. | AL28: Carry out Level 2 SFRA to further assess risk. However, for sites with only a small area at risk, depending on the spatial variability of risk, it may be possible to address risk through policy wording.
B29: =Calculations!A4 -> 3 | C29: =Calculations!B4 -> Halliwell Mills | D29: =Calculations!C4 -> Housing | E29: =Calculations!D4 -> 0.85141962 | F29: =Calculations!H4 -> 0.85141962 | G29: =Calculations!L4 -> 100 | H29: =Calculations!G4 -> 0 | I29: =Calculations!K4 -> 0 | J29: =Calculations!F4 -> 0 | K29: =Calculations!J4 -> 0 | L29: =Calculations!E4 -> 0 | M29: =Calculations!I4 -> 0 | N29: =Calculations!P4 -> 0.72405715 | O29: =Calculations!T4 -> 85.041163 | P29: =Calculations!O4 -> 0.033043765 | Q29: =Calculations!S4 -> 3.8810199 | R29: =Calculations!N4 -> 0.03170413 | S29: =Calculations!R4 -> 3.7236785 | T29: =Calculations!M4 -> 0.062614579 | U29: =Calculations!Q4 -> 7.3541386 | V29: =Calculations!AA4 -> 0 | W29: =Calculations!AB4 -> 0 | X29: =Calculations!AC4 -> 0 | Y29: =Calculations!AD4 -> 0 | Z29: =Calculations!Y4 -> 0 | AA29: =Calculations!Z4 -> 0 | AB29: =P29 -> 0.033043765 | AC29: =Q29 -> 3.8810199 | AD29: =Calculations!AF4 -> 0 | AE29: =Calculations!AG4 -> 0 | AF29: No | AG29: No | AH29: No risk. | AI29: More vulnerable | AJ29: Strategic Recommendation B | AK29: Level 2 SFRA required due to high and/or medium risk from surface water sources. | AL29: Carry out Level 2 SFRA to further assess risk. However, for sites with only a small area at risk, depending on the spatial variability of risk, it may be possible to address risk through policy wording.
B30: =Calculations!A5 -> 4 | C30: =Calculations!B5 -> Hall Lane #1 | D30: =Calculations!C5 -> Housing | E30: =Calculations!D5 -> 0.67443249 | F30: =Calculations!H5 -> 0.67443249 | G30: =Calculations!L5 -> 100 | H30: =Calculations!G5 -> 0 | I30: =Calculations!K5 -> 0 | J30: =Calculations!F5 -> 0 | K30: =Calculations!J5 -> 0 | L30: =Calculations!E5 -> 0 | M30: =Calculations!I5 -> 0 | N30: =Calculations!P5 -> 0.46962324 | O30: =Calculations!T5 -> 69.632357 | P30: =Calculations!O5 -> 0.077509892 | Q30: =Calculations!S5 -> 11.492609 | R30: =Calculations!N5 -> 0.04723687 | S30: =Calculations!R5 -> 7.0039434 | T30: =Calculations!M5 -> 0.08006249 | U30: =Calculations!Q5 -> 11.87109 | V30: =Calculations!AA5 -> 0 | W30: =Calculations!AB5 -> 0 | X30: =Calculations!AC5 -> 0 | Y30: =Calculations!AD5 -> 0 | Z30: =Calculations!Y5 -> 0 | AA30: =Calculations!Z5 -> 0 | AB30: =P30 -> 0.077509892 | AC30: =Q30 -> 11.492609 | AD30: =Calculations!AF5 -> 0 | AE30: =Calculations!AG5 -> 0 | AF30: No | AG30: No | AH30: There is a risk of emergence to subsurface assets, but surface manifestation of groundwater is unlikely. | AI30: More vulnerable | AJ30: Strategic Recommendation B | AK30: Level 2 SFRA required due to high and/or medium risk from surface water sources. | AL30: Carry out Level 2 SFRA to further assess risk. However, for sites with only a small area at risk, depending on the spatial variability of risk, it may be possible to address risk through policy wording.
B31: =Calculations!A6 -> 5 | C31: =Calculations!B6 -> 86 Chapeltown Road | D31: =Calculations!C6 -> Housing | E31: =Calculations!D6 -> 0.64465528 | F31: =Calculations!H6 -> 0.64465528 | G31: =Calculations!L6 -> 100 | H31: =Calculations!G6 -> 0 | I31: =Calculations!K6 -> 0 | J31: =Calculations!F6 -> 0 | K31: =Calculations!J6 -> 0 | L31: =Calculations!E6 -> 0 | M31: =Calculations!I6 -> 0 | N31: =Calculations!P6 -> 0.63344654 | O31: =Calculations!T6 -> 98.261282 | P31: =Calculations!O6 -> 0.011208735 | Q31: =Calculations!S6 -> 1.7387177 | R31: =Calculations!N6 -> 0 | S31: =Calculations!R6 -> 0 | T31: =Calculations!M6 -> 0 | U31: =Calculations!Q6 -> 0 | V31: =Calculations!AA6 -> 0 | W31: =Calculations!AB6 -> 0 | X31: =Calculations!AC6 -> 0 | Y31: =Calculations!AD6 -> 0 | Z31: =Calculations!Y6 -> 0 | AA31: =Calculations!Z6 -> 0 | AB31: =P31 -> 0.011208735 | AC31: =Q31 -> 1.7387177 | AD31: =Calculations!AF6 -> 0 | AE31: =Calculations!AG6 -> 0 | AF31: No | AG31: No | AH31: No risk. | AI31: More vulnerable | AJ31: Strategic Recommendation B | AK31: Level 2 SFRA required due to future surface water risk (using the low risk surface water extent as a proxy for the medium risk plus climate change extent). | AL31: Carry out Level 2 SFRA to further assess risk. However, for sites with only a small area at risk, depending on the spatial variability of risk, it may be possible to address risk through policy wording.
B32: =Calculations!A7 -> 6 | C32: =Calculations!B7 -> The Hollins, East of Harry Fold Farm | D32: =Calculations!C7 -> Housing | E32: =Calculations!D7 -> 3.4831391 | F32: =Calculations!H7 -> 3.4831391 | G32: =Calculations!L7 -> 100 | H32: =Calculations!G7 -> 0 | I32: =Calculations!K7 -> 0 | J32: =Calculations!F7 -> 0 | K32: =Calculations!J7 -> 0 | L32: =Calculations!E7 -> 0 | M32: =Calculations!I7 -> 0 | N32: =Calculations!P7 -> 3.3976065 | O32: =Calculations!T7 -> 97.544381 | P32: =Calculations!O7 -> 0.021727638 | Q32: =Calculations!S7 -> 0.62379472 | R32: =Calculations!N7 -> 0.0077611786 | S32: =Calculations!R7 -> 0.22282138 | T32: =Calculations!M7 -> 0.056043804 | U32: =Calculations!Q7 -> 1.6090028 | V32: =Calculations!AA7 -> 0 | W32: =Calculations!AB7 -> 0 | X32: =Calculations!AC7 -> 0 | Y32: =Calculations!AD7 -> 0 | Z32: =Calculations!Y7 -> 0 | AA32: =Calculations!Z7 -> 0 | AB32: =P32 -> 0.021727638 | AC32: =Q32 -> 0.62379472 | AD32: =Calculations!AF7 -> 0 | AE32: =Calculations!AG7 -> 0 | AF32: Yes | AG32: No | AH32: Groundwater emergence is not likley. | AI32: More vulnerable | AJ32: Strategic Recommendation B | AK32: Level 2 SFRA required due to high and/or medium risk from surface water sources. | AL32: Carry out Level 2 SFRA to further assess risk. However, for sites with only a small area at risk, depending on the spatial variability of risk, it may be possible to address risk through policy wording.
B33: =Calculations!A8 -> 7 | C33: =Calculations!B8 -> 99 Chapeltown Road | D33: =Calculations!C8 -> Housing | E33: =Calculations!D8 -> 0.35288506 | F33: =Calculations!H8 -> 0.35288506 | G33: =Calculations!L8 -> 100 | H33: =Calculations!G8 -> 0 | I33: =Calculations!K8 -> 0 | J33: =Calculations!F8 -> 0 | K33: =Calculations!J8 -> 0 | L33: =Calculations!E8 -> 0 | M33: =Calculations!I8 -> 0 | N33: =Calculations!P8 -> 0.35288506 | O33: =Calculations!T8 -> 100 | P33: =Calculations!O8 -> 0 | Q33: =Calculations!S8 -> 0 | R33: =Calculations!N8 -> 0 | S33: =Calculations!R8 -> 0 | T33: =Calculations!M8 -> 0 | U33: =Calculations!Q8 -> 0 | V33: =Calculations!AA8 -> 0 | W33: =Calculations!AB8 -> 0 | X33: =Calculations!AC8 -> 0 | Y33: =Calculations!AD8 -> 0 | Z33: =Calculations!Y8 -> 0 | AA33: =Calculations!Z8 -> 0 | AB33: =P33 -> 0 | AC33: =Q33 -> 0 | AD33: =Calculations!AF8 -> 0 | AE33: =Calculations!AG8 -> 0 | AF33: No | AG33: No | AH33: No risk. | AI33: More vulnerable | AJ33: Strategic Recommendation D | AK33: Development could be allocated on flood risk grounds based on the evidence of this Level 1 SFRA. | AL33: LPA to make decision on allocation.
B34: =Calculations!A9 -> 8 | C34: =Calculations!B9 -> Brownlow Folds Mill | D34: =Calculations!C9 -> Housing | E34: =Calculations!D9 -> 1.0430672 | F34: =Calculations!H9 -> 1.0430672 | G34: =Calculations!L9 -> 100 | H34: =Calculations!G9 -> 0 | I34: =Calculations!K9 -> 0 | J34: =Calculations!F9 -> 0 | K34: =Calculations!J9 -> 0 | L34: =Calculations!E9 -> 0 | M34: =Calculations!I9 -> 0 | N34: =Calculations!P9 -> 0.98604039 | O34: =Calculations!T9 -> 94.532782 | P34: =Calculations!O9 -> 0.021360723 | Q34: =Calculations!S9 -> 2.0478761 | R34: =Calculations!N9 -> 0.0084508951 | S34: =Calculations!R9 -> 0.81019665 | T34: =Calculations!M9 -> 0.02721514 | U34: =Calculations!Q9 -> 2.6091455 | V34: =Calculations!AA9 -> 0 | W34: =Calculations!AB9 -> 0 | X34: =Calculations!AC9 -> 0 | Y34: =Calculations!AD9 -> 0 | Z34: =Calculations!Y9 -> 0 | AA34: =Calculations!Z9 -> 0 | AB34: =P34 -> 0.021360723 | AC34: =Q34 -> 2.0478761 | AD34: =Calculations!AF9 -> 0 | AE34: =Calculations!AG9 -> 0 | AF34: No | AG34: No | AH34: No risk. | AI34: More vulnerable | AJ34: Strategic Recommendation B | AK34: Level 2 SFRA required due to high and/or medium risk from surface water sources. | AL34: Carry out Level 2 SFRA to further assess risk. However, for sites with only a small area at risk, depending on the spatial variability of risk, it may be possible to address risk through policy wording.
B35: =Calculations!A10 -> 9 | C35: =Calculations!B10 -> Tennyson Mill | D35: =Calculations!C10 -> Housing | E35: =Calculations!D10 -> 0.90310482 | F35: =Calculations!H10 -> 0.90310482 | G35: =Calculations!L10 -> 100 | H35: =Calculations!G10 -> 0 | I35: =Calculations!K10 -> 0 | J35: =Calculations!F10 -> 0 | K35: =Calculations!J10 -> 0 | L35: =Calculations!E10 -> 0 | M35: =Calculations!I10 -> 0 | N35: =Calculations!P10 -> 0.90310482 | O35: =Calculations!T10 -> 100 | P35: =Calculations!O10 -> 0 | Q35: =Calculations!S10 -> 0 | R35: =Calculations!N10 -> 0 | S35: =Calculations!R10 -> 0 | T35: =Calculations!M10 -> 0 | U35: =Calculations!Q10 -> 0 | V35: =Calculations!AA10 -> 0 | W35: =Calculations!AB10 -> 0 | X35: =Calculations!AC10 -> 0 | Y35: =Calculations!AD10 -> 0 | Z35: =Calculations!Y10 -> 0 | AA35: =Calculations!Z10 -> 0 | AB35: =P35 -> 0 | AC35: =Q35 -> 0 | AD35: =Calculations!AF10 -> 0 | AE35: =Calculations!AG10 -> 0 | AF35: No | AG35: No | AH35: There is a risk of groundwater emergence to surface and subsurface assets. There is the possibility of groundwater emerging at the surface locally. | AI35: More vulnerable | AJ35: Strategic Recommendation C | AK35: Progress to developer-led FRA. Site is at high risk from groundwater emergence. | AL35: Site appropriate to allocate. Developer-led FRA required. Planning permission subject to FRA.
B36: =Calculations!A11 -> 10 | C36: =Calculations!B11 -> Gilnow Mill | D36: =Calculations!C11 -> Housing | E36: =Calculations!D11 -> 1.648633 | F36: =Calculations!H11 -> 1.208552e-06 | G36: =Calculations!L11 -> 7.3306308e-05 | H36: =Calculations!G11 -> 0.022015821 | I36: =Calculations!K11 -> 1.3353985 | J36: =Calculations!F11 -> 0.7021545 | K36: =Calculations!J11 -> 42.590103 | L36: =Calculations!E11 -> 0.9244615 | M36: =Calculations!I11 -> 56.074425 | N36: =Calculations!P11 -> 0.18993062 | O36: =Calculations!T11 -> 11.520491 | P36: =Calculations!O11 -> 0.1757948 | Q36: =Calculations!S11 -> 10.663064 | R36: =Calculations!N11 -> 0.88195164 | S36: =Calculations!R11 -> 53.495934 | T36: =Calculations!M11 -> 0.40095597 | U36: =Calculations!Q11 -> 24.32051 | V36: =Calculations!AA11 -> 2.1049182e-07 | W36: =Calculations!AB11 -> 1.2767658e-05 | X36: =Calculations!AC11 -> 0.00060303382 | Y36: =Calculations!AD11 -> 0.036577808 | Z36: =Calculations!Y11 -> 0.70295507 | AA36: =Calculations!Z11 -> 42.638662 | AB36: =P36 -> 0.1757948 | AC36: =Q36 -> 10.663064 | AD36: =Calculations!AF11 -> 1.2122502 | AE36: =Calculations!AG11 -> 73.530629 | AF36: N/A | AG36: No | AH36: No risk. | AI36: More vulnerable | AJ36: Strategic Recommendation A | AK36: Recommend for withdrawal if built development cannot avoid Flood Zone 3b. Site is at risk from reservoir flooding. | AL36: Development not permitted in Flood Zone 3b. Check whether site boundary can be redrawn or whether it may be possible to incorporate functional floodplain into site layout and design as open greenspace. This may be possible for sites where percentage area of functional floodplain is lower. Site should be withdrawn if these criteria cannot be met. A Level 2 SFRA may be required to inform this process.
B37: =Calculations!A12 -> 11 | C37: =Calculations!B12 -> Dinsdale Drive | D37: =Calculations!C12 -> Housing | E37: =Calculations!D12 -> 0.72507362 | F37: =Calculations!H12 -> 0.72507362 | G37: =Calculations!L12 -> 100 | H37: =Calculations!G12 -> 0 | I37: =Calculations!K12 -> 0 | J37: =Calculations!F12 -> 0 | K37: =Calculations!J12 -> 0 | L37: =Calculations!E12 -> 0 | M37: =Calculations!I12 -> 0 | N37: =Calculations!P12 -> 0.66515553 | O37: =Calculations!T12 -> 91.736276 | P37: =Calculations!O12 -> 0.038856535 | Q37: =Calculations!S12 -> 5.3589779 | R37: =Calculations!N12 -> 0.020760911 | S37: =Calculations!R12 -> 2.8632832 | T37: =Calculations!M12 -> 0.00030063897 | U37: =Calculations!Q12 -> 0.041463234 | V37: =Calculations!AA12 -> 0 | W37: =Calculations!AB12 -> 0 | X37: =Calculations!AC12 -> 0 | Y37: =Calculations!AD12 -> 0 | Z37: =Calculations!Y12 -> 0 | AA37: =Calculations!Z12 -> 0 | AB37: =P37 -> 0.038856535 | AC37: =Q37 -> 5.3589779 | AD37: =Calculations!AF12 -> 0 | AE37: =Calculations!AG12 -> 0 | AF37: No | AG37: No | AH37: There is a risk of groundwater emergence to surface and subsurface assets. There is the possibility of groundwater emerging at the surface locally. | AI37: More vulnerable | AJ37: Strategic Recommendation B | AK37: Level 2 SFRA required due to high and/or medium risk from surface water sources. Site is at high risk from groundwater emergence. | AL37: Carry out Level 2 SFRA to further assess risk. However, for sites with only a small area at risk, depending on the spatial variability of risk, it may be possible to address risk through policy wording.
B38: =Calculations!A13 -> 12 | C38: =Calculations!B13 -> Garnet Fold Farm | D38: =Calculations!C13 -> Housing | E38: =Calculations!D13 -> 4.0559892 | F38: =Calculations!H13 -> 4.0559892 | G38: =Calculations!L13 -> 100 | H38: =Calculations!G13 -> 0 | I38: =Calculations!K13 -> 0 | J38: =Calculations!F13 -> 0 | K38: =Calculations!J13 -> 0 | L38: =Calculations!E13 -> 0 | M38: =Calculations!I13 -> 0 | N38: =Calculations!P13 -> 3.7926905 | O38: =Calculations!T13 -> 93.508396 | P38: =Calculations!O13 -> 0.16260383 | Q38: =Calculations!S13 -> 4.0089807 | R38: =Calculations!N13 -> 0.065205862 | S38: =Calculations!R13 -> 1.6076439 | T38: =Calculations!M13 -> 0.035489081 | U38: =Calculations!Q13 -> 0.87497966 | V38: =Calculations!AA13 -> 0 | W38: =Calculations!AB13 -> 0 | X38: =Calculations!AC13 -> 0 | Y38: =Calculations!AD13 -> 0 | Z38: =Calculations!Y13 -> 0 | AA38: =Calculations!Z13 -> 0 | AB38: =P38 -> 0.16260383 | AC38: =Q38 -> 4.0089807 | AD38: =Calculations!AF13 -> 0 | AE38: =Calculations!AG13 -> 0 | AF38: Yes | AG38: No | AH38: There is a risk of groundwater emergence to surface and subsurface assets. There is the possibility of groundwater emerging at the surface locally. | AI38: More vulnerable | AJ38: Strategic Recommendation B | AK38: Level 2 SFRA required due to high and/or medium risk from surface water sources. Site is at high risk from groundwater emergence. | AL38: Carry out Level 2 SFRA to further assess risk. However, for sites with only a small area at risk, depending on the spatial variability of risk, it may be possible to address risk through policy wording.
... B43: =Calculations!A18 -> 17 | C43: =Calculations!B18 -> Astley Lane | D43: =Calculations!C18 -> Housing | E43: =Calculations!D18 -> 2.9087156 | F43: =Calculations!H18 -> 2.6762286 | G43: =Calculations!L18 -> 92.007227 | H43: =Calculations!G18 -> 0.019251465 | I43: =Calculations!K18 -> 0.66185449 | J43: =Calculations!F18 -> 0.020149918 | K43: =Calculations!J18 -> 0.69274279 | L43: =Calculations!E18 -> 0.19308566 | M43: =Calculations!I18 -> 6.638176 | N43: =Calculations!P18 -> 2.8561756 | O43: =Calculations!T18 -> 98.193705 | P43: =Calculations!O18 -> 0.052489827 | Q43: =Calculations!S18 -> 1.8045706 | R43: =Calculations!N18 -> 5.0161201e-05 | S43: =Calculations!R18 -> 0.0017245138 | T43: =Calculations!M18 -> 0 | U43: =Calculations!Q18 -> 0 | V43: =Calculations!AA18 -> 0.040050128 | W43: =Calculations!AB18 -> 1.3769008 | X43: =Calculations!AC18 -> 0 | Y43: =Calculations!AD18 -> 0 | Z43: =Calculations!Y18 -> 0.02254908 | AA43: =Calculations!Z18 -> 0.77522463 | AB43: =P43 -> 0.052489827 | AC43: =Q43 -> 1.8045706 | AD43: =Calculations!AF18 -> 0 | AE43: =Calculations!AG18 -> 0 | AF43: N/A | AG43: No | AH43: No risk. | AI43: More vulnerable | AJ43: Strategic Recommendation A | AK43: Recommend for withdrawal if built development cannot avoid Flood Zone 3b. | AL43: Development not permitted in Flood Zone 3b. Check whether site boundary can be redrawn or whether it may be possible to incorporate functional floodplain into site layout and design as open greenspace. This may be possible for sites where percentage area of functional floodplain is lower. Site should be withdrawn if these criteria cannot be met. A Level 2 SFRA may be required to inform this process.
B44: =Calculations!A19 -> 18 | C44: =Calculations!B19 -> Dealey Road | D44: =Calculations!C19 -> Housing | E44: =Calculations!D19 -> 1.0100805 | F44: =Calculations!H19 -> 1.0100805 | G44: =Calculations!L19 -> 100 | H44: =Calculations!G19 -> 0 | I44: =Calculations!K19 -> 0 | J44: =Calculations!F19 -> 0 | K44: =Calculations!J19 -> 0 | L44: =Calculations!E19 -> 0 | M44: =Calculations!I19 -> 0 | N44: =Calculations!P19 -> 0.48870911 | O44: =Calculations!T19 -> 48.383184 | P44: =Calculations!O19 -> 0.16332427 | Q44: =Calculations!S19 -> 16.169431 | R44: =Calculations!N19 -> 0.075551912 | S44: =Calculations!R19 -> 7.4797911 | T44: =Calculations!M19 -> 0.28249521 | U44: =Calculations!Q19 -> 27.967593 | V44: =Calculations!AA19 -> 0 | W44: =Calculations!AB19 -> 0 | X44: =Calculations!AC19 -> 0 | Y44: =Calculations!AD19 -> 0 | Z44: =Calculations!Y19 -> 0 | AA44: =Calculations!Z19 -> 0 | AB44: =P44 -> 0.16332427 | AC44: =Q44 -> 16.169431 | AD44: =Calculations!AF19 -> 0 | AE44: =Calculations!AG19 -> 0 | AF44: No | AG44: Yes | AH44: There is a risk of groundwater emergence to surface and subsurface assets. There is the possibility of groundwater emerging at the surface locally. | AI44: More vulnerable | AJ44: Strategic Recommendation B | AK44: Level 2 SFRA required due to high and/or medium risk from surface water sources. Site is at high risk from groundwater emergence. | AL44: Carry out Level 2 SFRA to further assess risk. However, for sites with only a small area at risk, depending on the spatial variability of risk, it may be possible to address risk through policy wording. | AN44: Agree with recommendation more detailed work required, likely development is viable but the number of units is small
B45: =Calculations!A20 -> 19 | C45: =Calculations!B20 -> Heaton Grange | D45: =Calculations!C20 -> Housing | E45: =Calculations!D20 -> 1.7730201 | F45: =Calculations!H20 -> 1.7730201 | G45: =Calculations!L20 -> 100 | H45: =Calculations!G20 -> 0 | I45: =Calculations!K20 -> 0 | J45: =Calculations!F20 -> 0 | K45: =Calculations!J20 -> 0 | L45: =Calculations!E20 -> 0 | M45: =Calculations!I20 -> 0 | N45: =Calculations!P20 -> 1.7289828 | O45: =Calculations!T20 -> 97.516254 | P45: =Calculations!O20 -> 0.010028379 | Q45: =Calculations!S20 -> 0.56561 | R45: =Calculations!N20 -> 0.0040030985 | S45: =Calculations!R20 -> 0.22577852 | T45: =Calculations!M20 -> 0.030005841 | U45: =Calculations!Q20 -> 1.6923576 | V45: =Calculations!AA20 -> 0 | W45: =Calculations!AB20 -> 0 | X45: =Calculations!AC20 -> 0 | Y45: =Calculations!AD20 -> 0 | Z45: =Calculations!Y20 -> 0 | AA45: =Calculations!Z20 -> 0 | AB45: =P45 -> 0.010028379 | AC45: =Q45 -> 0.56561 | AD45: =Calculations!AF20 -> 0 | AE45: =Calculations!AG20 -> 0 | AF45: Yes | AG45: Yes | AH45: There is a risk of groundwater emergence to surface and subsurface assets. There is the possibility of groundwater emerging at the surface locally. | AI45: More vulnerable | AJ45: Strategic Recommendation B | AK45: Level 2 SFRA required due to high and/or medium risk from surface water sources. Site is at high risk from groundwater emergence. | AL45: Carry out Level 2 SFRA to further assess risk. However, for sites with only a small area at risk, depending on the spatial variability of risk, it may be possible to address risk through policy wording. | AN45: Flood risk area is very small and localised
B46: =Calculations!A21 -> 20 | C46: =Calculations!B21 -> Garthmere | D46: =Calculations!C21 -> Housing | E46: =Calculations!D21 -> 0.76992574 | F46: =Calculations!H21 -> 0.76992574 | G46: =Calculations!L21 -> 100 | H46: =Calculations!G21 -> 0 | I46: =Calculations!K21 -> 0 | J46: =Calculations!F21 -> 0 | K46: =Calculations!J21 -> 0 | L46: =Calculations!E21 -> 0 | M46: =Calculations!I21 -> 0 | N46: =Calculations!P21 -> 0.76992574 | O46: =Calculations!T21 -> 100 | P46: =Calculations!O21 -> 0 | Q46: =Calculations!S21 -> 0 | R46: =Calculations!N21 -> 0 | S46: =Calculations!R21 -> 0 | T46: =Calculations!M21 -> 0 | U46: =Calculations!Q21 -> 0 | V46: =Calculations!AA21 -> 0 | W46: =Calculations!AB21 -> 0 | X46: =Calculations!AC21 -> 0 | Y46: =Calculations!AD21 -> 0 | Z46: =Calculations!Y21 -> 0 | AA46: =Calculations!Z21 -> 0 | AB46: =P46 -> 0 | AC46: =Q46 -> 0 | AD46: =Calculations!AF21 -> 0 | AE46: =Calculations!AG21 -> 0 | AF46: Yes | AG46: No | AH46: There is a risk of groundwater emergence to surface and subsurface assets. There is the possibility of groundwater emerging at the surface locally. | AI46: More vulnerable | AJ46: Strategic Recommendation C | AK46: Progress to developer-led FRA. Site is at high risk from groundwater emergence. | AL46: Site appropriate to allocate. Developer-led FRA required. Planning permission subject to FRA.
B47: =Calculations!A22 -> 21 | C47: =Calculations!B22 -> Darwen Road #4 | D47: =Calculations!C22 -> Housing | E47: =Calculations!D22 -> 0.23038813 | F47: =Calculations!H22 -> 0.23038813 | G47: =Calculations!L22 -> 100 | H47: =Calculations!G22 -> 0 | I47: =Calculations!K22 -> 0 | J47: =Calculations!F22 -> 0 | K47: =Calculations!J22 -> 0 | L47: =Calculations!E22 -> 0 | M47: =Calculations!I22 -> 0 | N47: =Calculations!P22 -> 0.22980124 | O47: =Calculations!T22 -> 99.745258 | P47: =Calculations!O22 -> 0.00058689426 | Q47: =Calculations!S22 -> 0.25474153 | R47: =Calculations!N22 -> 0 | S47: =Calculations!R22 -> 0 | T47: =Calculations!M22 -> 0 | U47: =Calculations!Q22 -> 0 | V47: =Calculations!AA22 -> 0 | W47: =Calculations!AB22 -> 0 | X47: =Calculations!AC22 -> 0 | Y47: =Calculations!AD22 -> 0 | Z47: =Calculations!Y22 -> 0 | AA47: =Calculations!Z22 -> 0 | AB47: =P47 -> 0.00058689426 | AC47: =Q47 -> 0.25474153 | AD47: =Calculations!AF22 -> 0 | AE47: =Calculations!AG22 -> 0 | AF47: No | AG47: Yes | AH47: No risk. | AI47: More vulnerable | AJ47: Strategic Recommendation B | AK47: Level 2 SFRA required due to future surface water risk (using the low risk surface water extent as a proxy for the medium risk plus climate change extent). | AL47: Carry out Level 2 SFRA to further assess risk. However, for sites with only a small area at risk, depending on the spatial variability of risk, it may be possible to address risk through policy wording. | AN47: Advise Recommendation C
B48: =Calculations!A23 -> 22 | C48: =Calculations!B23 -> Fold Road #1 | D48: =Calculations!C23 -> Housing | E48: =Calculations!D23 -> 1.5424126 | F48: =Calculations!H23 -> 1.5424126 | G48: =Calculations!L23 -> 100 | H48: =Calculations!G23 -> 0 | I48: =Calculations!K23 -> 0 | J48: =Calculations!F23 -> 0 | K48: =Calculations!J23 -> 0 | L48: =Calculations!E23 -> 0 | M48: =Calculations!I23 -> 0 | N48: =Calculations!P23 -> 1.3211828 | O48: =Calculations!T23 -> 85.656904 | P48: =Calculations!O23 -> 0.04402979 | Q48: =Calculations!S23 -> 2.8546053 | R48: =Calculations!N23 -> 0.10487659 | S48: =Calculations!R23 -> 6.7995164 | T48: =Calculations!M23 -> 0.072323331 | U48: =Calculations!Q23 -> 4.6889745 | V48: =Calculations!AA23 -> 0 | W48: =Calculations!AB23 -> 0 | X48: =Calculations!AC23 -> 0 | Y48: =Calculations!AD23 -> 0 | Z48: =Calculations!Y23 -> 0 | AA48: =Calculations!Z23 -> 0 | AB48: =P48 -> 0.04402979 | AC48: =Q48 -> 2.8546053 | AD48: =Calculations!AF23 -> 0 | AE48: =Calculations!AG23 -> 0 | AF48: No | AG48: Yes | AH48: There is a risk of emergence to subsurface assets, but surface manifestation of groundwater is unlikely. | AI48: More vulnerable | AJ48: Strategic Recommendation B | AK48: Level 2 SFRA required due to high and/or medium risk from surface water sources. | AL48: Carry out Level 2 SFRA to further assess risk. However, for sites with only a small area at risk, depending on the spatial variability of risk, it may be possible to address risk through policy wording. | AN48: Surface water flood risk caused by existing buildings preventing overland flow
B49: =Calculations!A24 -> 23 | C49: =Calculations!B24 -> Back Bury Road South | D49: =Calculations!C24 -> Housing | E49: =Calculations!D24 -> 0.49024481 | F49: =Calculations!H24 -> 0.49024481 | G49: =Calculations!L24 -> 100 | H49: =Calculations!G24 -> 0 | I49: =Calculations!K24 -> 0 | J49: =Calculations!F24 -> 0 | K49: =Calculations!J24 -> 0 | L49: =Calculations!E24 -> 0 | M49: =Calculations!I24 -> 0 | N49: =Calculations!P24 -> 0.49024481 | O49: =Calculations!T24 -> 100 | P49: =Calculations!O24 -> 0 | Q49: =Calculations!S24 -> 0 | R49: =Calculations!N24 -> 0 | S49: =Calculations!R24 -> 0 | T49: =Calculations!M24 -> 0 | U49: =Calculations!Q24 -> 0 | V49: =Calculations!AA24 -> 0 | W49: =Calculations!AB24 -> 0 | X49: =Calculations!AC24 -> 0 | Y49: =Calculations!AD24 -> 0 | Z49: =Calculations!Y24 -> 0 | AA49: =Calculations!Z24 -> 0 | AB49: =P49 -> 0 | AC49: =Q49 -> 0 | AD49: =Calculations!AF24 -> 0 | AE49: =Calculations!AG24 -> 0 | AF49: No | AG49: Yes | AH49: No risk. | AI49: More vulnerable | AJ49: Strategic Recommendation D | AK49: Development could be allocated on flood risk grounds based on the evidence of this Level 1 SFRA. | AL49: LPA to make decision on allocation. | AN49: Agree with recommendation D
B50: =Calculations!A25 -> 24 | C50: =Calculations!B25 -> Deepdale Road #1 | D50: =Calculations!C25 -> Housing | E50: =Calculations!D25 -> 0.491472 | F50: =Calculations!H25 -> 0.491472 | G50: =Calculations!L25 -> 100 | H50: =Calculations!G25 -> 0 | I50: =Calculations!K25 -> 0 | J50: =Calculations!F25 -> 0 | K50: =Calculations!J25 -> 0 | L50: =Calculations!E25 -> 0 | M50: =Calculations!I25 -> 0 | N50: =Calculations!P25 -> 0.48790787 | O50: =Calculations!T25 -> 99.274806 | P50: =Calculations!O25 -> 0.0033329362 | Q50: =Calculations!S25 -> 0.67815384 | R50: =Calculations!N25 -> 2.5727224e-06 | S50: =Calculations!R25 -> 0.00052347284 | T50: =Calculations!M25 -> 0.00022861658 | U50: =Calculations!Q25 -> 0.046516705 | V50: =Calculations!AA25 -> 0 | W50: =Calculations!AB25 -> 0 | X50: =Calculations!AC25 -> 0 | Y50: =Calculations!AD25 -> 0 | Z50: =Calculations!Y25 -> 0 | AA50: =Calculations!Z25 -> 0 | AB50: =P50 -> 0.0033329362 | AC50: =Q50 -> 0.67815384 | AD50: =Calculations!AF25 -> 0 | AE50: =Calculations!AG25 -> 0 | AF50: No | AG50: Yes | AH50: There is a risk of emergence to subsurface assets, but surface manifestation of groundwater is unlikely. | AI50: More vulnerable | AJ50: Strategic Recommendation B | AK50: Level 2 SFRA required due to high and/or medium risk from surface water sources. | AL50: Carry out Level 2 SFRA to further assess risk. However, for sites with only a small area at risk, depending on the spatial variability of risk, it may be possible to address risk through policy wording. | AN50: Flood risk area is very small and shallow
B51: =Calculations!A26 -> 25 | C51: =Calculations!B26 -> Wasdale Avenue | D51: =Calculations!C26 -> Housing | E51: =Calculations!D26 -> 0.34320108 | F51: =Calculations!H26 -> 0.34320108 | G51: =Calculations!L26 -> 100 | H51: =Calculations!G26 -> 0 | I51: =Calculations!K26 -> 0 | J51: =Calculations!F26 -> 0 | K51: =Calculations!J26 -> 0 | L51: =Calculations!E26 -> 0 | M51: =Calculations!I26 -> 0 | N51: =Calculations!P26 -> 0.34320108 | O51: =Calculations!T26 -> 100 | P51: =Calculations!O26 -> 0 | Q51: =Calculations!S26 -> 0 | R51: =Calculations!N26 -> 0 | S51: =Calculations!R26 -> 0 | T51: =Calculations!M26 -> 0 | U51: =Calculations!Q26 -> 0 | V51: =Calculations!AA26 -> 0 | W51: =Calculations!AB26 -> 0 | X51: =Calculations!AC26 -> 0 | Y51: =Calculations!AD26 -> 0 | Z51: =Calculations!Y26 -> 0 | AA51: =Calculations!Z26 -> 0 | AB51: =P51 -> 0 | AC51: =Q51 -> 0 | AD51: =Calculations!AF26 -> 0 | AE51: =Calculations!AG26 -> 0 | AF51: No | AG51: No | AH51: Groundwater emergence is not likley. | AI51: More vulnerable | AJ51: Strategic Recommendation D | AK51: Development could be allocated on flood risk grounds based on the evidence of this Level 1 SFRA. | AL51: LPA to make decision on allocation.
B52: =Calculations!A27 -> 26 | C52: =Calculations!B27 -> Site of former St Catherine's Acacemy Primary | D52: =Calculations!C27 -> Housing | E52: =Calculations!D27 -> 1.8174448 | F52: =Calculations!H27 -> 1.8174448 | G52: =Calculations!L27 -> 100 | H52: =Calculations!G27 -> 0 | I52: =Calculations!K27 -> 0 | J52: =Calculations!F27 -> 0 | K52: =Calculations!J27 -> 0 | L52: =Calculations!E27 -> 0 | M52: =Calculations!I27 -> 0 | N52: =Calculations!P27 -> 1.7770132 | O52: =Calculations!T27 -> 97.775362 | P52: =Calculations!O27 -> 0.040431569 | Q52: =Calculations!S27 -> 2.2246381 | R52: =Calculations!N27 -> 0 | S52: =Calculations!R27 -> 0 | T52: =Calculations!M27 -> 0 | U52: =Calculations!Q27 -> 0 | V52: =Calculations!AA27 -> 0 | W52: =Calculations!AB27 -> 0 | X52: =Calculations!AC27 -> 0 | Y52: =Calculations!AD27 -> 0 | Z52: =Calculations!Y27 -> 0 | AA52: =Calculations!Z27 -> 0 | AB52: =P52 -> 0.040431569 | AC52: =Q52 -> 2.2246381 | AD52: =Calculations!AF27 -> 0 | AE52: =Calculations!AG27 -> 0 | AF52: No | AG52: No | AH52: There is a risk of emergence to subsurface assets, but surface manifestation of groundwater is unlikely. | AI52: More vulnerable | AJ52: Strategic Recommendation B | AK52: Level 2 SFRA required due to future surface water risk (using the low risk surface water extent as a proxy for the medium risk plus climate change extent). | AL52: Carry out Level 2 SFRA to further assess risk. However, for sites with only a small area at risk, depending on the spatial variability of risk, it may be possible to address risk through policy wording. | AN52: Flood risk area is small and localised
B53: =Calculations!A28 -> 27 | C53: =Calculations!B28 -> Earls Farm (West) | D53: =Calculations!C28 -> Housing | E53: =Calculations!D28 -> 2.8149494 | F53: =Calculations!H28 -> 2.8149494 | G53: =Calculations!L28 -> 100 | H53: =Calculations!G28 -> 0 | I53: =Calculations!K28 -> 0 | J53: =Calculations!F28 -> 0 | K53: =Calculations!J28 -> 0 | L53: =Calculations!E28 -> 0 | M53: =Calculations!I28 -> 0 | N53: =Calculations!P28 -> 2.7864387 | O53: =Calculations!T28 -> 98.987169 | P53: =Calculations!O28 -> 0.028510691 | Q53: =Calculations!S28 -> 1.0128314 | R53: =Calculations!N28 -> 0 | S53: =Calculations!R28 -> 0 | T53: =Calculations!M28 -> 0 | U53: =Calculations!Q28 -> 0 | V53: =Calculations!AA28 -> 0 | W53: =Calculations!AB28 -> 0 | X53: =Calculations!AC28 -> 0 | Y53: =Calculations!AD28 -> 0 | Z53: =Calculations!Y28 -> 0 | AA53: =Calculations!Z28 -> 0 | AB53: =P53 -> 0.028510691 | AC53: =Q53 -> 1.0128314 | AD53: =Calculations!AF28 -> 0 | AE53: =Calculations!AG28 -> 0 | AF53: No | AG53: No | AH53: There is a risk of emergence to subsurface assets, but surface manifestation of groundwater is unlikely. | AI53: More vulnerable | AJ53: Strategic Recommendation B | AK53: Level 2 SFRA required due to future surface water risk (using the low risk surface water extent as a proxy for the medium risk plus climate change extent). | AL53: Carry out Level 2 SFRA to further assess risk. However, for sites with only a small area at risk, depending on the spatial variability of risk, it may be possible to address risk through policy wording. | AN53: Flood risk area is small and localised
B54: =Calculations!A29 -> 28 | C54: =Calculations!B29 -> Moss Rose Mill | D54: =Calculations!C29 -> Housing | E54: =Calculations!D29 -> 1.3301091 | F54: =Calculations!H29 -> 1.3301091 | G54: =Calculations!L29 -> 100 | H54: =Calculations!G29 -> 0 | I54: =Calculations!K29 -> 0 | J54: =Calculations!F29 -> 0 | K54: =Calculations!J29 -> 0 | L54: =Calculations!E29 -> 0 | M54: =Calculations!I29 -> 0 | N54: =Calculations!P29 -> 1.2003544 | O54: =Calculations!T29 -> 90.244801 | P54: =Calculations!O29 -> 0.069885478 | Q54: =Calculations!S29 -> 5.254116 | R54: =Calculations!N29 -> 0.042255536 | S54: =Calculations!R29 -> 3.1768472 | T54: =Calculations!M29 -> 0.01761378 | U54: =Calculations!Q29 -> 1.3242357 | V54: =Calculations!AA29 -> 0 | W54: =Calculations!AB29 -> 0 | X54: =Calculations!AC29 -> 0 | Y54: =Calculations!AD29 -> 0 | Z54: =Calculations!Y29 -> 0 | AA54: =Calculations!Z29 -> 0 | AB54: =P54 -> 0.069885478 | AC54: =Q54 -> 5.254116 | AD54: =Calculations!AF29 -> 0 | AE54: =Calculations!AG29 -> 0 | AF54: No | AG54: No | AH54: No risk. | AI54: More vulnerable | AJ54: Strategic Recommendation B | AK54: Level 2 SFRA required due to high and/or medium risk from surface water sources. | AL54: Carry out Level 2 SFRA to further assess risk. However, for sites with only a small area at risk, depending on the spatial variability of risk, it may be possible to address risk through policy wording.
B55: =Calculations!A30 -> 29 | C55: =Calculations!B30 -> Radcliffe Road | D55: =Calculations!C30 -> Housing | E55: =Calculations!D30 -> 0.46588671 | F55: =Calculations!H30 -> 0.46588671 | G55: =Calculations!L30 -> 100 | H55: =Calculations!G30 -> 0 | I55: =Calculations!K30 -> 0 | J55: =Calculations!F30 -> 0 | K55: =Calculations!J30 -> 0 | L55: =Calculations!E30 -> 0 | M55: =Calculations!I30 -> 0 | N55: =Calculations!P30 -> 0.46544898 | O55: =Calculations!T30 -> 99.906044 | P55: =Calculations!O30 -> 1.4661728e-05 | Q55: =Calculations!S30 -> 0.0031470585 | R55: =Calculations!N30 -> 0.0003996755 | S55: =Calculations!R30 -> 0.08578813 | T55: =Calculations!M30 -> 2.3393486e-05 | U55: =Calculations!Q30 -> 0.005021282 | V55: =Calculations!AA30 -> 0 | W55: =Calculations!AB30 -> 0 | X55: =Calculations!AC30 -> 0 | Y55: =Calculations!AD30 -> 0 | Z55: =Calculations!Y30 -> 0 | AA55: =Calculations!Z30 -> 0 | AB55: =P55 -> 1.4661728e-05 | AC55: =Q55 -> 0.0031470585 | AD55: =Calculations!AF30 -> 0 | AE55: =Calculations!AG30 -> 0 | AF55: No | AG55: No | AH55: No risk. | AI55: More vulnerable | AJ55: Strategic Recommendation B | AK55: Level 2 SFRA required due to high and/or medium risk from surface water sources. | AL55: Carry out Level 2 SFRA to further assess risk. However, for sites with only a small area at risk, depending on the spatial variability of risk, it may be possible to address risk through policy wording. | AN55: Flood risk area is very small and shallow
B56: =Calculations!A31 -> 30 | C56: =Calculations!B31 -> Riversdale Mill | D56: =Calculations!C31 -> Housing | E56: =Calculations!D31 -> 0.62137027 | F56: =Calculations!H31 -> 0.62137027 | G56: =Calculations!L31 -> 100 | H56: =Calculations!G31 -> 0 | I56: =Calculations!K31 -> 0 | J56: =Calculations!F31 -> 0 | K56: =Calculations!J31 -> 0 | L56: =Calculations!E31 -> 0 | M56: =Calculations!I31 -> 0 | N56: =Calculations!P31 -> 0.51703235 | O56: =Calculations!T31 -> 83.208415 | P56: =Calculations!O31 -> 0.018620257 | Q56: =Calculations!S31 -> 2.9966443 | R56: =Calculations!N31 -> 0.029486238 | S56: =Calculations!R31 -> 4.7453571 | T56: =Calculations!M31 -> 0.056231419 | U56: =Calculations!Q31 -> 9.0495831 | V56: =Calculations!AA31 -> 0 | W56: =Calculations!AB31 -> 0 | X56: =Calculations!AC31 -> 0 | Y56: =Calculations!AD31 -> 0 | Z56: =Calculations!Y31 -> 0 | AA56: =Calculations!Z31 -> 0 | AB56: =P56 -> 0.018620257 | AC56: =Q56 -> 2.9966443 | AD56: =Calculations!AF31 -> 0.62137027 | AE56: =Calculations!AG31 -> 100 | AF56: No | AG56: No | AH56: There is a risk of groundwater emergence to both surface and subsurface assets. Groundwater may emerge at significant rates and has the capacity to flow overland and/or pond within any topographic low spots. | AI56: More vulnerable | AJ56: Strategic Recommendation B | AK56: Level 2 SFRA required due to high and/or medium risk from surface water sources. Site is at high risk of groundwater emergence. Site is at risk from reservoir flooding. | AL56: Carry out Level 2 SFRA to further assess risk. However, for sites with only a small area at risk, depending on the spatial variability of risk, it may be possible to address risk through policy wording.
B57: =Calculations!A32 -> 31 | C57: =Calculations!B32 -> Holcombe Close | D57: =Calculations!C32 -> Housing | E57: =Calculations!D32 -> 0.51694573 | F57: =Calculations!H32 -> 0.51694573 | G57: =Calculations!L32 -> 100 | H57: =Calculations!G32 -> 0 | I57: =Calculations!K32 -> 0 | J57: =Calculations!F32 -> 0 | K57: =Calculations!J32 -> 0 | L57: =Calculations!E32 -> 0 | M57: =Calculations!I32 -> 0 | N57: =Calculations!P32 -> 0.51521717 | O57: =Calculations!T32 -> 99.66562 | P57: =Calculations!O32 -> 0.0017285642 | Q57: =Calculations!S32 -> 0.3343802 | R57: =Calculations!N32 -> 0 | S57: =Calculations!R32 -> 0 | T57: =Calculations!M32 -> 0 | U57: =Calculations!Q32 -> 0 | V57: =Calculations!AA32 -> 0 | W57: =Calculations!AB32 -> 0 | X57: =Calculations!AC32 -> 0 | Y57: =Calculations!AD32 -> 0 | Z57: =Calculations!Y32 -> 0 | AA57: =Calculations!Z32 -> 0 | AB57: =P57 -> 0.0017285642 | AC57: =Q57 -> 0.3343802 | AD57: =Calculations!AF32 -> 0 | AE57: =Calculations!AG32 -> 0 | AF57: Yes | AG57: No | AH57: No risk. | AI57: More vulnerable | AJ57: Strategic Recommendation B | AK57: Level 2 SFRA required due to future surface water risk (using the low risk surface water extent as a proxy for the medium risk plus climate change extent). | AL57: Carry out Level 2 SFRA to further assess risk. However, for sites with only a small area at risk, depending on the spatial variability of risk, it may be possible to address risk through policy wording. | AN57: Flood risk area is small and localised
B58: =Calculations!A33 -> 32 | C58: =Calculations!B33 -> Gorses Road | D58: =Calculations!C33 -> Housing | E58: =Calculations!D33 -> 0.84228064 | F58: =Calculations!H33 -> 0.84228064 | G58: =Calculations!L33 -> 100 | H58: =Calculations!G33 -> 0 | I58: =Calculations!K33 -> 0 | J58: =Calculations!F33 -> 0 | K58: =Calculations!J33 -> 0 | L58: =Calculations!E33 -> 0 | M58: =Calculations!I33 -> 0 | N58: =Calculations!P33 -> 0.65167551 | O58: =Calculations!T33 -> 77.370353 | P58: =Calculations!O33 -> 0.051750731 | Q58: =Calculations!S33 -> 6.1441197 | R58: =Calculations!N33 -> 0.045063559 | S58: =Calculations!R33 -> 5.3501834 | T58: =Calculations!M33 -> 0.093790845 | U58: =Calculations!Q33 -> 11.135344 | V58: =Calculations!AA33 -> 0 | W58: =Calculations!AB33 -> 0 | X58: =Calculations!AC33 -> 0 | Y58: =Calculations!AD33 -> 0 | Z58: =Calculations!Y33 -> 0 | AA58: =Calculations!Z33 -> 0 | AB58: =P58 -> 0.051750731 | AC58: =Q58 -> 6.1441197 | AD58: =Calculations!AF33 -> 0 | AE58: =Calculations!AG33 -> 0 | AF58: No | AG58: No | AH58: No risk. | AI58: More vulnerable | AJ58: Strategic Recommendation B | AK58: Level 2 SFRA required due to high and/or medium risk from surface water sources. | AL58: Carry out Level 2 SFRA to further assess risk. However, for sites with only a small area at risk, depending on the spatial variability of risk, it may be possible to address risk through policy wording.
B59: =Calculations!A34 -> 33 | C59: =Calculations!B34 -> Suffolk Close | D59: =Calculations!C34 -> Housing | E59: =Calculations!D34 -> 0.440764 | F59: =Calculations!H34 -> 0.440764 | G59: =Calculations!L34 -> 100 | H59: =Calculations!G34 -> 0 | I59: =Calculations!K34 -> 0 | J59: =Calculations!F34 -> 0 | K59: =Calculations!J34 -> 0 | L59: =Calculations!E34 -> 0 | M59: =Calculations!I34 -> 0 | N59: =Calculations!P34 -> 0.18664615 | O59: =Calculations!T34 -> 42.346051 | P59: =Calculations!O34 -> 0.11280724 | Q59: =Calculations!S34 -> 25.593568 | R59: =Calculations!N34 -> 0.023618489 | S59: =Calculations!R34 -> 5.3585339 | T59: =Calculations!M34 -> 0.11769213 | U59: =Calculations!Q34 -> 26.701847 | V59: =Calculations!AA34 -> 0 | W59: =Calculations!AB34 -> 0 | X59: =Calculations!AC34 -> 0 | Y59: =Calculations!AD34 -> 0 | Z59: =Calculations!Y34 -> 0 | AA59: =Calculations!Z34 -> 0 | AB59: =P59 -> 0.11280724 | AC59: =Q59 -> 25.593568 | AD59: =Calculations!AF34 -> 0 | AE59: =Calculations!AG34 -> 0 | AF59: No | AG59: No | AH59: No risk. | AI59: More vulnerable | AJ59: Strategic Recommendation B | AK59: Level 2 SFRA required due to high and/or medium risk from surface water sources. | AL59: Carry out Level 2 SFRA to further assess risk. However, for sites with only a small area at risk, depending on the spatial variability of risk, it may be possible to address risk through policy wording.
B60: =Calculations!A35 -> 34 | C60: =Calculations!B35 -> Long Lane/Radcliffe Road | D60: =Calculations!C35 -> Housing | E60: =Calculations!D35 -> 1.0305781 | F60: =Calculations!H35 -> 1.0305781 | G60: =Calculations!L35 -> 100 | H60: =Calculations!G35 -> 0 | I60: =Calculations!K35 -> 0 | J60: =Calculations!F35 -> 0 | K60: =Calculations!J35 -> 0 | L60: =Calculations!E35 -> 0 | M60: =Calculations!I35 -> 0 | N60: =Calculations!P35 -> 0.84860825 | O60: =Calculations!T35 -> 82.342937 | P60: =Calculations!O35 -> 0.07571525 | Q60: =Calculations!S35 -> 7.3468718 | R60: =Calculations!N35 -> 0.040603313 | S60: =Calculations!R35 -> 3.939858 | T60: =Calculations!M35 -> 0.06565126 | U60: =Calculations!Q35 -> 6.3703335 | V60: =Calculations!AA35 -> 0 | W60: =Calculations!AB35 -> 0 | X60: =Calculations!AC35 -> 0 | Y60: =Calculations!AD35 -> 0 | Z60: =Calculations!Y35 -> 0 | AA60: =Calculations!Z35 -> 0 | AB60: =P60 -> 0.07571525 | AC60: =Q60 -> 7.3468718 | AD60: =Calculations!AF35 -> 0 | AE60: =Calculations!AG35 -> 0 | AF60: No | AG60: No | AH60: No risk. | AI60: More vulnerable | AJ60: Strategic Recommendation B | AK60: Level 2 SFRA required due to high and/or medium risk from surface water sources. | AL60: Carry out Level 2 SFRA to further assess risk. However, for sites with only a small area at risk, depending on the spatial variability of risk, it may be possible to address risk through policy wording.
B61: =Calculations!A36 -> 35 | C61: =Calculations!B36 -> Redgate Way #1 | D61: =Calculations!C36 -> Housing | E61: =Calculations!D36 -> 1.5701681 | F61: =Calculations!H36 -> 1.5701681 | G61: =Calculations!L36 -> 100 | H61: =Calculations!G36 -> 0 | I61: =Calculations!K36 -> 0 | J61: =Calculations!F36 -> 0 | K61: =Calculations!J36 -> 0 | L61: =Calculations!E36 -> 0 | M61: =Calculations!I36 -> 0 | N61: =Calculations!P36 -> 1.324719 | O61: =Calculations!T36 -> 84.367971 | P61: =Calculations!O36 -> 0.24059083 | Q61: =Calculations!S36 -> 15.322616 | R61: =Calculations!N36 -> 0.0024999138 | S61: =Calculations!R36 -> 0.15921313 | T61: =Calculations!M36 -> 0.0023583923 | U61: =Calculations!Q36 -> 0.15019999 | V61: =Calculations!AA36 -> 0 | W61: =Calculations!AB36 -> 0 | X61: =Calculations!AC36 -> 0 | Y61: =Calculations!AD36 -> 0 | Z61: =Calculations!Y36 -> 0 | AA61: =Calculations!Z36 -> 0 | AB61: =P61 -> 0.24059083 | AC61: =Q61 -> 15.322616 | AD61: =Calculations!AF36 -> 0 | AE61: =Calculations!AG36 -> 0 | AF61: No | AG61: No | AH61: No risk. | AI61: More vulnerable | AJ61: Strategic Recommendation B | AK61: Level 2 SFRA required due to high and/or medium risk from surface water sources. | AL61: Carry out Level 2 SFRA to further assess risk. However, for sites with only a small area at risk, depending on the spatial variability of risk, it may be possible to address risk through policy wording.
B62: =Calculations!A37 -> 36 | C62: =Calculations!B37 -> Carr Drive | D62: =Calculations!C37 -> Housing | E62: =Calculations!D37 -> 1.1227494 | F62: =Calculations!H37 -> 1.1227494 | G62: =Calculations!L37 -> 100 | H62: =Calculations!G37 -> 0 | I62: =Calculations!K37 -> 0 | J62: =Calculations!F37 -> 0 | K62: =Calculations!J37 -> 0 | L62: =Calculations!E37 -> 0 | M62: =Calculations!I37 -> 0 | N62: =Calculations!P37 -> 0.95964182 | O62: =Calculations!T37 -> 85.472486 | P62: =Calculations!O37 -> 0.12667924 | Q62: =Calculations!S37 -> 11.282949 | R62: =Calculations!N37 -> 0.015211831 | S62: =Calculations!R37 -> 1.3548733 | T62: =Calculations!M37 -> 0.021216502 | U62: =Calculations!Q37 -> 1.8896917 | V62: =Calculations!AA37 -> 0 | W62: =Calculations!AB37 -> 0 | X62: =Calculations!AC37 -> 0 | Y62: =Calculations!AD37 -> 0 | Z62: =Calculations!Y37 -> 0 | AA62: =Calculations!Z37 -> 0 | AB62: =P62 -> 0.12667924 | AC62: =Q62 -> 11.282949 | AD62: =Calculations!AF37 -> 0 | AE62: =Calculations!AG37 -> 0 | AF62: No | AG62: No | AH62: No risk. | AI62: More vulnerable | AJ62: Strategic Recommendation B | AK62: Level 2 SFRA required due to high and/or medium risk from surface water sources. | AL62: Carry out Level 2 SFRA to further assess risk. However, for sites with only a small area at risk, depending on the spatial variability of risk, it may be possible to address risk through policy wording.
B63: =Calculations!A38 -> 37 | C63: =Calculations!B38 -> Redgate Way #3 | D63: =Calculations!C38 -> Housing | E63: =Calculations!D38 -> 0.69955037 | F63: =Calculations!H38 -> 0.69955037 | G63: =Calculations!L38 -> 100 | H63: =Calculations!G38 -> 0 | I63: =Calculations!K38 -> 0 | J63: =Calculations!F38 -> 0 | K63: =Calculations!J38 -> 0 | L63: =Calculations!E38 -> 0 | M63: =Calculations!I38 -> 0 | N63: =Calculations!P38 -> 0.69942743 | O63: =Calculations!T38 -> 99.982426 | P63: =Calculations!O38 -> 0.0001229414 | Q63: =Calculations!S38 -> 0.017574346 | R63: =Calculations!N38 -> 0 | S63: =Calculations!R38 -> 0 | T63: =Calculations!M38 -> 0 | U63: =Calculations!Q38 -> 0 | V63: =Calculations!AA38 -> 0 | W63: =Calculations!AB38 -> 0 | X63: =Calculations!AC38 -> 0 | Y63: =Calculations!AD38 -> 0 | Z63: =Calculations!Y38 -> 0 | AA63: =Calculations!Z38 -> 0 | AB63: =P63 -> 0.0001229414 | AC63: =Q63 -> 0.017574346 | AD63: =Calculations!AF38 -> 0 | AE63: =Calculations!AG38 -> 0 | AF63: No | AG63: No | AH63: There is a risk of groundwater emergence to surface and subsurface assets. There is the possibility of groundwater emerging at the surface locally. | AI63: More vulnerable | AJ63: Strategic Recommendation B | AK63: Level 2 SFRA required due to future surface water risk (using the low risk surface water extent as a proxy for the medium risk plus climate change extent). Site is at high risk from groundwater emergence. | AL63: Carry out Level 2 SFRA to further assess risk. However, for sites with only a small area at risk, depending on the spatial variability of risk, it may be possible to address risk through policy wording.
B64: =Calculations!A39 -> 38 | C64: =Calculations!B39 -> Century Lodge | D64: =Calculations!C39 -> Housing | E64: =Calculations!D39 -> 0.70755627 | F64: =Calculations!H39 -> 0.70755627 | G64: =Calculations!L39 -> 100 | H64: =Calculations!G39 -> 0 | I64: =Calculations!K39 -> 0 | J64: =Calculations!F39 -> 0 | K64: =Calculations!J39 -> 0 | L64: =Calculations!E39 -> 0 | M64: =Calculations!I39 -> 0 | N64: =Calculations!P39 -> 0.41967654 | O64: =Calculations!T39 -> 59.313521 | P64: =Calculations!O39 -> 0.16441694 | Q64: =Calculations!S39 -> 23.237295 | R64: =Calculations!N39 -> 0.047037333 | S64: =Calculations!R39 -> 6.6478575 | T64: =Calculations!M39 -> 0.076425461 | U64: =Calculations!Q39 -> 10.801326 | V64: =Calculations!AA39 -> 0 | W64: =Calculations!AB39 -> 0 | X64: =Calculations!AC39 -> 0 | Y64: =Calculations!AD39 -> 0 | Z64: =Calculations!Y39 -> 0 | AA64: =Calculations!Z39 -> 0 | AB64: =P64 -> 0.16441694 | AC64: =Q64 -> 23.237295 | AD64: =Calculations!AF39 -> 0 | AE64: =Calculations!AG39 -> 0 | AF64: No | AG64: No | AH64: No risk. | AI64: More vulnerable | AJ64: Strategic Recommendation B | AK64: Level 2 SFRA required due to high and/or medium risk from surface water sources. | AL64: Carry out Level 2 SFRA to further assess risk. However, for sites with only a small area at risk, depending on the spatial variability of risk, it may be possible to address risk through policy wording. | AN64: Agree with recommendation B
B65: =Calculations!A40 -> 39 | C65: =Calculations!B40 -> Manor Garage | D65: =Calculations!C40 -> Housing | E65: =Calculations!D40 -> 0.6125793 | F65: =Calculations!H40 -> 0.6125793 | G65: =Calculations!L40 -> 100 | H65: =Calculations!G40 -> 0 | I65: =Calculations!K40 -> 0 | J65: =Calculations!F40 -> 0 | K65: =Calculations!J40 -> 0 | L65: =Calculations!E40 -> 0 | M65: =Calculations!I40 -> 0 | N65: =Calculations!P40 -> 0.52582224 | O65: =Calculations!T40 -> 85.837415 | P65: =Calculations!O40 -> 0.059478995 | Q65: =Calculations!S40 -> 9.7095992 | R65: =Calculations!N40 -> 0.016813112 | S65: =Calculations!R40 -> 2.7446425 | T65: =Calculations!M40 -> 0.010464956 | U65: =Calculations!Q40 -> 1.708343 | V65: =Calculations!AA40 -> 0 | W65: =Calculations!AB40 -> 0 | X65: =Calculations!AC40 -> 0 | Y65: =Calculations!AD40 -> 0 | Z65: =Calculations!Y40 -> 0 | AA65: =Calculations!Z40 -> 0 | AB65: =P65 -> 0.059478995 | AC65: =Q65 -> 9.7095992 | AD65: =Calculations!AF40 -> 0 | AE65: =Calculations!AG40 -> 0 | AF65: No | AG65: No | AH65: No risk. | AI65: More vulnerable | AJ65: Strategic Recommendation B | AK65: Level 2 SFRA required due to high and/or medium risk from surface water sources. | AL65: Carry out Level 2 SFRA to further assess risk. However, for sites with only a small area at risk, depending on the spatial variability of risk, it may be possible to address risk through policy wording.
B66: =Calculations!A41 -> 40 | C66: =Calculations!B41 -> Bent Street Works Mill | D66: =Calculations!C41 -> Housing | E66: =Calculations!D41 -> 0.68759929 | F66: =Calculations!H41 -> 0.68759929 | G66: =Calculations!L41 -> 100 | H66: =Calculations!G41 -> 0 | I66: =Calculations!K41 -> 0 | J66: =Calculations!F41 -> 0 | K66: =Calculations!J41 -> 0 | L66: =Calculations!E41 -> 0 | M66: =Calculations!I41 -> 0 | N66: =Calculations!P41 -> 0.57771583 | O66: =Calculations!T41 -> 84.019259 | P66: =Calculations!O41 -> 0.070709327 | Q66: =Calculations!S41 -> 10.283508 | R66: =Calculations!N41 -> 0.013686437 | S66: =Calculations!R41 -> 1.9904669 | T66: =Calculations!M41 -> 0.025487702 | U66: =Calculations!Q41 -> 3.7067667 | V66: =Calculations!AA41 -> 0 | W66: =Calculations!AB41 -> 0 | X66: =Calculations!AC41 -> 0 | Y66: =Calculations!AD41 -> 0 | Z66: =Calculations!Y41 -> 0 | AA66: =Calculations!Z41 -> 0 | AB66: =P66 -> 0.070709327 | AC66: =Q66 -> 10.283508 | AD66: =Calculations!AF41 -> 0 | AE66: =Calculations!AG41 -> 0 | AF66: No | AG66: No | AH66: No risk. | AI66: More vulnerable | AJ66: Strategic Recommendation B | AK66: Level 2 SFRA required due to high and/or medium risk from surface water sources. | AL66: Carry out Level 2 SFRA to further assess risk. However, for sites with only a small area at risk, depending on the spatial variability of risk, it may be possible to address risk through policy wording.
B67: =Calculations!A42 -> 41 | C67: =Calculations!B42 -> Harrowby Mill | D67: =Calculations!C42 -> Employment | E67: =Calculations!D42 -> 0.8603652 | F67: =Calculations!H42 -> 0.8603652 | G67: =Calculations!L42 -> 100 | H67: =Calculations!G42 -> 0 | I67: =Calculations!K42 -> 0 | J67: =Calculations!F42 -> 0 | K67: =Calculations!J42 -> 0 | L67: =Calculations!E42 -> 0 | M67: =Calculations!I42 -> 0 | N67: =Calculations!P42 -> 0.63544741 | O67: =Calculations!T42 -> 73.857871 | P67: =Calculations!O42 -> 0.22251096 | Q67: =Calculations!S42 -> 25.862386 | R67: =Calculations!N42 -> 0.0020872956 | S67: =Calculations!R42 -> 0.24260577 | T67: =Calculations!M42 -> 0.00031952302 | U67: =Calculations!Q42 -> 0.037138069 | V67: =Calculations!AA42 -> 0 | W67: =Calculations!AB42 -> 0 | X67: =Calculations!AC42 -> 0 | Y67: =Calculations!AD42 -> 0 | Z67: =Calculations!Y42 -> 0 | AA67: =Calculations!Z42 -> 0 | AB67: =P67 -> 0.22251096 | AC67: =Q67 -> 25.862386 | AD67: =Calculations!AF42 -> 0 | AE67: =Calculations!AG42 -> 0 | AF67: No | AG67: No | AH67: No risk. | AI67: Less vulnerable | AJ67: Strategic Recommendation B | AK67: Level 2 SFRA required due to high and/or medium risk from surface water sources. | AL67: Carry out Level 2 SFRA to further assess risk. However, for sites with only a small area at risk, depending on the spatial variability of risk, it may be possible to address risk through policy wording.
B68: =Calculations!A43 -> 42 | C68: =Calculations!B43 -> Clare Court | D68: =Calculations!C43 -> Housing | E68: =Calculations!D43 -> 1.4712071 | F68: =Calculations!H43 -> 1.4712071 | G68: =Calculations!L43 -> 100 | H68: =Calculations!G43 -> 0 | I68: =Calculations!K43 -> 0 | J68: =Calculations!F43 -> 0 | K68: =Calculations!J43 -> 0 | L68: =Calculations!E43 -> 0 | M68: =Calculations!I43 -> 0 | N68: =Calculations!P43 -> 1.4150186 | O68: =Calculations!T43 -> 96.180794 | P68: =Calculations!O43 -> 0.037069223 | Q68: =Calculations!S43 -> 2.5196469 | R68: =Calculations!N43 -> 0.0079104883 | S68: =Calculations!R43 -> 0.53768694 | T68: =Calculations!M43 -> 0.011208717 | U68: =Calculations!Q43 -> 0.76187212 | V68: =Calculations!AA43 -> 0 | W68: =Calculations!AB43 -> 0 | X68: =Calculations!AC43 -> 0 | Y68: =Calculations!AD43 -> 0 | Z68: =Calculations!Y43 -> 0 | AA68: =Calculations!Z43 -> 0 | AB68: =P68 -> 0.037069223 | AC68: =Q68 -> 2.5196469 | AD68: =Calculations!AF43 -> 0 | AE68: =Calculations!AG43 -> 0 | AF68: No | AG68: No | AH68: No risk. | AI68: More vulnerable | AJ68: Strategic Recommendation B | AK68: Level 2 SFRA required due to high and/or medium risk from surface water sources. | AL68: Carry out Level 2 SFRA to further assess risk. However, for sites with only a small area at risk, depending on the spatial variability of risk, it may be possible to address risk through policy wording.
B69: =Calculations!A44 -> 43 | C69: =Calculations!B44 -> Part Street | D69: =Calculations!C44 -> Housing | E69: =Calculations!D44 -> 1.6715953 | F69: =Calculations!H44 -> 1.6715953 | G69: =Calculations!L44 -> 100 | H69: =Calculations!G44 -> 0 | I69: =Calculations!K44 -> 0 | J69: =Calculations!F44 -> 0 | K69: =Calculations!J44 -> 0 | L69: =Calculations!E44 -> 0 | M69: =Calculations!I44 -> 0 | N69: =Calculations!P44 -> 1.455303 | O69: =Calculations!T44 -> 87.060724 | P69: =Calculations!O44 -> 0.057468848 | Q69: =Calculations!S44 -> 3.4379642 | R69: =Calculations!N44 -> 0.036502652 | S69: =Calculations!R44 -> 2.1837015 | T69: =Calculations!M44 -> 0.12232083 | U69: =Calculations!Q44 -> 7.3176104 | V69: =Calculations!AA44 -> 0 | W69: =Calculations!AB44 -> 0 | X69: =Calculations!AC44 -> 0 | Y69: =Calculations!AD44 -> 0 | Z69: =Calculations!Y44 -> 0 | AA69: =Calculations!Z44 -> 0 | AB69: =P69 -> 0.057468848 | AC69: =Q69 -> 3.4379642 | AD69: =Calculations!AF44 -> 0 | AE69: =Calculations!AG44 -> 0 | AF69: No | AG69: No | AH69: No risk. | AI69: More vulnerable | AJ69: Strategic Recommendation B | AK69: Level 2 SFRA required due to high and/or medium risk from surface water sources. | AL69: Carry out Level 2 SFRA to further assess risk. However, for sites with only a small area at risk, depending on the spatial variability of risk, it may be possible to address risk through policy wording.
B70: =Calculations!A45 -> 44 | C70: =Calculations!B45 -> Ox Hey Lane | D70: =Calculations!C45 -> Housing | E70: =Calculations!D45 -> 0.97149214 | F70: =Calculations!H45 -> 0.97149214 | G70: =Calculations!L45 -> 100 | H70: =Calculations!G45 -> 0 | I70: =Calculations!K45 -> 0 | J70: =Calculations!F45 -> 0 | K70: =Calculations!J45 -> 0 | L70: =Calculations!E45 -> 0 | M70: =Calculations!I45 -> 0 | N70: =Calculations!P45 -> 0.81479852 | O70: =Calculations!T45 -> 83.870829 | P70: =Calculations!O45 -> 0.010947403 | Q70: =Calculations!S45 -> 1.1268648 | R70: =Calculations!N45 -> 0.026000869 | S70: =Calculations!R45 -> 2.6763849 | T70: =Calculations!M45 -> 0.11974535 | U70: =Calculations!Q45 -> 12.325921 | V70: =Calculations!AA45 -> 0 | W70: =Calculations!AB45 -> 0 | X70: =Calculations!AC45 -> 0 | Y70: =Calculations!AD45 -> 0 | Z70: =Calculations!Y45 -> 0 | AA70: =Calculations!Z45 -> 0 | AB70: =P70 -> 0.010947403 | AC70: =Q70 -> 1.1268648 | AD70: =Calculations!AF45 -> 0 | AE70: =Calculations!AG45 -> 0 | AF70: No | AG70: Yes | AH70: No risk. | AI70: More vulnerable | AJ70: Strategic Recommendation B | AK70: Level 2 SFRA required due to high and/or medium risk from surface water sources. | AL70: Carry out Level 2 SFRA to further assess risk. However, for sites with only a small area at risk, depending on the spatial variability of risk, it may be possible to address risk through policy wording. | AN70: Agree with recommendation B
B71: =Calculations!A46 -> 45 | C71: =Calculations!B46 -> Farnworth Industrial Estate | D71: =Calculations!C46 -> Housing | E71: =Calculations!D46 -> 1.0441167 | F71: =Calculations!H46 -> 1.0441167 | G71: =Calculations!L46 -> 100 | H71: =Calculations!G46 -> 0 | I71: =Calculations!K46 -> 0 | J71: =Calculations!F46 -> 0 | K71: =Calculations!J46 -> 0 | L71: =Calculations!E46 -> 0 | M71: =Calculations!I46 -> 0 | N71: =Calculations!P46 -> 0.98783846 | O71: =Calculations!T46 -> 94.609963 | P71: =Calculations!O46 -> 0.033860784 | Q71: =Calculations!S46 -> 3.2430075 | R71: =Calculations!N46 -> 0.0072056228 | S71: =Calculations!R46 -> 0.69011658 | T71: =Calculations!M46 -> 0.015211871 | U71: =Calculations!Q46 -> 1.4569128 | V71: =Calculations!AA46 -> 0 | W71: =Calculations!AB46 -> 0 | X71: =Calculations!AC46 -> 0 | Y71: =Calculations!AD46 -> 0 | Z71: =Calculations!Y46 -> 0 | AA71: =Calculations!Z46 -> 0 | AB71: =P71 -> 0.033860784 | AC71: =Q71 -> 3.2430075 | AD71: =Calculations!AF46 -> 0 | AE71: =Calculations!AG46 -> 0 | AF71: No | AG71: No | AH71: No risk. | AI71: More vulnerable | AJ71: Strategic Recommendation B | AK71: Level 2 SFRA required due to high and/or medium risk from surface water sources. | AL71: Carry out Level 2 SFRA to further assess risk. However, for sites with only a small area at risk, depending on the spatial variability of risk, it may be possible to address risk through policy wording.
B72: =Calculations!A47 -> 46 | C72: =Calculations!B47 -> Romer Street Works & Tonge Fold Health Centre | D72: =Calculations!C47 -> Housing | E72: =Calculations!D47 -> 0.76370078 | F72: =Calculations!H47 -> 0.76370078 | G72: =Calculations!L47 -> 100 | H72: =Calculations!G47 -> 0 | I72: =Calculations!K47 -> 0 | J72: =Calculations!F47 -> 0 | K72: =Calculations!J47 -> 0 | L72: =Calculations!E47 -> 0 | M72: =Calculations!I47 -> 0 | N72: =Calculations!P47 -> 0.71260361 | O72: =Calculations!T47 -> 93.309268 | P72: =Calculations!O47 -> 0.015869706 | Q72: =Calculations!S47 -> 2.0780006 | R72: =Calculations!N47 -> 0.0072056186 | S72: =Calculations!R47 -> 0.94351332 | T72: =Calculations!M47 -> 0.028021849 | U72: =Calculations!Q47 -> 3.6692183 | V72: =Calculations!AA47 -> 0 | W72: =Calculations!AB47 -> 0 | X72: =Calculations!AC47 -> 0 | Y72: =Calculations!AD47 -> 0 | Z72: =Calculations!Y47 -> 0 | AA72: =Calculations!Z47 -> 0 | AB72: =P72 -> 0.015869706 | AC72: =Q72 -> 2.0780006 | AD72: =Calculations!AF47 -> 0 | AE72: =Calculations!AG47 -> 0 | AF72: No | AG72: No | AH72: Groundwater emergence is not likley. | AI72: More vulnerable | AJ72: Strategic Recommendation B | AK72: Level 2 SFRA required due to high and/or medium risk from surface water sources. | AL72: Carry out Level 2 SFRA to further assess risk. However, for sites with only a small area at risk, depending on the spatial variability of risk, it may be possible to address risk through policy wording.
B73: =Calculations!A48 -> 47 | C73: =Calculations!B48 -> Rushlake Drive | D73: =Calculations!C48 -> Housing | E73: =Calculations!D48 -> 0.69961874 | F73: =Calculations!H48 -> 0.69961874 | G73: =Calculations!L48 -> 100 | H73: =Calculations!G48 -> 0 | I73: =Calculations!K48 -> 0 | J73: =Calculations!F48 -> 0 | K73: =Calculations!J48 -> 0 | L73: =Calculations!E48 -> 0 | M73: =Calculations!I48 -> 0 | N73: =Calculations!P48 -> 0.59579754 | O73: =Calculations!T48 -> 85.160317 | P73: =Calculations!O48 -> 0.091177247 | Q73: =Calculations!S48 -> 13.032419 | R73: =Calculations!N48 -> 0.012643955 | S73: =Calculations!R48 -> 1.8072636 | T73: =Calculations!M48 -> 0 | U73: =Calculations!Q48 -> 0 | V73: =Calculations!AA48 -> 0 | W73: =Calculations!AB48 -> 0 | X73: =Calculations!AC48 -> 0 | Y73: =Calculations!AD48 -> 0 | Z73: =Calculations!Y48 -> 0 | AA73: =Calculations!Z48 -> 0 | AB73: =P73 -> 0.091177247 | AC73: =Q73 -> 13.032419 | AD73: =Calculations!AF48 -> 0 | AE73: =Calculations!AG48 -> 0 | AF73: No | AG73: No | AH73: No risk. | AI73: More vulnerable | AJ73: Strategic Recommendation B | AK73: Level 2 SFRA required due to high and/or medium risk from surface water sources. | AL73: Carry out Level 2 SFRA to further assess risk. However, for sites with only a small area at risk, depending on the spatial variability of risk, it may be possible to address risk through policy wording.
B74: =Calculations!A49 -> 48 | C74: =Calculations!B49 -> Cricketers Way | D74: =Calculations!C49 -> Housing | E74: =Calculations!D49 -> 0.32388299 | F74: =Calculations!H49 -> 0.32388299 | G74: =Calculations!L49 -> 100 | H74: =Calculations!G49 -> 0 | I74: =Calculations!K49 -> 0 | J74: =Calculations!F49 -> 0 | K74: =Calculations!J49 -> 0 | L74: =Calculations!E49 -> 0 | M74: =Calculations!I49 -> 0 | N74: =Calculations!P49 -> 0.32388299 | O74: =Calculations!T49 -> 100 | P74: =Calculations!O49 -> 0 | Q74: =Calculations!S49 -> 0 | R74: =Calculations!N49 -> 0 | S74: =Calculations!R49 -> 0 | T74: =Calculations!M49 -> 0 | U74: =Calculations!Q49 -> 0 | V74: =Calculations!AA49 -> 0 | W74: =Calculations!AB49 -> 0 | X74: =Calculations!AC49 -> 0 | Y74: =Calculations!AD49 -> 0 | Z74: =Calculations!Y49 -> 0 | AA74: =Calculations!Z49 -> 0 | AB74: =P74 -> 0 | AC74: =Q74 -> 0 | AD74: =Calculations!AF49 -> 0 | AE74: =Calculations!AG49 -> 0 | AF74: No | AG74: No | AH74: No risk. | AI74: More vulnerable | AJ74: Strategic Recommendation D | AK74: Development could be allocated on flood risk grounds based on the evidence of this Level 1 SFRA. | AL74: LPA to make decision on allocation. | AN74: Agree on recommendation D
B75: =Calculations!A50 -> 49 | C75: =Calculations!B50 -> Quakers Field | D75: =Calculations!C50 -> Housing | E75: =Calculations!D50 -> 0.35463855 | F75: =Calculations!H50 -> 0.35463855 | G75: =Calculations!L50 -> 100 | H75: =Calculations!G50 -> 0 | I75: =Calculations!K50 -> 0 | J75: =Calculations!F50 -> 0 | K75: =Calculations!J50 -> 0 | L75: =Calculations!E50 -> 0 | M75: =Calculations!I50 -> 0 | N75: =Calculations!P50 -> 0.35463855 | O75: =Calculations!T50 -> 100 | P75: =Calculations!O50 -> 0 | Q75: =Calculations!S50 -> 0 | R75: =Calculations!N50 -> 0 | S75: =Calculations!R50 -> 0 | T75: =Calculations!M50 -> 0 | U75: =Calculations!Q50 -> 0 | V75: =Calculations!AA50 -> 0 | W75: =Calculations!AB50 -> 0 | X75: =Calculations!AC50 -> 0 | Y75: =Calculations!AD50 -> 0 | Z75: =Calculations!Y50 -> 0 | AA75: =Calculations!Z50 -> 0 | AB75: =P75 -> 0 | AC75: =Q75 -> 0 | AD75: =Calculations!AF50 -> 0 | AE75: =Calculations!AG50 -> 0 | AF75: No | AG75: No | AH75: There is a risk of groundwater emergence to surface and subsurface assets. There is the possibility of groundwater emerging at the surface locally. | AI75: More vulnerable | AJ75: Strategic Recommendation C | AK75: Progress to developer-led FRA. Site is at high risk from groundwater emergence. | AL75: Site appropriate to allocate. Developer-led FRA required. Planning permission subject to FRA. | AN75: Flood risk area is small and localised
B76: =Calculations!A51 -> 50 | C76: =Calculations!B51 -> Hindley Road | D76: =Calculations!C51 -> Housing | E76: =Calculations!D51 -> 0.36314225 | F76: =Calculations!H51 -> 0.36314225 | G76: =Calculations!L51 -> 100 | H76: =Calculations!G51 -> 0 | I76: =Calculations!K51 -> 0 | J76: =Calculations!F51 -> 0 | K76: =Calculations!J51 -> 0 | L76: =Calculations!E51 -> 0 | M76: =Calculations!I51 -> 0 | N76: =Calculations!P51 -> 0.24534799 | O76: =Calculations!T51 -> 67.5625 | P76: =Calculations!O51 -> 0.091923855 | Q76: =Calculations!S51 -> 25.313456 | R76: =Calculations!N51 -> 0.025865633 | S76: =Calculations!R51 -> 7.1227274 | T76: =Calculations!M51 -> 4.7802545e-06 | U76: =Calculations!Q51 -> 0.0013163587 | V76: =Calculations!AA51 -> 0 | W76: =Calculations!AB51 -> 0 | X76: =Calculations!AC51 -> 0 | Y76: =Calculations!AD51 -> 0 | Z76: =Calculations!Y51 -> 0 | AA76: =Calculations!Z51 -> 0 | AB76: =P76 -> 0.091923855 | AC76: =Q76 -> 25.313456 | AD76: =Calculations!AF51 -> 0 | AE76: =Calculations!AG51 -> 0 | AF76: No | AG76: No | AH76: No risk. | AI76: More vulnerable | AJ76: Strategic Recommendation B | AK76: Level 2 SFRA required due to high and/or medium risk from surface water sources. | AL76: Carry out Level 2 SFRA to further assess risk. However, for sites with only a small area at risk, depending on the spatial variability of risk, it may be possible to address risk through policy wording.
B77: =Calculations!A52 -> 51 | C77: =Calculations!B52 -> Eatock Way | D77: =Calculations!C52 -> Housing | E77: =Calculations!D52 -> 0.27026955 | F77: =Calculations!H52 -> 0.27026955 | G77: =Calculations!L52 -> 100 | H77: =Calculations!G52 -> 0 | I77: =Calculations!K52 -> 0 | J77: =Calculations!F52 -> 0 | K77: =Calculations!J52 -> 0 | L77: =Calculations!E52 -> 0 | M77: =Calculations!I52 -> 0 | N77: =Calculations!P52 -> 0.24710023 | O77: =Calculations!T52 -> 91.427329 | P77: =Calculations!O52 -> 0.023169319 | Q77: =Calculations!S52 -> 8.572671 | R77: =Calculations!N52 -> 0 | S77: =Calculations!R52 -> 0 | T77: =Calculations!M52 -> 0 | U77: =Calculations!Q52 -> 0 | V77: =Calculations!AA52 -> 0 | W77: =Calculations!AB52 -> 0 | X77: =Calculations!AC52 -> 0 | Y77: =Calculations!AD52 -> 0 | Z77: =Calculations!Y52 -> 0 | AA77: =Calculations!Z52 -> 0 | AB77: =P77 -> 0.023169319 | AC77: =Q77 -> 8.572671 | AD77: =Calculations!AF52 -> 0 | AE77: =Calculations!AG52 -> 0 | AF77: No | AG77: No | AH77: No risk. | AI77: More vulnerable | AJ77: Strategic Recommendation B | AK77: Level 2 SFRA required due to future surface water risk (using the low risk surface water extent as a proxy for the medium risk plus climate change extent). | AL77: Carry out Level 2 SFRA to further assess risk. However, for sites with only a small area at risk, depending on the spatial variability of risk, it may be possible to address risk through policy wording.
B78: =Calculations!A53 -> 52 | C78: =Calculations!B53 -> Urban Village 1 | D78: =Calculations!C53 -> Housing | E78: =Calculations!D53 -> 1.2562112 | F78: =Calculations!H53 -> 0.80761732 | G78: =Calculations!L53 -> 64.289931 | H78: =Calculations!G53 -> 0.2387458 | I78: =Calculations!K53 -> 19.005228 | J78: =Calculations!F53 -> 0.015265108 | K78: =Calculations!J53 -> 1.2151705 | L78: =Calculations!E53 -> 0.19458299 | M78: =Calculations!I53 -> 15.489671 | N78: =Calculations!P53 -> 0.88898537 | O78: =Calculations!T53 -> 70.767189 | P78: =Calculations!O53 -> 0.30521472 | Q78: =Calculations!S53 -> 24.296449 | R78: =Calculations!N53 -> 0.03601106 | S78: =Calculations!R53 -> 2.8666406 | T78: =Calculations!M53 -> 0.026000064 | U78: =Calculations!Q53 -> 2.0697207 | V78: =Calculations!AA53 -> 1.0467668e-07 | W78: =Calculations!AB53 -> 8.3327295e-06 | X78: =Calculations!AC53 -> 0.13643673 | Y78: =Calculations!AD53 -> 10.86097 | Z78: =Calculations!Y53 -> 0 | AA78: =Calculations!Z53 -> 0 | AB78: =P78 -> 0.30521472 | AC78: =Q78 -> 24.296449 | AD78: =Calculations!AF53 -> 0.60521355 | AE78: =Calculations!AG53 -> 48.17769 | AF78: N/A | AG78: Yes | AH78: There is a risk of emergence to subsurface assets, but surface manifestation of groundwater is unlikely. | AI78: More vulnerable | AJ78: Strategic Recommendation A | AK78: Recommend for withdrawal if built development cannot avoid Flood Zone 3b. Site is at risk from reservoir flooding. | AL78: Development not permitted in Flood Zone 3b. Check whether site boundary can be redrawn or whether it may be possible to incorporate functional floodplain into site layout and design as open greenspace. This may be possible for sites where percentage area of functional floodplain is lower. Site should be withdrawn if these criteria cannot be met. A Level 2 SFRA may be required to inform this process. | AN78: Flood risk limited to east of site
B79: =Calculations!A54 -> 53 | C79: =Calculations!B54 -> Urban Village 2 | D79: =Calculations!C54 -> Housing | E79: =Calculations!D54 -> 0.4027735 | F79: =Calculations!H54 -> 0 | G79: =Calculations!L54 -> 0 | H79: =Calculations!G54 -> 0.4027735 | I79: =Calculations!K54 -> 100 | J79: =Calculations!F54 -> 0 | K79: =Calculations!J54 -> 0 | L79: =Calculations!E54 -> 0 | M79: =Calculations!I54 -> 0 | N79: =Calculations!P54 -> 0.30023833 | O79: =Calculations!T54 -> 74.54272 | P79: =Calculations!O54 -> 0.010512902 | Q79: =Calculations!S54 -> 2.6101276 | R79: =Calculations!N54 -> 0.075209212 | S79: =Calculations!R54 -> 18.67283 | T79: =Calculations!M54 -> 0.016813063 | U79: =Calculations!Q54 -> 4.174322 | V79: =Calculations!AA54 -> 0 | W79: =Calculations!AB54 -> 0 | X79: =Calculations!AC54 -> 0.32610408 | Y79: =Calculations!AD54 -> 80.964632 | Z79: =Calculations!Y54 -> 0 | AA79: =Calculations!Z54 -> 0 | AB79: =P79 -> 0.010512902 | AC79: =Q79 -> 2.6101276 | AD79: =Calculations!AF54 -> 0.39610606 | AE79: =Calculations!AG54 -> 98.344617 | AF79: N/A | AG79: No | AH79: There is a risk of emergence to subsurface assets, but surface manifestation of groundwater is unlikely. | AI79: More vulnerable | AJ79: Strategic Recommendation B | AK79: Level 2 SFRA required to assess likelihood of site passing the exception test due to future high risk from fluvial sources, based on Environment Agency detailed flood modelling. Site is at risk from reservoir flooding. | AL79: Carry out Level 2 SFRA to further assess risk and the likelihood of the site passing the exception test. However, for sites with only a small area at risk, depending on the spatial variability of risk, it may be possible to address risk through policy wording. | AN79: Agree with recommendation B
B80: =Calculations!A55 -> 54 | C80: =Calculations!B55 -> Urban Village 3 | D80: =Calculations!C55 -> Housing | E80: =Calculations!D55 -> 0.36625281 | F80: =Calculations!H55 -> 0.12987059 | G80: =Calculations!L55 -> 35.459273 | H80: =Calculations!G55 -> 0.23609974 | I80: =Calculations!K55 -> 64.463599 | J80: =Calculations!F55 -> 0.00028248324 | K80: =Calculations!J55 -> 0.077127939 | L80: =Calculations!E55 -> 0 | M80: =Calculations!I55 -> 0 | N80: =Calculations!P55 -> 0.34434818 | O80: =Calculations!T55 -> 94.019259 | P80: =Calculations!O55 -> 0.003505502 | Q80: =Calculations!S55 -> 0.95712631 | R80: =Calculations!N55 -> 0.0047885554 | S80: =Calculations!R55 -> 1.3074454 | T80: =Calculations!M55 -> 0.013610576 | U80: =Calculations!Q55 -> 3.7161697 | V80: =Calculations!AA55 -> 0.00038387408 | W80: =Calculations!AB55 -> 0.10481123 | X80: =Calculations!AC55 -> 0.009615189 | Y80: =Calculations!AD55 -> 2.6252874 | Z80: =Calculations!Y55 -> 0.00070435469 | AA80: =Calculations!Z55 -> 0.1923138 | AB80: =P80 -> 0.003505502 | AC80: =Q80 -> 0.95712631 | AD80: =Calculations!AF55 -> 0.35615401 | AE80: =Calculations!AG55 -> 97.242669 | AF80: N/A | AG80: Yes | AH80: There is a risk of groundwater emergence to both surface and subsurface assets. Groundwater may emerge at significant rates and has the capacity to flow overland and/or pond within any topographic low spots. | AI80: More vulnerable | AJ80: Strategic Recommendation B | AK80: Level 2 SFRA required to assess likelihood of site passing the exception test due to high risk from fluvial sources (Flood Zone 3a) and future functional floodplain, based on Environment Agency Flood Zones and NaFRA2 mapping. Site is at high risk of groundwater emergence. Site is at risk from reservoir flooding. | AL80: Carry out Level 2 SFRA to further assess risk and the likelihood of the site passing the exception test. However, for sites with only a small area at risk, depending on the spatial variability of risk, it may be possible to address risk through policy wording. | AN80: SW flood risk minimal fluvial risk less than 1%
B81: =Calculations!A56 -> 55 | C81: =Calculations!B56 -> Biz Gas Street | D81: =Calculations!C56 -> Housing | E81: =Calculations!D56 -> 0.35997642 | F81: =Calculations!H56 -> 0.35997642 | G81: =Calculations!L56 -> 100 | H81: =Calculations!G56 -> 0 | I81: =Calculations!K56 -> 0 | J81: =Calculations!F56 -> 0 | K81: =Calculations!J56 -> 0 | L81: =Calculations!E56 -> 0 | M81: =Calculations!I56 -> 0 | N81: =Calculations!P56 -> 0.35997642 | O81: =Calculations!T56 -> 100 | P81: =Calculations!O56 -> 0 | Q81: =Calculations!S56 -> 0 | R81: =Calculations!N56 -> 0 | S81: =Calculations!R56 -> 0 | T81: =Calculations!M56 -> 0 | U81: =Calculations!Q56 -> 0 | V81: =Calculations!AA56 -> 0 | W81: =Calculations!AB56 -> 0 | X81: =Calculations!AC56 -> 0 | Y81: =Calculations!AD56 -> 0 | Z81: =Calculations!Y56 -> 0 | AA81: =Calculations!Z56 -> 0 | AB81: =P81 -> 0 | AC81: =Q81 -> 0 | AD81: =Calculations!AF56 -> 0 | AE81: =Calculations!AG56 -> 0 | AF81: No | AG81: No | AH81: There is a risk of emergence to subsurface assets, but surface manifestation of groundwater is unlikely. | AI81: More vulnerable | AJ81: Strategic Recommendation D | AK81: Development could be allocated on flood risk grounds based on the evidence of this Level 1 SFRA. | AL81: LPA to make decision on allocation. | AN81: Agree with recommendation D
B82: =Calculations!A57 -> 56 | C82: =Calculations!B57 -> Travis Perkins | D82: =Calculations!C57 -> Housing | E82: =Calculations!D57 -> 0.49511481 | F82: =Calculations!H57 -> 0.082972758 | G82: =Calculations!L57 -> 16.758286 | H82: =Calculations!G57 -> 0.38859672 | I82: =Calculations!K57 -> 78.486183 | J82: =Calculations!F57 -> 0.023543945 | K82: =Calculations!J57 -> 4.7552497 | L82: =Calculations!E57 -> 1.3912527e-06 | M82: =Calculations!I57 -> 0.00028099598 | N82: =Calculations!P57 -> 0.26877486 | O82: =Calculations!T57 -> 54.28536 | P82: =Calculations!O57 -> 0.1864622 | Q82: =Calculations!S57 -> 37.660397 | R82: =Calculations!N57 -> 0.030621973 | S82: =Calculations!R57 -> 6.1848227 | T82: =Calculations!M57 -> 0.009255774 | U82: =Calculations!Q57 -> 1.8694197 | V82: =Calculations!AA57 -> 0.0044034215 | W82: =Calculations!AB57 -> 0.88937382 | X82: =Calculations!AC57 -> 0.024327118 | Y82: =Calculations!AD57 -> 4.9134296 | Z82: =Calculations!Y57 -> 0.044066099 | AA82: =Calculations!Z57 -> 8.9001778 | AB82: =P82 -> 0.1864622 | AC82: =Q82 -> 37.660397 | AD82: =Calculations!AF57 -> 0.46167979 | AE82: =Calculations!AG57 -> 93.247016 | AF82: N/A | AG82: Yes | AH82: There is a risk of groundwater emergence to both surface and subsurface assets. Groundwater may emerge at significant rates and has the capacity to flow overland and/or pond within any topographic low spots. | AI82: More vulnerable | AJ82: Strategic Recommendation A | AK82: Recommend for withdrawal if built development cannot avoid Flood Zone 3b. Site is at high risk of groundwater emergence. Site is at risk from reservoir flooding. | AL82: Development not permitted in Flood Zone 3b. Check whether site boundary can be redrawn or whether it may be possible to incorporate functional floodplain into site layout and design as open greenspace. This may be possible for sites where percentage area of functional floodplain is lower. Site should be withdrawn if these criteria cannot be met. A Level 2 SFRA may be required to inform this process. | AN82: Flood risk for most of site is less than 1 %
B83: =Calculations!A58 -> 57 | C83: =Calculations!B58 -> Ladybridge High School (Part) | D83: =Calculations!C58 -> Housing | E83: =Calculations!D58 -> 3.4810947 | F83: =Calculations!H58 -> 3.4810947 | G83: =Calculations!L58 -> 100 | H83: =Calculations!G58 -> 0 | I83: =Calculations!K58 -> 0 | J83: =Calculations!F58 -> 0 | K83: =Calculations!J58 -> 0 | L83: =Calculations!E58 -> 0 | M83: =Calculations!I58 -> 0 | N83: =Calculations!P58 -> 3.3930502 | O83: =Calculations!T58 -> 97.470782 | P83: =Calculations!O58 -> 0.046449937 | Q83: =Calculations!S58 -> 1.3343486 | R83: =Calculations!N58 -> 0.018749228 | S83: =Calculations!R58 -> 0.53860149 | T83: =Calculations!M58 -> 0.022845323 | U83: =Calculations!Q58 -> 0.65626834 | V83: =Calculations!AA58 -> 0 | W83: =Calculations!AB58 -> 0 | X83: =Calculations!AC58 -> 0 | Y83: =Calculations!AD58 -> 0 | Z83: =Calculations!Y58 -> 0 | AA83: =Calculations!Z58 -> 0 | AB83: =P83 -> 0.046449937 | AC83: =Q83 -> 1.3343486 | AD83: =Calculations!AF58 -> 0 | AE83: =Calculations!AG58 -> 0 | AF83: No | AG83: No | AH83: No risk. | AI83: More vulnerable | AJ83: Strategic Recommendation B | AK83: Level 2 SFRA required due to high and/or medium risk from surface water sources. | AL83: Carry out Level 2 SFRA to further assess risk. However, for sites with only a small area at risk, depending on the spatial variability of risk, it may be possible to address risk through policy wording.
B84: =Calculations!A59 -> 58 | C84: =Calculations!B59 -> Derby Mill | D84: =Calculations!C59 -> Housing | E84: =Calculations!D59 -> 0.33685769 | F84: =Calculations!H59 -> 0.33685769 | G84: =Calculations!L59 -> 100 | H84: =Calculations!G59 -> 0 | I84: =Calculations!K59 -> 0 | J84: =Calculations!F59 -> 0 | K84: =Calculations!J59 -> 0 | L84: =Calculations!E59 -> 0 | M84: =Calculations!I59 -> 0 | N84: =Calculations!P59 -> 0.26964395 | O84: =Calculations!T59 -> 80.046845 | P84: =Calculations!O59 -> 0.043211727 | Q84: =Calculations!S59 -> 12.827888 | R84: =Calculations!N59 -> 0.011586878 | S84: =Calculations!R59 -> 3.4396952 | T84: =Calculations!M59 -> 0.012415131 | U84: =Calculations!Q59 -> 3.6855716 | V84: =Calculations!AA59 -> 0 | W84: =Calculations!AB59 -> 0 | X84: =Calculations!AC59 -> 0 | Y84: =Calculations!AD59 -> 0 | Z84: =Calculations!Y59 -> 0 | AA84: =Calculations!Z59 -> 0 | AB84: =P84 -> 0.043211727 | AC84: =Q84 -> 12.827888 | AD84: =Calculations!AF59 -> 0 | AE84: =Calculations!AG59 -> 0 | AF84: No | AG84: No | AH84: No risk. | AI84: More vulnerable | AJ84: Strategic Recommendation B | AK84: Level 2 SFRA required due to high and/or medium risk from surface water sources. | AL84: Carry out Level 2 SFRA to further assess risk. However, for sites with only a small area at risk, depending on the spatial variability of risk, it may be possible to address risk through policy wording.
B85: =Calculations!A60 -> 59 | C85: =Calculations!B60 -> Atlas Mill | D85: =Calculations!C60 -> Housing | E85: =Calculations!D60 -> 0.34281616 | F85: =Calculations!H60 -> 0.34281616 | G85: =Calculations!L60 -> 100 | H85: =Calculations!G60 -> 0 | I85: =Calculations!K60 -> 0 | J85: =Calculations!F60 -> 0 | K85: =Calculations!J60 -> 0 | L85: =Calculations!E60 -> 0 | M85: =Calculations!I60 -> 0 | N85: =Calculations!P60 -> 0.31992339 | O85: =Calculations!T60 -> 93.322144 | P85: =Calculations!O60 -> 0.022892771 | Q85: =Calculations!S60 -> 6.6778564 | R85: =Calculations!N60 -> 0 | S85: =Calculations!R60 -> 0 | T85: =Calculations!M60 -> 0 | U85: =Calculations!Q60 -> 0 | V85: =Calculations!AA60 -> 0 | W85: =Calculations!AB60 -> 0 | X85: =Calculations!AC60 -> 0 | Y85: =Calculations!AD60 -> 0 | Z85: =Calculations!Y60 -> 0 | AA85: =Calculations!Z60 -> 0 | AB85: =P85 -> 0.022892771 | AC85: =Q85 -> 6.6778564 | AD85: =Calculations!AF60 -> 0 | AE85: =Calculations!AG60 -> 0 | AF85: No | AG85: No | AH85: No risk. | AI85: More vulnerable | AJ85: Strategic Recommendation B | AK85: Level 2 SFRA required due to future surface water risk (using the low risk surface water extent as a proxy for the medium risk plus climate change extent). | AL85: Carry out Level 2 SFRA to further assess risk. However, for sites with only a small area at risk, depending on the spatial variability of risk, it may be possible to address risk through policy wording.
B86: =Calculations!A61 -> 60 | C86: =Calculations!B61 -> Beaumont | D86: =Calculations!C61 -> Housing | E86: =Calculations!D61 -> 0.3529239 | F86: =Calculations!H61 -> 0.3529239 | G86: =Calculations!L61 -> 100 | H86: =Calculations!G61 -> 0 | I86: =Calculations!K61 -> 0 | J86: =Calculations!F61 -> 0 | K86: =Calculations!J61 -> 0 | L86: =Calculations!E61 -> 0 | M86: =Calculations!I61 -> 0 | N86: =Calculations!P61 -> 0.33644805 | O86: =Calculations!T61 -> 95.331614 | P86: =Calculations!O61 -> 0.01647585 | Q86: =Calculations!S61 -> 4.668386 | R86: =Calculations!N61 -> 0 | S86: =Calculations!R61 -> 0 | T86: =Calculations!M61 -> 0 | U86: =Calculations!Q61 -> 0 | V86: =Calculations!AA61 -> 0 | W86: =Calculations!AB61 -> 0 | X86: =Calculations!AC61 -> 0 | Y86: =Calculations!AD61 -> 0 | Z86: =Calculations!Y61 -> 0 | AA86: =Calculations!Z61 -> 0 | AB86: =P86 -> 0.01647585 | AC86: =Q86 -> 4.668386 | AD86: =Calculations!AF61 -> 0 | AE86: =Calculations!AG61 -> 0 | AF86: No | AG86: No | AH86: No risk. | AI86: More vulnerable | AJ86: Strategic Recommendation B | AK86: Level 2 SFRA required due to future surface water risk (using the low risk surface water extent as a proxy for the medium risk plus climate change extent). | AL86: Carry out Level 2 SFRA to further assess risk. However, for sites with only a small area at risk, depending on the spatial variability of risk, it may be possible to address risk through policy wording.
B87: =Calculations!A62 -> 61 | C87: =Calculations!B62 -> Junction of New Holder Street and Garside Street | D87: =Calculations!C62 -> Housing | E87: =Calculations!D62 -> 0.2554467 | F87: =Calculations!H62 -> 0.2554467 | G87: =Calculations!L62 -> 100 | H87: =Calculations!G62 -> 0 | I87: =Calculations!K62 -> 0 | J87: =Calculations!F62 -> 0 | K87: =Calculations!J62 -> 0 | L87: =Calculations!E62 -> 0 | M87: =Calculations!I62 -> 0 | N87: =Calculations!P62 -> 0.21072202 | O87: =Calculations!T62 -> 82.491578 | P87: =Calculations!O62 -> 0.020706026 | Q87: =Calculations!S62 -> 8.1058108 | R87: =Calculations!N62 -> 0.0036027988 | S87: =Calculations!R62 -> 1.4103916 | T87: =Calculations!M62 -> 0.02041586 | U87: =Calculations!Q62 -> 7.9922192 | V87: =Calculations!AA62 -> 0 | W87: =Calculations!AB62 -> 0 | X87: =Calculations!AC62 -> 0 | Y87: =Calculations!AD62 -> 0 | Z87: =Calculations!Y62 -> 0 | AA87: =Calculations!Z62 -> 0 | AB87: =P87 -> 0.020706026 | AC87: =Q87 -> 8.1058108 | AD87: =Calculations!AF62 -> 0 | AE87: =Calculations!AG62 -> 0 | AF87: No | AG87: Yes | AH87: There is a risk of groundwater emergence to surface and subsurface assets. There is the possibility of groundwater emerging at the surface locally. | AI87: More vulnerable | AJ87: Strategic Recommendation B | AK87: Level 2 SFRA required due to high and/or medium risk from surface water sources. Site is at high risk from groundwater emergence. | AL87: Carry out Level 2 SFRA to further assess risk. However, for sites with only a small area at risk, depending on the spatial variability of risk, it may be possible to address risk through policy wording. | AN87: Flood risk area is very small and localised
B88: =Calculations!A63 -> 62 | C88: =Calculations!B63 -> Egyptian Mill | D88: =Calculations!C63 -> Housing | E88: =Calculations!D63 -> 0.40619661 | F88: =Calculations!H63 -> 0.40619661 | G88: =Calculations!L63 -> 100 | H88: =Calculations!G63 -> 0 | I88: =Calculations!K63 -> 0 | J88: =Calculations!F63 -> 0 | K88: =Calculations!J63 -> 0 | L88: =Calculations!E63 -> 0 | M88: =Calculations!I63 -> 0 | N88: =Calculations!P63 -> 0.3765634 | O88: =Calculations!T63 -> 92.704712 | P88: =Calculations!O63 -> 0.014282649 | Q88: =Calculations!S63 -> 3.5161911 | R88: =Calculations!N63 -> 0.015350565 | S88: =Calculations!R63 -> 3.7790973 | T88: =Calculations!M63 -> 0 | U88: =Calculations!Q63 -> 0 | V88: =Calculations!AA63 -> 0 | W88: =Calculations!AB63 -> 0 | X88: =Calculations!AC63 -> 0 | Y88: =Calculations!AD63 -> 0 | Z88: =Calculations!Y63 -> 0 | AA88: =Calculations!Z63 -> 0 | AB88: =P88 -> 0.014282649 | AC88: =Q88 -> 3.5161911 | AD88: =Calculations!AF63 -> 0 | AE88: =Calculations!AG63 -> 0 | AF88: No | AG88: No | AH88: No risk. | AI88: More vulnerable | AJ88: Strategic Recommendation B | AK88: Level 2 SFRA required due to high and/or medium risk from surface water sources. | AL88: Carry out Level 2 SFRA to further assess risk. However, for sites with only a small area at risk, depending on the spatial variability of risk, it may be possible to address risk through policy wording.
B89: =Calculations!A64 -> 63 | C89: =Calculations!B64 -> Moss Bank Way | D89: =Calculations!C64 -> Housing | E89: =Calculations!D64 -> 40.692226 | F89: =Calculations!H64 -> 40.692226 | G89: =Calculations!L64 -> 100 | H89: =Calculations!G64 -> 0 | I89: =Calculations!K64 -> 0 | J89: =Calculations!F64 -> 0 | K89: =Calculations!J64 -> 0 | L89: =Calculations!E64 -> 0 | M89: =Calculations!I64 -> 0 | N89: =Calculations!P64 -> 39.682757 | O89: =Calculations!T64 -> 97.519259 | P89: =Calculations!O64 -> 0.56601937 | Q89: =Calculations!S64 -> 1.3909767 | R89: =Calculations!N64 -> 0.095132131 | S89: =Calculations!R64 -> 0.23378454 | T89: =Calculations!M64 -> 0.34831729 | U89: =Calculations!Q64 -> 0.85597995 | V89: =Calculations!AA64 -> 0 | W89: =Calculations!AB64 -> 0 | X89: =Calculations!AC64 -> 0 | Y89: =Calculations!AD64 -> 0 | Z89: =Calculations!Y64 -> 0 | AA89: =Calculations!Z64 -> 0 | AB89: =P89 -> 0.56601937 | AC89: =Q89 -> 1.3909767 | AD89: =Calculations!AF64 -> 0.00020177362 | AE89: =Calculations!AG64 -> 0.00049585299 | AF89: Yes | AG89: Yes | AH89: There is a risk of groundwater emergence to both surface and subsurface assets. Groundwater may emerge at significant rates and has the capacity to flow overland and/or pond within any topographic low spots. | AI89: More vulnerable | AJ89: Strategic Recommendation B | AK89: Level 2 SFRA required due to high and/or medium risk from surface water sources. Site is at high risk from groundwater emergence. | AL89: Carry out Level 2 SFRA to further assess risk. However, for sites with only a small area at risk, depending on the spatial variability of risk, it may be possible to address risk through policy wording. | AN89: Flood risk areas are small portion of site and localised
B90: =Calculations!A65 -> 64 | C90: =Calculations!B65 -> Minerva Road | D90: =Calculations!C65 -> Housing | E90: =Calculations!D65 -> 0.71112066 | F90: =Calculations!H65 -> 0.71112066 | G90: =Calculations!L65 -> 100 | H90: =Calculations!G65 -> 0 | I90: =Calculations!K65 -> 0 | J90: =Calculations!F65 -> 0 | K90: =Calculations!J65 -> 0 | L90: =Calculations!E65 -> 0 | M90: =Calculations!I65 -> 0 | N90: =Calculations!P65 -> 0.4062268 | O90: =Calculations!T65 -> 57.124877 | P90: =Calculations!O65 -> 0.25820935 | Q90: =Calculations!S65 -> 36.310202 | R90: =Calculations!N65 -> 0.032273302 | S90: =Calculations!R65 -> 4.5383721 | T90: =Calculations!M65 -> 0.014411211 | U90: =Calculations!Q65 -> 2.0265494 | V90: =Calculations!AA65 -> 0 | W90: =Calculations!AB65 -> 0 | X90: =Calculations!AC65 -> 0 | Y90: =Calculations!AD65 -> 0 | Z90: =Calculations!Y65 -> 0 | AA90: =Calculations!Z65 -> 0 | AB90: =P90 -> 0.25820935 | AC90: =Q90 -> 36.310202 | AD90: =Calculations!AF65 -> 0 | AE90: =Calculations!AG65 -> 0 | AF90: No | AG90: No | AH90: No risk. | AI90: More vulnerable | AJ90: Strategic Recommendation B | AK90: Level 2 SFRA required due to high and/or medium risk from surface water sources. | AL90: Carry out Level 2 SFRA to further assess risk. However, for sites with only a small area at risk, depending on the spatial variability of risk, it may be possible to address risk through policy wording.
B91: =Calculations!A66 -> 65 | C91: =Calculations!B66 -> Mather Street | D91: =Calculations!C66 -> Housing | E91: =Calculations!D66 -> 0.3215586 | F91: =Calculations!H66 -> 0.3215586 | G91: =Calculations!L66 -> 100 | H91: =Calculations!G66 -> 0 | I91: =Calculations!K66 -> 0 | J91: =Calculations!F66 -> 0 | K91: =Calculations!J66 -> 0 | L91: =Calculations!E66 -> 0 | M91: =Calculations!I66 -> 0 | N91: =Calculations!P66 -> 0.29681905 | O91: =Calculations!T66 -> 92.306364 | P91: =Calculations!O66 -> 0.0066111267 | Q91: =Calculations!S66 -> 2.0559633 | R91: =Calculations!N66 -> 0.0041666258 | S91: =Calculations!R66 -> 1.2957594 | T91: =Calculations!M66 -> 0.013961796 | U91: =Calculations!Q66 -> 4.3419135 | V91: =Calculations!AA66 -> 0 | W91: =Calculations!AB66 -> 0 | X91: =Calculations!AC66 -> 0 | Y91: =Calculations!AD66 -> 0 | Z91: =Calculations!Y66 -> 0 | AA91: =Calculations!Z66 -> 0 | AB91: =P91 -> 0.0066111267 | AC91: =Q91 -> 2.0559633 | AD91: =Calculations!AF66 -> 0 | AE91: =Calculations!AG66 -> 0 | AF91: No | AG91: No | AH91: No risk. | AI91: More vulnerable | AJ91: Strategic Recommendation B | AK91: Level 2 SFRA required due to high and/or medium risk from surface water sources. | AL91: Carry out Level 2 SFRA to further assess risk. However, for sites with only a small area at risk, depending on the spatial variability of risk, it may be possible to address risk through policy wording.
B92: =Calculations!A67 -> 66 | C92: =Calculations!B67 -> Rear of 565-571 Manchester Road | D92: =Calculations!C67 -> Housing | E92: =Calculations!D67 -> 0.28360863 | F92: =Calculations!H67 -> 0.28360863 | G92: =Calculations!L67 -> 100 | H92: =Calculations!G67 -> 0 | I92: =Calculations!K67 -> 0 | J92: =Calculations!F67 -> 0 | K92: =Calculations!J67 -> 0 | L92: =Calculations!E67 -> 0 | M92: =Calculations!I67 -> 0 | N92: =Calculations!P67 -> 0.28334142 | O92: =Calculations!T67 -> 99.905783 | P92: =Calculations!O67 -> 0.00026720756 | Q92: =Calculations!S67 -> 0.094217005 | R92: =Calculations!N67 -> 0 | S92: =Calculations!R67 -> 0 | T92: =Calculations!M67 -> 0 | U92: =Calculations!Q67 -> 0 | V92: =Calculations!AA67 -> 0 | W92: =Calculations!AB67 -> 0 | X92: =Calculations!AC67 -> 0 | Y92: =Calculations!AD67 -> 0 | Z92: =Calculations!Y67 -> 0 | AA92: =Calculations!Z67 -> 0 | AB92: =P92 -> 0.00026720756 | AC92: =Q92 -> 0.094217005 | AD92: =Calculations!AF67 -> 0 | AE92: =Calculations!AG67 -> 0 | AF92: No | AG92: No | AH92: No risk. | AI92: More vulnerable | AJ92: Strategic Recommendation B | AK92: Level 2 SFRA required due to future surface water risk (using the low risk surface water extent as a proxy for the medium risk plus climate change extent). | AL92: Carry out Level 2 SFRA to further assess risk. However, for sites with only a small area at risk, depending on the spatial variability of risk, it may be possible to address risk through policy wording.
B93: =Calculations!A68 -> 67 | C93: =Calculations!B68 -> Hoskers Nook Farm | D93: =Calculations!C68 -> Housing | E93: =Calculations!D68 -> 0.30836511 | F93: =Calculations!H68 -> 0.30836511 | G93: =Calculations!L68 -> 100 | H93: =Calculations!G68 -> 0 | I93: =Calculations!K68 -> 0 | J93: =Calculations!F68 -> 0 | K93: =Calculations!J68 -> 0 | L93: =Calculations!E68 -> 0 | M93: =Calculations!I68 -> 0 | N93: =Calculations!P68 -> 0.23337889 | O93: =Calculations!T68 -> 75.682651 | P93: =Calculations!O68 -> 0.051416778 | Q93: =Calculations!S68 -> 16.673993 | R93: =Calculations!N68 -> 0.023288898 | S93: =Calculations!R68 -> 7.5523776 | T93: =Calculations!M68 -> 0.00028054331 | U93: =Calculations!Q68 -> 0.090977642 | V93: =Calculations!AA68 -> 0 | W93: =Calculations!AB68 -> 0 | X93: =Calculations!AC68 -> 0 | Y93: =Calculations!AD68 -> 0 | Z93: =Calculations!Y68 -> 0 | AA93: =Calculations!Z68 -> 0 | AB93: =P93 -> 0.051416778 | AC93: =Q93 -> 16.673993 | AD93: =Calculations!AF68 -> 0 | AE93: =Calculations!AG68 -> 0 | AF93: No | AG93: No | AH93: No risk. | AI93: More vulnerable | AJ93: Strategic Recommendation B | AK93: Level 2 SFRA required due to high and/or medium risk from surface water sources. | AL93: Carry out Level 2 SFRA to further assess risk. However, for sites with only a small area at risk, depending on the spatial variability of risk, it may be possible to address risk through policy wording.
B94: =Calculations!A69 -> 68 | C94: =Calculations!B69 -> Rear of Halliwell Mills | D94: =Calculations!C69 -> Housing | E94: =Calculations!D69 -> 0.93312204 | F94: =Calculations!H69 -> 0.93312204 | G94: =Calculations!L69 -> 100 | H94: =Calculations!G69 -> 0 | I94: =Calculations!K69 -> 0 | J94: =Calculations!F69 -> 0 | K94: =Calculations!J69 -> 0 | L94: =Calculations!E69 -> 0 | M94: =Calculations!I69 -> 0 | N94: =Calculations!P69 -> 0.76160661 | O94: =Calculations!T69 -> 81.619186 | P94: =Calculations!O69 -> 0.036764547 | Q94: =Calculations!S69 -> 3.9399506 | R94: =Calculations!N69 -> 0.025235972 | S94: =Calculations!R69 -> 2.7044664 | T94: =Calculations!M69 -> 0.10951491 | U94: =Calculations!Q69 -> 11.736397 | V94: =Calculations!AA69 -> 1.832716e-05 | W94: =Calculations!AB69 -> 0.0019640689 | X94: =Calculations!AC69 -> 0 | Y94: =Calculations!AD69 -> 0 | Z94: =Calculations!Y69 -> 0 | AA94: =Calculations!Z69 -> 0 | AB94: =P94 -> 0.036764547 | AC94: =Q94 -> 3.9399506 | AD94: =Calculations!AF69 -> 0 | AE94: =Calculations!AG69 -> 0 | AF94: N/A | AG94: No | AH94: No risk. | AI94: More vulnerable | AJ94: Strategic Recommendation B | AK94: Level 2 SFRA required to assess likelihood of site passing the exception test due to future high risk from fluvial sources, based on Environment Agency Flood Zones plus Climate Change. | AL94: Carry out Level 2 SFRA to further assess risk and the likelihood of the site passing the exception test. However, for sites with only a small area at risk, depending on the spatial variability of risk, it may be possible to address risk through policy wording.
B95: =Calculations!A70 -> 69 | C95: =Calculations!B70 -> Falcon View | D95: =Calculations!C70 -> Housing | E95: =Calculations!D70 -> 0.52049501 | F95: =Calculations!H70 -> 0.52049501 | G95: =Calculations!L70 -> 100 | H95: =Calculations!G70 -> 0 | I95: =Calculations!K70 -> 0 | J95: =Calculations!F70 -> 0 | K95: =Calculations!J70 -> 0 | L95: =Calculations!E70 -> 0 | M95: =Calculations!I70 -> 0 | N95: =Calculations!P70 -> 0.52049501 | O95: =Calculations!T70 -> 100 | P95: =Calculations!O70 -> 0 | Q95: =Calculations!S70 -> 0 | R95: =Calculations!N70 -> 0 | S95: =Calculations!R70 -> 0 | T95: =Calculations!M70 -> 0 | U95: =Calculations!Q70 -> 0 | V95: =Calculations!AA70 -> 0 | W95: =Calculations!AB70 -> 0 | X95: =Calculations!AC70 -> 0 | Y95: =Calculations!AD70 -> 0 | Z95: =Calculations!Y70 -> 0 | AA95: =Calculations!Z70 -> 0 | AB95: =P95 -> 0 | AC95: =Q95 -> 0 | AD95: =Calculations!AF70 -> 0 | AE95: =Calculations!AG70 -> 0 | AF95: No | AG95: No | AH95: No risk. | AI95: More vulnerable | AJ95: Strategic Recommendation D | AK95: Development could be allocated on flood risk grounds based on the evidence of this Level 1 SFRA. | AL95: LPA to make decision on allocation.
B96: =Calculations!A71 -> 70 | C96: =Calculations!B71 -> North of 659 Radcliffe Road | D96: =Calculations!C71 -> Housing | E96: =Calculations!D71 -> 2.4143505 | F96: =Calculations!H71 -> 2.4143505 | G96: =Calculations!L71 -> 100 | H96: =Calculations!G71 -> 0 | I96: =Calculations!K71 -> 0 | J96: =Calculations!F71 -> 0 | K96: =Calculations!J71 -> 0 | L96: =Calculations!E71 -> 0 | M96: =Calculations!I71 -> 0 | N96: =Calculations!P71 -> 2.1962665 | O96: =Calculations!T71 -> 90.967179 | P96: =Calculations!O71 -> 0.096792705 | Q96: =Calculations!S71 -> 4.0090577 | R96: =Calculations!N71 -> 0.010007821 | S96: =Calculations!R71 -> 0.41451401 | T96: =Calculations!M71 -> 0.11128344 | U96: =Calculations!Q71 -> 4.6092494 | V96: =Calculations!AA71 -> 0 | W96: =Calculations!AB71 -> 0 | X96: =Calculations!AC71 -> 0 | Y96: =Calculations!AD71 -> 0 | Z96: =Calculations!Y71 -> 0 | AA96: =Calculations!Z71 -> 0 | AB96: =P96 -> 0.096792705 | AC96: =Q96 -> 4.0090577 | AD96: =Calculations!AF71 -> 0 | AE96: =Calculations!AG71 -> 0 | AF96: Yes | AG96: No | AH96: No risk. | AI96: More vulnerable | AJ96: Strategic Recommendation B | AK96: Level 2 SFRA required due to high and/or medium risk from surface water sources. | AL96: Carry out Level 2 SFRA to further assess risk. However, for sites with only a small area at risk, depending on the spatial variability of risk, it may be possible to address risk through policy wording.
B97: =Calculations!A72 -> 71 | C97: =Calculations!B72 -> Grundy Fold | D97: =Calculations!C72 -> Housing | E97: =Calculations!D72 -> 9.82334 | F97: =Calculations!H72 -> 9.82334 | G97: =Calculations!L72 -> 100 | H97: =Calculations!G72 -> 0 | I97: =Calculations!K72 -> 0 | J97: =Calculations!F72 -> 0 | K97: =Calculations!J72 -> 0 | L97: =Calculations!E72 -> 0 | M97: =Calculations!I72 -> 0 | N97: =Calculations!P72 -> 8.8251403 | O97: =Calculations!T72 -> 89.83849 | P97: =Calculations!O72 -> 0.23231044 | Q97: =Calculations!S72 -> 2.3648824 | R97: =Calculations!N72 -> 0.066908661 | S97: =Calculations!R72 -> 0.68111926 | T97: =Calculations!M72 -> 0.69898059 | U97: =Calculations!Q72 -> 7.1155084 | V97: =Calculations!AA72 -> 0 | W97: =Calculations!AB72 -> 0 | X97: =Calculations!AC72 -> 0 | Y97: =Calculations!AD72 -> 0 | Z97: =Calculations!Y72 -> 0 | AA97: =Calculations!Z72 -> 0 | AB97: =P97 -> 0.23231044 | AC97: =Q97 -> 2.3648824 | AD97: =Calculations!AF72 -> 0 | AE97: =Calculations!AG72 -> 0 | AF97: Yes | AG97: No | AH97: No risk. | AI97: More vulnerable | AJ97: Strategic Recommendation B | AK97: Level 2 SFRA required due to high and/or medium risk from surface water sources. | AL97: Carry out Level 2 SFRA to further assess risk. However, for sites with only a small area at risk, depending on the spatial variability of risk, it may be possible to address risk through policy wording. | AN97: Flood risk areas are small and localised
B98: =Calculations!A73 -> 72 | C98: =Calculations!B73 -> Wharf Mill | D98: =Calculations!C73 -> Housing | E98: =Calculations!D73 -> 0.72268368 | F98: =Calculations!H73 -> 0.72268368 | G98: =Calculations!L73 -> 100 | H98: =Calculations!G73 -> 0 | I98: =Calculations!K73 -> 0 | J98: =Calculations!F73 -> 0 | K98: =Calculations!J73 -> 0 | L98: =Calculations!E73 -> 0 | M98: =Calculations!I73 -> 0 | N98: =Calculations!P73 -> 0.72247572 | O98: =Calculations!T73 -> 99.971224 | P98: =Calculations!O73 -> 0.00020795622 | Q98: =Calculations!S73 -> 0.028775553 | R98: =Calculations!N73 -> 0 | S98: =Calculations!R73 -> 0 | T98: =Calculations!M73 -> 0 | U98: =Calculations!Q73 -> 0 | V98: =Calculations!AA73 -> 0 | W98: =Calculations!AB73 -> 0 | X98: =Calculations!AC73 -> 0 | Y98: =Calculations!AD73 -> 0 | Z98: =Calculations!Y73 -> 0 | AA98: =Calculations!Z73 -> 0 | AB98: =P98 -> 0.00020795622 | AC98: =Q98 -> 0.028775553 | AD98: =Calculations!AF73 -> 0 | AE98: =Calculations!AG73 -> 0 | AF98: No | AG98: No | AH98: There is a risk of groundwater emergence to surface and subsurface assets. There is the possibility of groundwater emerging at the surface locally. | AI98: More vulnerable | AJ98: Strategic Recommendation B | AK98: Level 2 SFRA required due to future surface water risk (using the low risk surface water extent as a proxy for the medium risk plus climate change extent). Site is at high risk from groundwater emergence. | AL98: Carry out Level 2 SFRA to further assess risk. However, for sites with only a small area at risk, depending on the spatial variability of risk, it may be possible to address risk through policy wording.
B99: =Calculations!A74 -> 73 | C99: =Calculations!B74 -> Wigan Road | D99: =Calculations!C74 -> Housing | E99: =Calculations!D74 -> 1.005738 | F99: =Calculations!H74 -> 0.85102017 | G99: =Calculations!L74 -> 84.616485 | H99: =Calculations!G74 -> 0.011617705 | I99: =Calculations!K74 -> 1.1551422 | J99: =Calculations!F74 -> 0.00023824429 | K99: =Calculations!J74 -> 0.023688503 | L99: =Calculations!E74 -> 0.14286192 | M99: =Calculations!I74 -> 14.204685 | N99: =Calculations!P74 -> 1.0029318 | O99: =Calculations!T74 -> 99.720973 | P99: =Calculations!O74 -> 0.0027925963 | Q99: =Calculations!S74 -> 0.27766637 | R99: =Calculations!N74 -> 1.3685754e-05 | S99: =Calculations!R74 -> 0.0013607673 | T99: =Calculations!M74 -> 0 | U99: =Calculations!Q74 -> 0 | V99: =Calculations!AA74 -> 0.014297271 | W99: =Calculations!AB74 -> 1.4215701 | X99: =Calculations!AC74 -> 0 | Y99: =Calculations!AD74 -> 0 | Z99: =Calculations!Y74 -> 0.00063627114 | AA99: =Calculations!Z74 -> 0.063264103 | AB99: =P99 -> 0.0027925963 | AC99: =Q99 -> 0.27766637 | AD99: =Calculations!AF74 -> 0 | AE99: =Calculations!AG74 -> 0 | AF99: N/A | AG99: No | AH99: No risk. | AI99: More vulnerable | AJ99: Strategic Recommendation A | AK99: Recommend for withdrawal if built development cannot avoid Flood Zone 3b. | AL99: Development not permitted in Flood Zone 3b. Check whether site boundary can be redrawn or whether it may be possible to incorporate functional floodplain into site layout and design as open greenspace. This may be possible for sites where percentage area of functional floodplain is lower. Site should be withdrawn if these criteria cannot be met. A Level 2 SFRA may be required to inform this process.
B100: =Calculations!A75 -> 74 | C100: =Calculations!B75 -> 53 Regent Road | D100: =Calculations!C75 -> Housing | E100: =Calculations!D75 -> 0.37708799 | F100: =Calculations!H75 -> 0.29517578 | G100: =Calculations!L75 -> 78.277693 | H100: =Calculations!G75 -> 0.012018082 | I100: =Calculations!K75 -> 3.1870763 | J100: =Calculations!F75 -> 0.006101098 | K100: =Calculations!J75 -> 1.6179508 | L100: =Calculations!E75 -> 0.063793032 | M100: =Calculations!I75 -> 16.91728 | N100: =Calculations!P75 -> 0.37668352 | O100: =Calculations!T75 -> 99.89274 | P100: =Calculations!O75 -> 0.00040446571 | Q100: =Calculations!S75 -> 0.1072603 | R100: =Calculations!N75 -> 0 | S100: =Calculations!R75 -> 0 | T100: =Calculations!M75 -> 0 | U100: =Calculations!Q75 -> 0 | V100: =Calculations!AA75 -> 0.0040030843 | W100: =Calculations!AB75 -> 1.0615783 | X100: =Calculations!AC75 -> 0.0021146912 | Y100: =Calculations!AD75 -> 0.56079516 | Z100: =Calculations!Y75 -> 4.043904e-05 | AA100: =Calculations!Z75 -> 0.010724033 | AB100: =P100 -> 0.00040446571 | AC100: =Q100 -> 0.1072603 | AD100: =Calculations!AF75 -> 0.36471031 | AE100: =Calculations!AG75 -> 96.717561 | AF100: N/A | AG100: No | AH100: No risk. | AI100: More vulnerable | AJ100: Strategic Recommendation A | AK100: Recommend for withdrawal if built development cannot avoid Flood Zone 3b. Site is at risk from reservoir flooding. | AL100: Development not permitted in Flood Zone 3b. Check whether site boundary can be redrawn or whether it may be possible to incorporate functional floodplain into site layout and design as open greenspace. This may be possible for sites where percentage area of functional floodplain is lower. Site should be withdrawn if these criteria cannot be met. A Level 2 SFRA may be required to inform this process.
B101: =Calculations!A76 -> 75 | C101: =Calculations!B76 -> Haslam Mill | D101: =Calculations!C76 -> Housing | E101: =Calculations!D76 -> 1.0267532 | F101: =Calculations!H76 -> 1.0267532 | G101: =Calculations!L76 -> 100 | H101: =Calculations!G76 -> 0 | I101: =Calculations!K76 -> 0 | J101: =Calculations!F76 -> 0 | K101: =Calculations!J76 -> 0 | L101: =Calculations!E76 -> 0 | M101: =Calculations!I76 -> 0 | N101: =Calculations!P76 -> 1.0132668 | O101: =Calculations!T76 -> 98.686503 | P101: =Calculations!O76 -> 0.012701988 | Q101: =Calculations!S76 -> 1.2371024 | R101: =Calculations!N76 -> 0.00069928084 | S101: =Calculations!R76 -> 0.068106033 | T101: =Calculations!M76 -> 8.5105895e-05 | U101: =Calculations!Q76 -> 0.008288837 | V101: =Calculations!AA76 -> 0 | W101: =Calculations!AB76 -> 0 | X101: =Calculations!AC76 -> 0 | Y101: =Calculations!AD76 -> 0 | Z101: =Calculations!Y76 -> 0 | AA101: =Calculations!Z76 -> 0 | AB101: =P101 -> 0.012701988 | AC101: =Q101 -> 1.2371024 | AD101: =Calculations!AF76 -> 0 | AE101: =Calculations!AG76 -> 0 | AF101: No | AG101: No | AH101: No risk. | AI101: More vulnerable | AJ101: Strategic Recommendation B | AK101: Level 2 SFRA required due to high and/or medium risk from surface water sources. | AL101: Carry out Level 2 SFRA to further assess risk. However, for sites with only a small area at risk, depending on the spatial variability of risk, it may be possible to address risk through policy wording.
B102: =Calculations!A77 -> 76 | C102: =Calculations!B77 -> Ditchers Farm | D102: =Calculations!C77 -> Housing | E102: =Calculations!D77 -> 34.146145 | F102: =Calculations!H77 -> 34.146145 | G102: =Calculations!L77 -> 100 | H102: =Calculations!G77 -> 0 | I102: =Calculations!K77 -> 0 | J102: =Calculations!F77 -> 0 | K102: =Calculations!J77 -> 0 | L102: =Calculations!E77 -> 0 | M102: =Calculations!I77 -> 0 | N102: =Calculations!P77 -> 26.854679 | O102: =Calculations!T77 -> 78.6463 | P102: =Calculations!O77 -> 2.3901361 | Q102: =Calculations!S77 -> 6.9997247 | R102: =Calculations!N77 -> 0.9320597 | S102: =Calculations!R77 -> 2.7296191 | T102: =Calculations!M77 -> 3.9692696 | U102: =Calculations!Q77 -> 11.624357 | V102: =Calculations!AA77 -> 0 | W102: =Calculations!AB77 -> 0 | X102: =Calculations!AC77 -> 0 | Y102: =Calculations!AD77 -> 0 | Z102: =Calculations!Y77 -> 0 | AA102: =Calculations!Z77 -> 0 | AB102: =P102 -> 2.3901361 | AC102: =Q102 -> 6.9997247 | AD102: =Calculations!AF77 -> 0 | AE102: =Calculations!AG77 -> 0 | AF102: Yes | AG102: Yes | AH102: No risk. | AI102: More vulnerable | AJ102: Strategic Recommendation B | AK102: Level 2 SFRA required due to high and/or medium risk from surface water sources. | AL102: Carry out Level 2 SFRA to further assess risk. However, for sites with only a small area at risk, depending on the spatial variability of risk, it may be possible to address risk through policy wording. | AN102: Agree with recommendation B
B103: =Calculations!A78 -> 77 | C103: =Calculations!B78 -> Blackrod Bypass | D103: =Calculations!C78 -> Housing | E103: =Calculations!D78 -> 9.6353271 | F103: =Calculations!H78 -> 9.6353271 | G103: =Calculations!L78 -> 100 | H103: =Calculations!G78 -> 0 | I103: =Calculations!K78 -> 0 | J103: =Calculations!F78 -> 0 | K103: =Calculations!J78 -> 0 | L103: =Calculations!E78 -> 0 | M103: =Calculations!I78 -> 0 | N103: =Calculations!P78 -> 9.5679532 | O103: =Calculations!T78 -> 99.300761 | P103: =Calculations!O78 -> 0.067373973 | Q103: =Calculations!S78 -> 0.69923908 | R103: =Calculations!N78 -> 0 | S103: =Calculations!R78 -> 0 | T103: =Calculations!M78 -> 0 | U103: =Calculations!Q78 -> 0 | V103: =Calculations!AA78 -> 0 | W103: =Calculations!AB78 -> 0 | X103: =Calculations!AC78 -> 0 | Y103: =Calculations!AD78 -> 0 | Z103: =Calculations!Y78 -> 0 | AA103: =Calculations!Z78 -> 0 | AB103: =P103 -> 0.067373973 | AC103: =Q103 -> 0.69923908 | AD103: =Calculations!AF78 -> 0 | AE103: =Calculations!AG78 -> 0 | AF103: No | AG103: No | AH103: There is a risk of emergence to subsurface assets, but surface manifestation of groundwater is unlikely. | AI103: More vulnerable | AJ103: Strategic Recommendation B | AK103: Level 2 SFRA required due to future surface water risk (using the low risk surface water extent as a proxy for the medium risk plus climate change extent). | AL103: Carry out Level 2 SFRA to further assess risk. However, for sites with only a small area at risk, depending on the spatial variability of risk, it may be possible to address risk through policy wording.
B104: =Calculations!A79 -> 78 | C104: =Calculations!B79 -> Leigh Common | D104: =Calculations!C79 -> Housing | E104: =Calculations!D79 -> 1.7611287 | F104: =Calculations!H79 -> 1.675125 | G104: =Calculations!L79 -> 95.116559 | H104: =Calculations!G79 -> 0.021724893 | I104: =Calculations!K79 -> 1.2335778 | J104: =Calculations!F79 -> 0.011993762 | K104: =Calculations!J79 -> 0.68102703 | L104: =Calculations!E79 -> 0.05228503 | M104: =Calculations!I79 -> 2.9688364 | N104: =Calculations!P79 -> 1.6975376 | O104: =Calculations!T79 -> 96.389185 | P104: =Calculations!O79 -> 0.020508798 | Q104: =Calculations!S79 -> 1.1645258 | R104: =Calculations!N79 -> 0.0055054065 | S104: =Calculations!R79 -> 0.31260671 | T104: =Calculations!M79 -> 0.037576899 | U104: =Calculations!Q79 -> 2.1336827 | V104: =Calculations!AA79 -> 0.02681088 | W104: =Calculations!AB79 -> 1.5223692 | X104: =Calculations!AC79 -> 0 | Y104: =Calculations!AD79 -> 0 | Z104: =Calculations!Y79 -> 0.015523765 | AA104: =Calculations!Z79 -> 0.88146679 | AB104: =P104 -> 0.020508798 | AC104: =Q104 -> 1.1645258 | AD104: =Calculations!AF79 -> 0 | AE104: =Calculations!AG79 -> 0 | AF104: N/A | AG104: No | AH104: No risk. | AI104: More vulnerable | AJ104: Strategic Recommendation A | AK104: Recommend for withdrawal if built development cannot avoid Flood Zone 3b. | AL104: Development not permitted in Flood Zone 3b. Check whether site boundary can be redrawn or whether it may be possible to incorporate functional floodplain into site layout and design as open greenspace. This may be possible for sites where percentage area of functional floodplain is lower. Site should be withdrawn if these criteria cannot be met. A Level 2 SFRA may be required to inform this process.
B105: =Calculations!A80 -> 79 | C105: =Calculations!B80 -> Atkinsons Farm | D105: =Calculations!C80 -> Housing | E105: =Calculations!D80 -> 0.57779865 | F105: =Calculations!H80 -> 0.57779865 | G105: =Calculations!L80 -> 100 | H105: =Calculations!G80 -> 0 | I105: =Calculations!K80 -> 0 | J105: =Calculations!F80 -> 0 | K105: =Calculations!J80 -> 0 | L105: =Calculations!E80 -> 0 | M105: =Calculations!I80 -> 0 | N105: =Calculations!P80 -> 0.44470371 | O105: =Calculations!T80 -> 76.96517 | P105: =Calculations!O80 -> 0.071766889 | Q105: =Calculations!S80 -> 12.420744 | R105: =Calculations!N80 -> 0.053183079 | S105: =Calculations!R80 -> 9.2044312 | T105: =Calculations!M80 -> 0.0081449667 | U105: =Calculations!Q80 -> 1.4096549 | V105: =Calculations!AA80 -> 0 | W105: =Calculations!AB80 -> 0 | X105: =Calculations!AC80 -> 0 | Y105: =Calculations!AD80 -> 0 | Z105: =Calculations!Y80 -> 0 | AA105: =Calculations!Z80 -> 0 | AB105: =P105 -> 0.071766889 | AC105: =Q105 -> 12.420744 | AD105: =Calculations!AF80 -> 0 | AE105: =Calculations!AG80 -> 0 | AF105: Yes | AG105: No | AH105: There is a risk of groundwater emergence to both surface and subsurface assets. Groundwater may emerge at significant rates and has the capacity to flow overland and/or pond within any topographic low spots. | AI105: More vulnerable | AJ105: Strategic Recommendation B | AK105: Level 2 SFRA required due to high and/or medium risk from surface water sources. Site is at high risk from groundwater emergence. | AL105: Carry out Level 2 SFRA to further assess risk. However, for sites with only a small area at risk, depending on the spatial variability of risk, it may be possible to address risk through policy wording.
B106: =Calculations!A81 -> 80 | C106: =Calculations!B81 -> Cedar Avenue #1 | D106: =Calculations!C81 -> Housing | E106: =Calculations!D81 -> 1.784614 | F106: =Calculations!H81 -> 1.784614 | G106: =Calculations!L81 -> 100 | H106: =Calculations!G81 -> 0 | I106: =Calculations!K81 -> 0 | J106: =Calculations!F81 -> 0 | K106: =Calculations!J81 -> 0 | L106: =Calculations!E81 -> 0 | M106: =Calculations!I81 -> 0 | N106: =Calculations!P81 -> 1.6252971 | O106: =Calculations!T81 -> 91.072752 | P106: =Calculations!O81 -> 0.083093749 | Q106: =Calculations!S81 -> 4.6561189 | R106: =Calculations!N81 -> 0.020338408 | S106: =Calculations!R81 -> 1.1396531 | T106: =Calculations!M81 -> 0.055884764 | U106: =Calculations!Q81 -> 3.1314763 | V106: =Calculations!AA81 -> 0 | W106: =Calculations!AB81 -> 0 | X106: =Calculations!AC81 -> 0 | Y106: =Calculations!AD81 -> 0 | Z106: =Calculations!Y81 -> 0 | AA106: =Calculations!Z81 -> 0 | AB106: =P106 -> 0.083093749 | AC106: =Q106 -> 4.6561189 | AD106: =Calculations!AF81 -> 0 | AE106: =Calculations!AG81 -> 0 | AF106: Yes | AG106: No | AH106: No risk. | AI106: More vulnerable | AJ106: Strategic Recommendation B | AK106: Level 2 SFRA required due to high and/or medium risk from surface water sources. | AL106: Carry out Level 2 SFRA to further assess risk. However, for sites with only a small area at risk, depending on the spatial variability of risk, it may be possible to address risk through policy wording.
B107: =Calculations!A82 -> 81 | C107: =Calculations!B82 -> Tempest Road | D107: =Calculations!C82 -> Housing | E107: =Calculations!D82 -> 0.27565072 | F107: =Calculations!H82 -> 0.27565072 | G107: =Calculations!L82 -> 100 | H107: =Calculations!G82 -> 0 | I107: =Calculations!K82 -> 0 | J107: =Calculations!F82 -> 0 | K107: =Calculations!J82 -> 0 | L107: =Calculations!E82 -> 0 | M107: =Calculations!I82 -> 0 | N107: =Calculations!P82 -> 0.27565072 | O107: =Calculations!T82 -> 100 | P107: =Calculations!O82 -> 0 | Q107: =Calculations!S82 -> 0 | R107: =Calculations!N82 -> 0 | S107: =Calculations!R82 -> 0 | T107: =Calculations!M82 -> 0 | U107: =Calculations!Q82 -> 0 | V107: =Calculations!AA82 -> 0 | W107: =Calculations!AB82 -> 0 | X107: =Calculations!AC82 -> 0 | Y107: =Calculations!AD82 -> 0 | Z107: =Calculations!Y82 -> 0 | AA107: =Calculations!Z82 -> 0 | AB107: =P107 -> 0 | AC107: =Q107 -> 0 | AD107: =Calculations!AF82 -> 0 | AE107: =Calculations!AG82 -> 0 | AF107: No | AG107: No | AH107: No risk. | AI107: More vulnerable | AJ107: Strategic Recommendation D | AK107: Development could be allocated on flood risk grounds based on the evidence of this Level 1 SFRA. | AL107: LPA to make decision on allocation.
B108: =Calculations!A83 -> 82 | C108: =Calculations!B83 -> Fold Road #3 | D108: =Calculations!C83 -> Housing | E108: =Calculations!D83 -> 0.3049221 | F108: =Calculations!H83 -> 0.3049221 | G108: =Calculations!L83 -> 100 | H108: =Calculations!G83 -> 0 | I108: =Calculations!K83 -> 0 | J108: =Calculations!F83 -> 0 | K108: =Calculations!J83 -> 0 | L108: =Calculations!E83 -> 0 | M108: =Calculations!I83 -> 0 | N108: =Calculations!P83 -> 0.16511253 | O108: =Calculations!T83 -> 54.149087 | P108: =Calculations!O83 -> 0.034944884 | Q108: =Calculations!S83 -> 11.460266 | R108: =Calculations!N83 -> 0.0083821182 | S108: =Calculations!R83 -> 2.7489376 | T108: =Calculations!M83 -> 0.096482566 | U108: =Calculations!Q83 -> 31.64171 | V108: =Calculations!AA83 -> 0 | W108: =Calculations!AB83 -> 0 | X108: =Calculations!AC83 -> 0 | Y108: =Calculations!AD83 -> 0 | Z108: =Calculations!Y83 -> 0 | AA108: =Calculations!Z83 -> 0 | AB108: =P108 -> 0.034944884 | AC108: =Q108 -> 11.460266 | AD108: =Calculations!AF83 -> 0 | AE108: =Calculations!AG83 -> 0 | AF108: No | AG108: No | AH108: There is a risk of groundwater emergence to surface and subsurface assets. There is the possibility of groundwater emerging at the surface locally. | AI108: More vulnerable | AJ108: Strategic Recommendation B | AK108: Level 2 SFRA required due to high and/or medium risk from surface water sources. Site is at high risk from groundwater emergence. | AL108: Carry out Level 2 SFRA to further assess risk. However, for sites with only a small area at risk, depending on the spatial variability of risk, it may be possible to address risk through policy wording.
B109: =Calculations!A84 -> 83 | C109: =Calculations!B84 -> Delph House | D109: =Calculations!C84 -> Housing | E109: =Calculations!D84 -> 0.29004554 | F109: =Calculations!H84 -> 0.18999431 | G109: =Calculations!L84 -> 65.504994 | H109: =Calculations!G84 -> 0.058746811 | I109: =Calculations!K84 -> 20.25434 | J109: =Calculations!F84 -> 0.041297936 | K109: =Calculations!J84 -> 14.238432 | L109: =Calculations!E84 -> 6.4783954e-06 | M109: =Calculations!I84 -> 0.0022335787 | N109: =Calculations!P84 -> 0.15132523 | O109: =Calculations!T84 -> 52.172921 | P109: =Calculations!O84 -> 0.089717847 | Q109: =Calculations!S84 -> 30.932331 | R109: =Calculations!N84 -> 0.048815737 | S109: =Calculations!R84 -> 16.83037 | T109: =Calculations!M84 -> 0.00018672489 | U109: =Calculations!Q84 -> 0.064377783 | V109: =Calculations!AA84 -> 0 | W109: =Calculations!AB84 -> 0 | X109: =Calculations!AC84 -> 0 | Y109: =Calculations!AD84 -> 0 | Z109: =Calculations!Y84 -> 0 | AA109: =Calculations!Z84 -> 0 | AB109: =P109 -> 0.089717847 | AC109: =Q109 -> 30.932331 | AD109: =Calculations!AF84 -> 0 | AE109: =Calculations!AG84 -> 0 | AF109: N/A | AG109: No | AH109: No risk. | AI109: More vulnerable | AJ109: Strategic Recommendation A | AK109: Recommend for withdrawal if built development cannot avoid Flood Zone 3b. | AL109: Development not permitted in Flood Zone 3b. Check whether site boundary can be redrawn or whether it may be possible to incorporate functional floodplain into site layout and design as open greenspace. This may be possible for sites where percentage area of functional floodplain is lower. Site should be withdrawn if these criteria cannot be met. A Level 2 SFRA may be required to inform this process.
B110: =Calculations!A85 -> 84 | C110: =Calculations!B85 -> Seymour Road | D110: =Calculations!C85 -> Housing | E110: =Calculations!D85 -> 0.27307188 | F110: =Calculations!H85 -> 0.27307188 | G110: =Calculations!L85 -> 100 | H110: =Calculations!G85 -> 0 | I110: =Calculations!K85 -> 0 | J110: =Calculations!F85 -> 0 | K110: =Calculations!J85 -> 0 | L110: =Calculations!E85 -> 0 | M110: =Calculations!I85 -> 0 | N110: =Calculations!P85 -> 0.27217766 | O110: =Calculations!T85 -> 99.672534 | P110: =Calculations!O85 -> 0.0008942185 | Q110: =Calculations!S85 -> 0.32746635 | R110: =Calculations!N85 -> 0 | S110: =Calculations!R85 -> 0 | T110: =Calculations!M85 -> 0 | U110: =Calculations!Q85 -> 0 | V110: =Calculations!AA85 -> 0 | W110: =Calculations!AB85 -> 0 | X110: =Calculations!AC85 -> 0 | Y110: =Calculations!AD85 -> 0 | Z110: =Calculations!Y85 -> 0 | AA110: =Calculations!Z85 -> 0 | AB110: =P110 -> 0.0008942185 | AC110: =Q110 -> 0.32746635 | AD110: =Calculations!AF85 -> 0 | AE110: =Calculations!AG85 -> 0 | AF110: No | AG110: No | AH110: No risk. | AI110: More vulnerable | AJ110: Strategic Recommendation B | AK110: Level 2 SFRA required due to future surface water risk (using the low risk surface water extent as a proxy for the medium risk plus climate change extent). | AL110: Carry out Level 2 SFRA to further assess risk. However, for sites with only a small area at risk, depending on the spatial variability of risk, it may be possible to address risk through policy wording.
B111: =Calculations!A86 -> 85 | C111: =Calculations!B86 -> Longworth Road Allotments | D111: =Calculations!C86 -> Housing | E111: =Calculations!D86 -> 0.36274632 | F111: =Calculations!H86 -> 0.36274632 | G111: =Calculations!L86 -> 100 | H111: =Calculations!G86 -> 0 | I111: =Calculations!K86 -> 0 | J111: =Calculations!F86 -> 0 | K111: =Calculations!J86 -> 0 | L111: =Calculations!E86 -> 0 | M111: =Calculations!I86 -> 0 | N111: =Calculations!P86 -> 0.36274632 | O111: =Calculations!T86 -> 100 | P111: =Calculations!O86 -> 0 | Q111: =Calculations!S86 -> 0 | R111: =Calculations!N86 -> 0 | S111: =Calculations!R86 -> 0 | T111: =Calculations!M86 -> 0 | U111: =Calculations!Q86 -> 0 | V111: =Calculations!AA86 -> 0 | W111: =Calculations!AB86 -> 0 | X111: =Calculations!AC86 -> 0 | Y111: =Calculations!AD86 -> 0 | Z111: =Calculations!Y86 -> 0 | AA111: =Calculations!Z86 -> 0 | AB111: =P111 -> 0 | AC111: =Q111 -> 0 | AD111: =Calculations!AF86 -> 0 | AE111: =Calculations!AG86 -> 0 | AF111: No | AG111: No | AH111: No risk. | AI111: More vulnerable | AJ111: Strategic Recommendation D | AK111: Development could be allocated on flood risk grounds based on the evidence of this Level 1 SFRA. | AL111: LPA to make decision on allocation.
B112: =Calculations!A87 -> 86 | C112: =Calculations!B87 -> Athlone Avenue | D112: =Calculations!C87 -> Housing | E112: =Calculations!D87 -> 0.26487227 | F112: =Calculations!H87 -> 0.26487227 | G112: =Calculations!L87 -> 100 | H112: =Calculations!G87 -> 0 | I112: =Calculations!K87 -> 0 | J112: =Calculations!F87 -> 0 | K112: =Calculations!J87 -> 0 | L112: =Calculations!E87 -> 0 | M112: =Calculations!I87 -> 0 | N112: =Calculations!P87 -> 0.26487227 | O112: =Calculations!T87 -> 100 | P112: =Calculations!O87 -> 0 | Q112: =Calculations!S87 -> 0 | R112: =Calculations!N87 -> 0 | S112: =Calculations!R87 -> 0 | T112: =Calculations!M87 -> 0 | U112: =Calculations!Q87 -> 0 | V112: =Calculations!AA87 -> 0 | W112: =Calculations!AB87 -> 0 | X112: =Calculations!AC87 -> 0 | Y112: =Calculations!AD87 -> 0 | Z112: =Calculations!Y87 -> 0 | AA112: =Calculations!Z87 -> 0 | AB112: =P112 -> 0 | AC112: =Q112 -> 0 | AD112: =Calculations!AF87 -> 0 | AE112: =Calculations!AG87 -> 0 | AF112: No | AG112: No | AH112: No risk. | AI112: More vulnerable | AJ112: Strategic Recommendation D | AK112: Development could be allocated on flood risk grounds based on the evidence of this Level 1 SFRA. | AL112: LPA to make decision on allocation.
...

Sheet Calculations
A1: SiteRef | B1: Name | C1: Proposed_Use | D1: Area_Ha | E1: FZ3b_Area | F1: FZ3a_Area | G1: FZ2_Area | H1: FZ1_Area | I1: FZ3b_pct | J1: FZ3a_pct | K1: FZ2_pct | L1: FZ1 | M1: RoFSW30yr_Area | N1: RoFSW100yr_Area | O1: RoFSW1000yr_Area | P1: Very Low Area | Q1: RoFSW30yr_pct | R1: RoFSW100yr_pct | S1: RoFSW1000yr_pct | T1: Very Low pct | V1: QA | W1: QA | Y1: Future_functional_floodplain_area | Z1: Future_FF_pct | AA1: Future_FZ_area | AB1: Future_FZ_pct | AC1: 100_CC_MFO_area | AD1: 100_CC_MFO_pct | AF1: Dry day reservoir area | AG1: Dry day reservoir pct
A2: 1 | B2: Tonge Mill | C2: Housing | D2: 0.69976367 | E2: 0 | F2: 0 | G2: 0 | H2: =D2-E2-F2-G2 -> 0.69976367 | I2: =E2/D2*100 -> 0 | J2: =F2/D2*100 -> 0 | K2: =G2/D2*100 -> 0 | L2: =H2/D2*100 -> 100 | M2: 0 | N2: 0 | O2: 0.016104695 | P2: =D2-SUM(M2,N2,O2) -> 0.68365898 | Q2: =M2/D2*100 -> 0 | R2: =N2/D2*100 -> 0 | S2: =O2/D2*100 -> 2.3014477 | T2: =P2/D2*100 -> 97.698552 | V2: =SUM(I2:L2) -> 100 | W2: =SUM(Q2:R2,S2) -> 2.3014477 | Y2: 0 | Z2: =Y2/D2*100 -> 0 | AA2: 0 | AB2: =AA2/D2*100 -> 0 | AC2: 0 | AD2: =AC2/D2*100 -> 0 | AF2: 0 | AG2: =AF2/D2*100 -> 0
A3: 2 | B3: T Sutcliffe and Co Ltd | C3: Housing | D3: 0.68070638 | E3: 0 | F3: 0 | G3: 0 | H3: =D3-E3-F3-G3 -> 0.68070638 | I3: =E3/D3*100 -> 0 | J3: =F3/D3*100 -> 0 | K3: =G3/D3*100 -> 0 | L3: =H3/D3*100 -> 100 | M3: 0.19272762 | N3: 0.28984848 | O3: 0.07470262 | P3: =D3-SUM(M3,N3,O3) -> 0.12342767 | Q3: =M3/D3*100 -> 28.312885 | R3: =N3/D3*100 -> 42.580544 | S3: =O3/D3*100 -> 10.974279 | T3: =P3/D3*100 -> 18.132291 | V3: =SUM(I3:L3) -> 100 | W3: =SUM(Q3:R3,S3) -> 81.867709 | Y3: 0 | Z3: =Y3/D3*100 -> 0 | AA3: 0 | AB3: =AA3/D3*100 -> 0 | AC3: 0 | AD3: =AC3/D3*100 -> 0 | AF3: 0 | AG3: =AF3/D3*100 -> 0
A4: 3 | B4: Halliwell Mills | C4: Housing | D4: 0.85141962 | E4: 0 | F4: 0 | G4: 0 | H4: =D4-E4-F4-G4 -> 0.85141962 | I4: =E4/D4*100 -> 0 | J4: =F4/D4*100 -> 0 | K4: =G4/D4*100 -> 0 | L4: =H4/D4*100 -> 100 | M4: 0.062614579 | N4: 0.03170413 | O4: 0.033043765 | P4: =D4-SUM(M4,N4,O4) -> 0.72405715 | Q4: =M4/D4*100 -> 7.3541386 | R4: =N4/D4*100 -> 3.7236785 | S4: =O4/D4*100 -> 3.8810199 | T4: =P4/D4*100 -> 85.041163 | V4: =SUM(I4:L4) -> 100 | W4: =SUM(Q4:R4,S4) -> 14.958837 | Y4: 0 | Z4: =Y4/D4*100 -> 0 | AA4: 0 | AB4: =AA4/D4*100 -> 0 | AC4: 0 | AD4: =AC4/D4*100 -> 0 | AF4: 0 | AG4: =AF4/D4*100 -> 0
A5: 4 | B5: Hall Lane #1 | C5: Housing | D5: 0.67443249 | E5: 0 | F5: 0 | G5: 0 | H5: =D5-E5-F5-G5 -> 0.67443249 | I5: =E5/D5*100 -> 0 | J5: =F5/D5*100 -> 0 | K5: =G5/D5*100 -> 0 | L5: =H5/D5*100 -> 100 | M5: 0.08006249 | N5: 0.04723687 | O5: 0.077509892 | P5: =D5-SUM(M5,N5,O5) -> 0.46962324 | Q5: =M5/D5*100 -> 11.87109 | R5: =N5/D5*100 -> 7.0039434 | S5: =O5/D5*100 -> 11.492609 | T5: =P5/D5*100 -> 69.632357 | V5: =SUM(I5:L5) -> 100 | W5: =SUM(Q5:R5,S5) -> 30.367643 | Y5: 0 | Z5: =Y5/D5*100 -> 0 | AA5: 0 | AB5: =AA5/D5*100 -> 0 | AC5: 0 | AD5: =AC5/D5*100 -> 0 | AF5: 0 | AG5: =AF5/D5*100 -> 0
A6: 5 | B6: 86 Chapeltown Road | C6: Housing | D6: 0.64465528 | E6: 0 | F6: 0 | G6: 0 | H6: =D6-E6-F6-G6 -> 0.64465528 | I6: =E6/D6*100 -> 0 | J6: =F6/D6*100 -> 0 | K6: =G6/D6*100 -> 0 | L6: =H6/D6*100 -> 100 | M6: 0 | N6: 0 | O6: 0.011208735 | P6: =D6-SUM(M6,N6,O6) -> 0.63344654 | Q6: =M6/D6*100 -> 0 | R6: =N6/D6*100 -> 0 | S6: =O6/D6*100 -> 1.7387177 | T6: =P6/D6*100 -> 98.261282 | V6: =SUM(I6:L6) -> 100 | W6: =SUM(Q6:R6,S6) -> 1.7387177 | Y6: 0 | Z6: =Y6/D6*100 -> 0 | AA6: 0 | AB6: =AA6/D6*100 -> 0 | AC6: 0 | AD6: =AC6/D6*100 -> 0 | AF6: 0 | AG6: =AF6/D6*100 -> 0
A7: 6 | B7: The Hollins, East of Harry Fold Farm | C7: Housing | D7: 3.4831391 | E7: 0 | F7: 0 | G7: 0 | H7: =D7-E7-F7-G7 -> 3.4831391 | I7: =E7/D7*100 -> 0 | J7: =F7/D7*100 -> 0 | K7: =G7/D7*100 -> 0 | L7: =H7/D7*100 -> 100 | M7: 0.056043804 | N7: 0.0077611786 | O7: 0.021727638 | P7: =D7-SUM(M7,N7,O7) -> 3.3976065 | Q7: =M7/D7*100 -> 1.6090028 | R7: =N7/D7*100 -> 0.22282138 | S7: =O7/D7*100 -> 0.62379472 | T7: =P7/D7*100 -> 97.544381 | V7: =SUM(I7:L7) -> 100 | W7: =SUM(Q7:R7,S7) -> 2.4556189 | Y7: 0 | Z7: =Y7/D7*100 -> 0 | AA7: 0 | AB7: =AA7/D7*100 -> 0 | AC7: 0 | AD7: =AC7/D7*100 -> 0 | AF7: 0 | AG7: =AF7/D7*100 -> 0
A8: 7 | B8: 99 Chapeltown Road | C8: Housing | D8: 0.35288506 | E8: 0 | F8: 0 | G8: 0 | H8: =D8-E8-F8-G8 -> 0.35288506 | I8: =E8/D8*100 -> 0 | J8: =F8/D8*100 -> 0 | K8: =G8/D8*100 -> 0 | L8: =H8/D8*100 -> 100 | M8: 0 | N8: 0 | O8: 0 | P8: =D8-SUM(M8,N8,O8) -> 0.35288506 | Q8: =M8/D8*100 -> 0 | R8: =N8/D8*100 -> 0 | S8: =O8/D8*100 -> 0 | T8: =P8/D8*100 -> 100 | V8: =SUM(I8:L8) -> 100 | W8: =SUM(Q8:R8,S8) -> 0 | Y8: 0 | Z8: =Y8/D8*100 -> 0 | AA8: 0 | AB8: =AA8/D8*100 -> 0 | AC8: 0 | AD8: =AC8/D8*100 -> 0 | AF8: 0 | AG8: =AF8/D8*100 -> 0
A9: 8 | B9: Brownlow Folds Mill | C9: Housing | D9: 1.0430672 | E9: 0 | F9: 0 | G9: 0 | H9: =D9-E9-F9-G9 -> 1.0430672 | I9: =E9/D9*100 -> 0 | J9: =F9/D9*100 -> 0 | K9: =G9/D9*100 -> 0 | L9: =H9/D9*100 -> 100 | M9: 0.02721514 | N9: 0.0084508951 | O9: 0.021360723 | P9: =D9-SUM(M9,N9,O9) -> 0.98604039 | Q9: =M9/D9*100 -> 2.6091455 | R9: =N9/D9*100 -> 0.81019665 | S9: =O9/D9*100 -> 2.0478761 | T9: =P9/D9*100 -> 94.532782 | V9: =SUM(I9:L9) -> 100 | W9: =SUM(Q9:R9,S9) -> 5.4672183 | Y9: 0 | Z9: =Y9/D9*100 -> 0 | AA9: 0 | AB9: =AA9/D9*100 -> 0 | AC9: 0 | AD9: =AC9/D9*100 -> 0 | AF9: 0 | AG9: =AF9/D9*100 -> 0
A10: 9 | B10: Tennyson Mill | C10: Housing | D10: 0.90310482 | E10: 0 | F10: 0 | G10: 0 | H10: =D10-E10-F10-G10 -> 0.90310482 | I10: =E10/D10*100 -> 0 | J10: =F10/D10*100 -> 0 | K10: =G10/D10*100 -> 0 | L10: =H10/D10*100 -> 100 | M10: 0 | N10: 0 | O10: 0 | P10: =D10-SUM(M10,N10,O10) -> 0.90310482 | Q10: =M10/D10*100 -> 0 | R10: =N10/D10*100 -> 0 | S10: =O10/D10*100 -> 0 | T10: =P10/D10*100 -> 100 | V10: =SUM(I10:L10) -> 100 | W10: =SUM(Q10:R10,S10) -> 0 | Y10: 0 | Z10: =Y10/D10*100 -> 0 | AA10: 0 | AB10: =AA10/D10*100 -> 0 | AC10: 0 | AD10: =AC10/D10*100 -> 0 | AF10: 0 | AG10: =AF10/D10*100 -> 0
A11: 10 | B11: Gilnow Mill | C11: Housing | D11: 1.648633 | E11: 0.9244615 | F11: 0.7021545 | G11: 0.022015821 | H11: =D11-E11-F11-G11 -> 1.208552e-06 | I11: =E11/D11*100 -> 56.074425 | J11: =F11/D11*100 -> 42.590103 | K11: =G11/D11*100 -> 1.3353985 | L11: =H11/D11*100 -> 7.3306308e-05 | M11: 0.40095597 | N11: 0.88195164 | O11: 0.1757948 | P11: =D11-SUM(M11,N11,O11) -> 0.18993062 | Q11: =M11/D11*100 -> 24.32051 | R11: =N11/D11*100 -> 53.495934 | S11: =O11/D11*100 -> 10.663064 | T11: =P11/D11*100 -> 11.520491 | V11: =SUM(I11:L11) -> 100 | W11: =SUM(Q11:R11,S11) -> 88.479509 | Y11: 0.70295507 | Z11: =Y11/D11*100 -> 42.638662 | AA11: 2.1049182e-07 | AB11: =AA11/D11*100 -> 1.2767658e-05 | AC11: 0.00060303382 | AD11: =AC11/D11*100 -> 0.036577808 | AF11: 1.2122502 | AG11: =AF11/D11*100 -> 73.530629
A12: 11 | B12: Dinsdale Drive | C12: Housing | D12: 0.72507362 | E12: 0 | F12: 0 | G12: 0 | H12: =D12-E12-F12-G12 -> 0.72507362 | I12: =E12/D12*100 -> 0 | J12: =F12/D12*100 -> 0 | K12: =G12/D12*100 -> 0 | L12: =H12/D12*100 -> 100 | M12: 0.00030063897 | N12: 0.020760911 | O12: 0.038856535 | P12: =D12-SUM(M12,N12,O12) -> 0.66515553 | Q12: =M12/D12*100 -> 0.041463234 | R12: =N12/D12*100 -> 2.8632832 | S12: =O12/D12*100 -> 5.3589779 | T12: =P12/D12*100 -> 91.736276 | V12: =SUM(I12:L12) -> 100 | W12: =SUM(Q12:R12,S12) -> 8.2637243 | Y12: 0 | Z12: =Y12/D12*100 -> 0 | AA12: 0 | AB12: =AA12/D12*100 -> 0 | AC12: 0 | AD12: =AC12/D12*100 -> 0 | AF12: 0 | AG12: =AF12/D12*100 -> 0
A13: 12 | B13: Garnet Fold Farm | C13: Housing | D13: 4.0559892 | E13: 0 | F13: 0 | G13: 0 | H13: =D13-E13-F13-G13 -> 4.0559892 | I13: =E13/D13*100 -> 0 | J13: =F13/D13*100 -> 0 | K13: =G13/D13*100 -> 0 | L13: =H13/D13*100 -> 100 | M13: 0.035489081 | N13: 0.065205862 | O13: 0.16260383 | P13: =D13-SUM(M13,N13,O13) -> 3.7926905 | Q13: =M13/D13*100 -> 0.87497966 | R13: =N13/D13*100 -> 1.6076439 | S13: =O13/D13*100 -> 4.0089807 | T13: =P13/D13*100 -> 93.508396 | V13: =SUM(I13:L13) -> 100 | W13: =SUM(Q13:R13,S13) -> 6.4916042 | Y13: 0 | Z13: =Y13/D13*100 -> 0 | AA13: 0 | AB13: =AA13/D13*100 -> 0 | AC13: 0 | AD13: =AC13/D13*100 -> 0 | AF13: 0 | AG13: =AF13/D13*100 -> 0
... A512: 534 | B512: Fylde Street | C512: Gypsy & Traveller | D512: 0.16229019 | E512: 0 | F512: 0 | G512: 0 | H512: =D512-E512-F512-G512 -> 0.16229019 | I512: =E512/D512*100 -> 0 | J512: =F512/D512*100 -> 0 | K512: =G512/D512*100 -> 0 | L512: =H512/D512*100 -> 100 | M512: 0.0010218423 | N512: 0.0022641699 | O512: 0.0024653259 | P512: =D512-SUM(M512,N512,O512) -> 0.15653885 | Q512: =M512/D512*100 -> 0.62963901 | R512: =N512/D512*100 -> 1.3951366 | S512: =O512/D512*100 -> 1.519085 | T512: =P512/D512*100 -> 96.456139 | V512: =SUM(I512:L512) -> 100 | W512: =SUM(Q512:R512,S512) -> 3.5438606 | Y512: 0 | Z512: =Y512/D512*100 -> 0 | AA512: 0 | AB512: =AA512/D512*100 -> 0 | AC512: 0 | AD512: =AC512/D512*100 -> 0 | AF512: 0 | AG512: =AF512/D512*100 -> 0
